Back
From: metabase:user:e667a2a9-6c14-1014-9503-c31448f0d22a
Subject: PASS Soar-Production-0.03 v5.20.0
Date: 2014-12-30T18:12:27Z
This distribution has been tested as part of the CPAN Testers
project, supporting the Perl programming language. See
http://wiki.cpantesters.org/ for more information or email
questions to cpan-testers-discuss@perl.org
--
Dear Nathan Gary Glenn,
This is a computer-generated report for Soar-Production-0.03
on perl 5.20.0, created by CPAN-Reporter-1.2012.
Thank you for uploading your work to CPAN. Congratulations!
All tests were successful.
Sections of this report:
* Tester comments
* Program output
* Prerequisites
* Environment and other context
------------------------------
TESTER COMMENTS
------------------------------
Additional comments from tester:
this report is from an automated smoke testing program
and was not reviewed by a human for accuracy
------------------------------
PROGRAM OUTPUT
------------------------------
Output from 'C:\Strawberry\perl\bin\perl.exe ./Build test':
t/0-use.t ........................ ok
t/00-compile.t ................... ok
#
#
# Generated by Dist::Zilla::Plugin::ReportVersions::Tiny v1.08
# perl: 5.020000 (wanted 5.010) on MSWin32 from C:\Strawberry\perl\bin\perl.exe
#
# Carp => 1.3301 (want any version)
# Data::Diver => 1.0101 (want any version)
# Data::Dumper => 2.151 (want any version)
# Exporter::Easy => 0.17 (want any version)
# File::Find => 1.27 (want any version)
# File::Spec => 3.47 (want any version)
# File::Spec::Functions => 3.47 (want any version)
# File::Temp => 0.2304 (want any version)
# FindBin => 1.51 (want any version)
# Module::Build => 0.4205 (want 0.3601)
# Parse::RecDescent => 1.967009 (want any version)
# Path::Tiny => 0.054 (want any version)
# Pod::Coverage::TrustPod => 0.100003 (want any version)
# Test::Base => 0.62 (want any version)
# Test::Base::Filter => <undef> (want any version)
# Test::CPAN::Meta => 0.23 (want any version)
# Test::Deep => 0.112 (want any version)
# Test::Exception => 0.32 (want any version)
# Test::LongString => 0.15 (want any version)
# Test::More => 1.001003 (want 0.88)
# Test::Pod => 1.48 (want 1.41)
# Test::Pod::Coverage => 1.08 (want 1.08)
# Test::Warn => 0.30 (want any version)
# strict => 1.08 (want any version)
# utf8 => 1.13 (want any version)
# version => 0.9908 (want 0.9901)
# warnings => 1.23 (want any version)
#
# Thanks for using my code. I hope it works for you.
# If not, please try and include this output in the bug report.
# That will help me reproduce the issue and solve your problem.
#
t/000-report-versions-tiny.t ..... ok
t/1-basic.t ...................... ok
t/parser/00-use.t ................ ok
t/parser/01-bad_input.t .......... ok
t/parser/01_5-comments.t ......... ok
t/parser/02-split-productions.t .. ok
t/parser/03-production-names.t ... ok
t/parser/04-documentation.t ...... ok
t/parser/05-Flags.t .............. ok
t/parser/06-State.t .............. ok
t/parser/07-variables.t .......... ok
t/parser/08-attributes.t ......... ok
t/parser/09-int.t ................ ok
t/parser/10-float.t .............. ok
t/parser/11-string.t ............. ok
t/parser/12-quoted.t ............. ok
t/parser/13-disjunct.t ........... ok
t/parser/14-conjunct.t ........... ok
t/parser/15-predicate.t .......... ok
t/parser/16-preference.t ......... ok
t/parser/17-function.t ........... ok
t/parser/18-negative.t ........... ok
t/parser/19-conjunctiveCond.t .... ok
t/parser/20-test_data.t .......... ok
t/printer/0-use.t ................ ok
t/printer/1-test_data.t .......... ok
All tests successful.
Files=28, Tests=1816, 152 wallclock secs ( 0.59 usr + 0.14 sys = 0.73 CPU)
Result: PASS
------------------------------
PREREQUISITES
------------------------------
Prerequisite modules loaded:
requires:
Module Need Have
--------------------- ------ --------
Carp 0 1.3301
Data::Dumper 0 2.151
Exporter::Easy 0 0.17
Parse::RecDescent 0 1.967009
perl 5.010 5.020000
strict 0 1.08
warnings 0 1.23
build_requires:
Module Need Have
--------------------- ------ --------
Data::Diver 0 1.0101
File::Find 0 1.27
File::Spec 0 3.47
File::Spec::Functions 0 3.47
File::Temp 0 0.2304
FindBin 0 1.51
Module::Build 0.3601 0.4205
Path::Tiny 0 0.054
Test::Base 0 0.62
Test::Base::Filter 0 0
Test::Deep 0 0.112
Test::Exception 0 0.32
Test::LongString 0 0.15
Test::More 0.88 1.001003
Test::Warn 0 0.30
utf8 0 1.13
configure_requires:
Module Need Have
--------------------- ------ --------
Module::Build 0.3601 0.4205
------------------------------
ENVIRONMENT AND OTHER CONTEXT
------------------------------
Environment variables:
AUTOMATED_TESTING = 1
COMSPEC = C:\Windows\system32\cmd.exe
NUMBER_OF_PROCESSORS = 1
PATH = C:\Windows\system32;C:\Windows;C:\Windows\System32\Wbem;C:\Windows\System32\WindowsPowerShell\v1.0\;C:\Strawberry\c\bin;C:\Strawberry\perl\site\bin;C:\Strawberry\perl\bin;C:\Program Files\Git\cmd
PERL5LIB = C:\STRAWB~1\cpan\build\Exporter-Easy-0.17-94fryT/blib/arch;C:\STRAWB~1\cpan\build\Exporter-Easy-0.17-94fryT/blib/lib;C:\STRAWB~1\cpan\build\Data-Diver-1.0101-MdiQ67/blib/arch;C:\STRAWB~1\cpan\build\Data-Diver-1.0101-MdiQ67/blib/lib
PERL5OPT =
PERL5_CPANPLUS_IS_RUNNING = 2716
PERL5_CPAN_IS_RUNNING = 2716
PERL5_CPAN_IS_RUNNING_IN_RECURSION = 1288,2716
PERL_CR_SMOKER_CURRENT = Soar-Production-0.03
PERL_EXTUTILS_AUTOINSTALL = --defaultdeps
PERL_MM_USE_DEFAULT = 1
PROCESSOR_IDENTIFIER = x86 Family 21 Model 1 Stepping 2, AuthenticAMD
TEMP = C:\Users\albie\AppData\Local\Temp
Perl special variables (and OS-specific diagnostics, for MSWin32):
$^X = C:\Strawberry\perl\bin\perl.exe
$UID/$EUID = 0 / 0
$GID = 0
$EGID = 0
Win32::GetOSName = Win7
Win32::GetOSVersion = Service Pack 1, 6, 1, 7601, 2, 1, 0, 256, 1
Win32::FsType = NTFS
Win32::IsAdminUser = 0
Perl module toolchain versions installed:
Module Have
------------------- --------
CPAN 2.05
CPAN::Meta 2.141520
Cwd 3.47
ExtUtils::CBuilder 0.280216
ExtUtils::Command 1.18
ExtUtils::Install 1.68
ExtUtils::MakeMaker 6.98
ExtUtils::Manifest 1.63
ExtUtils::ParseXS 3.24
File::Spec 3.47
JSON 2.90
JSON::PP 2.27203
Module::Build 0.4205
Module::Signature n/a
Parse::CPAN::Meta 1.4414
Test::Harness 3.32
Test::More 1.001003
YAML 0.94
YAML::Syck 1.27
version 0.9908
--
Summary of my perl5 (revision 5 version 20 subversion 0) configuration:
Platform:
osname=MSWin32, osvers=6.2, archname=MSWin32-x86-multi-thread-64int
uname='Win32 strawberry-perl 5.20.0.1 #1 Fri May 30 23:25:11 2014 i386'
config_args='undef'
hint=recommended, useposix=true, d_sigaction=undef
useithreads=define, usemultiplicity=define
use64bitint=define, use64bitall=undef, uselongdouble=undef
usemymalloc=n, bincompat5005=undef
Compiler:
cc='gcc', ccflags =' -s -O2 -DWIN32 -DPERL_TEXTMODE_SCRIPTS -DPERL_IMPLICIT_CONTEXT -DPERL_IMPLICIT_SYS -DUSE_PERLIO -fwrapv -fno-strict-aliasing -mms-bitfields',
optimize='-s -O2',
cppflags='-DWIN32'
ccversion='', gccversion='4.8.2', gccosandvers=''
intsize=4, longsize=4, ptrsize=4, doublesize=8, byteorder=12345678
d_longlong=define, longlongsize=8, d_longdbl=define, longdblsize=12
ivtype='long long', ivsize=8, nvtype='double', nvsize=8, Off_t='long long', lseeksize=8
alignbytes=8, prototype=define
Linker and Libraries:
ld='g++', ldflags ='-s -L"C:\STRAWB~1\perl\lib\CORE" -L"C:\STRAWB~1\c\lib"'
libpth=C:\STRAWB~1\c\lib C:\STRAWB~1\c\i686-w64-mingw32\lib C:\STRAWB~1\c\lib\gcc\i686-w64-mingw32\4.8.2
libs=-lmoldname -lkernel32 -luser32 -lgdi32 -lwinspool -lcomdlg32 -ladvapi32 -lshell32 -lole32 -loleaut32 -lnetapi32 -luuid -lws2_32 -lmpr -lwinmm -lversion -lodbc32 -lodbccp32 -lcomctl32
perllibs=-lmoldname -lkernel32 -luser32 -lgdi32 -lwinspool -lcomdlg32 -ladvapi32 -lshell32 -lole32 -loleaut32 -lnetapi32 -luuid -lws2_32 -lmpr -lwinmm -lversion -lodbc32 -lodbccp32 -lcomctl32
libc=, so=dll, useshrplib=true, libperl=libperl520.a
gnulibc_version=''
Dynamic Linking:
dlsrc=dl_win32.xs, dlext=xs.dll, d_dlsymun=undef, ccdlflags=' '
cccdlflags=' ', lddlflags='-mdll -s -L"C:\STRAWB~1\perl\lib\CORE" -L"C:\STRAWB~1\c\lib"'
Characteristics of this binary (from libperl):
Compile-time options: HAS_TIMES HAVE_INTERP_INTERN MULTIPLICITY
PERLIO_LAYERS PERL_DONT_CREATE_GVSV
PERL_HASH_FUNC_ONE_AT_A_TIME_HARD
PERL_IMPLICIT_CONTEXT PERL_IMPLICIT_SYS
PERL_MALLOC_WRAP PERL_NEW_COPY_ON_WRITE
PERL_PRESERVE_IVUV USE_64_BIT_INT USE_ITHREADS
USE_LARGE_FILES USE_LOCALE USE_LOCALE_COLLATE
USE_LOCALE_CTYPE USE_LOCALE_NUMERIC USE_PERLIO
USE_PERL_ATOF
Built under MSWin32
Compiled at May 30 2014 23:29:27
%ENV:
PERL5LIB="C:\STRAWB~1\cpan\build\Exporter-Easy-0.17-94fryT/blib/arch;C:\STRAWB~1\cpan\build\Exporter-Easy-0.17-94fryT/blib/lib;C:\STRAWB~1\cpan\build\Data-Diver-1.0101-MdiQ67/blib/arch;C:\STRAWB~1\cpan\build\Data-Diver-1.0101-MdiQ67/blib/lib"
PERL5_CPANPLUS_IS_RUNNING="2716"
PERL5_CPAN_IS_RUNNING="2716"
PERL5_CPAN_IS_RUNNING_IN_RECURSION="1288,2716"
PERL_CR_SMOKER_CURRENT="Soar-Production-0.03"
PERL_EXTUTILS_AUTOINSTALL="--defaultdeps"
PERL_MM_USE_DEFAULT="1"
@INC:
C:\STRAWB~1\cpan\build\Exporter-Easy-0.17-94fryT/blib/arch
C:\STRAWB~1\cpan\build\Exporter-Easy-0.17-94fryT/blib/lib
C:\STRAWB~1\cpan\build\Data-Diver-1.0101-MdiQ67/blib/arch
C:\STRAWB~1\cpan\build\Data-Diver-1.0101-MdiQ67/blib/lib
C:/Strawberry/perl/site/lib/MSWin32-x86-multi-thread-64int
C:/Strawberry/perl/site/lib
C:/Strawberry/perl/vendor/lib
C:/Strawberry/perl/lib
.