Sys-Filesystem v1.408 Perl 5 v5.18.4 x86_64-linux-thread-multi

Status
Pass
From
Nigel Horne
Dist
Sys-Filesystem v1.408
Platform
Perl 5 v5.18.4 x86_64-linux-thread-multi
Date
2020-10-21 14:53:34
ID
316fd1ee-13ad-11eb-b9db-b6c7a8faccfa
This distribution has been tested as part of the CPAN Testers
project, supporting the Perl programming language.  See
http://wiki.cpantesters.org/ for more information or email
questions to cpan-testers-discuss@perl.org


--
Dear Jens Rehsack,

This is a computer-generated report for Sys-Filesystem-1.408
on perl 5.18.4, created by CPAN-Reporter-1.2018.

Thank you for uploading your work to CPAN.  Congratulations!
All tests were successful.

Sections of this report:

    * Tester comments
    * Program output
    * Prerequisites
    * Environment and other context

------------------------------
TESTER COMMENTS
------------------------------

Additional comments from tester:

this report is from an automated smoke testing program
and was not reviewed by a human for accuracy

------------------------------
PROGRAM OUTPUT
------------------------------

Output from '/usr/bin/make test':

PERL_DL_NONLAZY=1 "/home/smoker/perl5/perlbrew/perls/perl-5.18.4-thread/bin/perl5.18.4" "-MExtUtils::Command::MM" "-MTest::Harness" "-e" "undef *Test::Harness::Switches; test_harness(0, 'blib/lib', 'blib/arch')" t/*.t xt/*.t
# Testing Sys::Filesystem 1.408, Perl 5.018004 (/home/smoker/perl5/perlbrew/perls/perl-5.18.4-thread/bin/perl5.18.4) on linux-4.16.0-2-amd64
t/01_load.t ...... ok
# filesystem - mounted - special - device - options - format - volume - label - type
# / - 1 - 0 - overlay - rw,relatime,lowerdir=/var/lib/docker/overlay2/l/4CAJRJGLKG4SAITPA3LT6ZNYPN:/var/lib/docker/overlay2/l/XC4KRMQXGRL4NUYRXWTTB3ZBVO:/var/lib/docker/overlay2/l/6SKGB3PJEVQUXKHRRIIMXO6RFK:/var/lib/docker/overlay2/l/PVAIFMCKWFE6G5N7L7MSURUUE7:/var/lib/docker/overlay2/l/4U3YZMJ7H2LCTBTP6X772YZGGG:/var/lib/docker/overlay2/l/CYDY6W4IEDELWBGLTIXBGJ5CON:/var/lib/docker/overlay2/l/ELVR2WPL5NHLBB6FNQLR66UBLR:/var/lib/docker/overlay2/l/VQAI3DAFKHIAHO3XVL3LGB7YXJ:/var/lib/docker/overlay2/l/LELXEDOU66ZYKM4T4P7QS2ELKO:/var/lib/docker/overlay2/l/PAJ7JX33IVPJIDQ4XGRGMZ3JZQ:/var/lib/docker/overlay2/l/JTHY7WMXJJJOP3GYVMXJSY6NKD:/var/lib/docker/overlay2/l/J3OAZP4ROMBUORIXOCVUZGR6JB:/var/lib/docker/overlay2/l/N6KVPOUK7AIP4EXVJVDWDWXV52,upperdir=/var/lib/docker/overlay2/a99b822add4936def990315dff2514a63fb160414dfc1b4ccad3c1407979f691/diff,workdir=/var/lib/docker/overlay2/a99b822add4936def990315dff2514a63fb160414dfc1b4ccad3c1407979f691/work - overlay - 1 - 1 - overlay
# /dev - 1 - 1 - tmpfs - rw,nosuid,size=65536k,mode=755 - tmpfs - 1 - 1 - tmpfs
# /dev/console - 1 - 1 - devpts - rw,nosuid,noexec,relatime,gid=5,mode=620,ptmxmode=666 - devpts - 1 - 1 - devpts
# /dev/mqueue - 1 - 0 - mqueue - rw,nosuid,nodev,noexec,relatime - mqueue - 1 - 1 - mqueue
# /dev/pts - 1 - 1 - devpts - rw,nosuid,noexec,relatime,gid=5,mode=620,ptmxmode=666 - devpts - 1 - 1 - devpts
# /dev/shm - 1 - 1 - shm - rw,nosuid,nodev,noexec,relatime,size=65536k - tmpfs - 1 - 1 - tmpfs
# /etc/hostname - 1 - 0 - /dev/sda5 - rw,noatime,errors=remount-ro,data=ordered - ext4 - 1 - 1 - ext4
# /etc/hosts - 1 - 0 - /dev/sda5 - rw,noatime,errors=remount-ro,data=ordered - ext4 - 1 - 1 - ext4
# /etc/resolv.conf - 1 - 0 - /dev/sda5 - rw,noatime,errors=remount-ro,data=ordered - ext4 - 1 - 1 - ext4
# /mnt/CPAN - 1 - 0 - utilite:/var/www/html/mirrors/CPAN - ro,relatime,vers=2,rsize=8192,wsize=8192,namlen=255,soft,proto=tcp,timeo=600,retrans=2,sec=sys,mountaddr=192.168.1.10,mountvers=1,mountport=60979,mountproto=udp,local_lock=none,addr=192.168.1.10 - nfs - 1 - 1 - nfs
# /proc - 1 - 1 - proc - rw,nosuid,nodev,noexec,relatime - proc - 1 - 1 - proc
# /proc/acpi - 1 - 1 - tmpfs - ro,relatime - tmpfs - 1 - 1 - tmpfs
# /proc/asound - 1 - 1 - tmpfs - ro,relatime - tmpfs - 1 - 1 - tmpfs
# /proc/bus - 1 - 1 - proc - ro,relatime - proc - 1 - 1 - proc
# /proc/fs - 1 - 1 - proc - ro,relatime - proc - 1 - 1 - proc
# /proc/irq - 1 - 1 - proc - ro,relatime - proc - 1 - 1 - proc
# /proc/kcore - 1 - 1 - tmpfs - rw,nosuid,size=65536k,mode=755 - tmpfs - 1 - 1 - tmpfs
# /proc/keys - 1 - 1 - tmpfs - rw,nosuid,size=65536k,mode=755 - tmpfs - 1 - 1 - tmpfs
# /proc/sched_debug - 1 - 1 - tmpfs - rw,nosuid,size=65536k,mode=755 - tmpfs - 1 - 1 - tmpfs
# /proc/sys - 1 - 1 - proc - ro,relatime - proc - 1 - 1 - proc
# /proc/sysrq-trigger - 1 - 1 - proc - ro,relatime - proc - 1 - 1 - proc
# /proc/timer_list - 1 - 1 - tmpfs - rw,nosuid,size=65536k,mode=755 - tmpfs - 1 - 1 - tmpfs
# /sys - 1 - 1 - sysfs - ro,nosuid,nodev,noexec,relatime - sysfs - 1 - 1 - sysfs
# /sys/firmware - 1 - 1 - tmpfs - ro,relatime - tmpfs - 1 - 1 - tmpfs
# /sys/fs/cgroup - 1 - 1 - tmpfs - ro,nosuid,nodev,noexec,relatime,mode=755 - tmpfs - 1 - 1 - tmpfs
# /sys/fs/cgroup/blkio - 1 - 0 - cgroup - ro,nosuid,nodev,noexec,relatime,blkio - cgroup - 1 - 1 - cgroup
# /sys/fs/cgroup/cpu,cpuacct - 1 - 0 - cgroup - ro,nosuid,nodev,noexec,relatime,cpu,cpuacct - cgroup - 1 - 1 - cgroup
# /sys/fs/cgroup/cpuset - 1 - 0 - cgroup - ro,nosuid,nodev,noexec,relatime,cpuset,clone_children - cgroup - 1 - 1 - cgroup
# /sys/fs/cgroup/devices - 1 - 0 - cgroup - ro,nosuid,nodev,noexec,relatime,devices - cgroup - 1 - 1 - cgroup
# /sys/fs/cgroup/freezer - 1 - 0 - cgroup - ro,nosuid,nodev,noexec,relatime,freezer - cgroup - 1 - 1 - cgroup
# /sys/fs/cgroup/memory - 1 - 0 - cgroup - ro,nosuid,nodev,noexec,relatime,memory - cgroup - 1 - 1 - cgroup
# /sys/fs/cgroup/net_cls,net_prio - 1 - 0 - cgroup - ro,nosuid,nodev,noexec,relatime,net_cls,net_prio - cgroup - 1 - 1 - cgroup
# /sys/fs/cgroup/perf_event - 1 - 0 - cgroup - ro,nosuid,nodev,noexec,relatime,perf_event - cgroup - 1 - 1 - cgroup
# /sys/fs/cgroup/pids - 1 - 0 - cgroup - ro,nosuid,nodev,noexec,relatime,pids - cgroup - 1 - 1 - cgroup
# /sys/fs/cgroup/systemd - 1 - 0 - cgroup - ro,nosuid,nodev,noexec,relatime,xattr,name=systemd - cgroup - 1 - 1 - cgroup
t/02_basic.t ..... ok
t/03_whereami.t .. ok
t/04_special.t ... ok
t/05_error.t ..... ok
t/06_settings.t .. ok
All tests successful.

Test Summary Report
-------------------
t/03_whereami.t (Wstat: 0 Tests: 3 Failed: 0)
  TODO passed:   2-3
Files=6, Tests=437,  1 wallclock secs ( 0.09 usr  0.03 sys +  0.72 cusr  0.19 csys =  1.03 CPU)
Result: PASS

------------------------------
PREREQUISITES
------------------------------

Prerequisite modules loaded:

requires:

    Module              Need     Have    
    ------------------- -------- --------
    Carp                0        1.29    
    Cwd                 0        3.75    
    File::Spec          0        3.75    
    FindBin             0        1.51    
    IO                  0        1.28    
    IPC::Cmd            0.80     0.80    
    Module::Pluggable   4.8      5.2     
    Params::Util        1.00     1.07    
    perl                5.008001 5.018004

build_requires:

    Module              Need     Have    
    ------------------- -------- --------
    Test::More          0.9      1.302172

configure_requires:

    Module              Need     Have    
    ------------------- -------- --------
    Carp                0        1.29    
    Cwd                 0        3.75    
    ExtUtils::MakeMaker 0        7.44    
    File::Spec          0        3.75    
    FindBin             0        1.51    
    IO                  0        1.28    
    IPC::Cmd            0.80     0.80    
    Module::Pluggable   4.8      5.2     
    Params::Util        1.00     1.07    


------------------------------
ENVIRONMENT AND OTHER CONTEXT
------------------------------

Environment variables:

    AUTOMATED_TESTING = 1
    HARNESS_OPTIONS = j2
    NONINTERACTIVE_TESTING = 1
    PATH = /home/smoker/perl5/perlbrew/bin:/home/smoker/perl5/perlbrew/perls/perl-5.18.4-thread/bin:/usr/local/sbin:/usr/local/bin:/usr/sbin:/usr/bin:/sbin:/bin
    PERL5LIB = /tmp/build/Module-Pluggable-5.2-0/blib/arch:/tmp/build/Module-Pluggable-5.2-0/blib/lib:/tmp/build/Text-Indent-Tiny-0.1.2-0/blib/arch:/tmp/build/Text-Indent-Tiny-0.1.2-0/blib/lib
    PERL5OPT = 
    PERL5_CPANPLUS_IS_RUNNING = 9827
    PERL5_CPAN_IS_RUNNING = 9827
    PERLBREW_HOME = /home/smoker/.perlbrew
    PERLBREW_MANPATH = /home/smoker/perl5/perlbrew/perls/perl-5.18.4-thread/man
    PERLBREW_PATH = /home/smoker/perl5/perlbrew/bin:/home/smoker/perl5/perlbrew/perls/perl-5.18.4-thread/bin
    PERLBREW_PERL = perl-5.18.4-thread
    PERLBREW_ROOT = /home/smoker/perl5/perlbrew
    PERLBREW_SHELLRC_VERSION = 0.88
    PERLBREW_VERSION = 0.88
    PERL_MM_USE_DEFAULT = 1
    PERL_USE_UNSAFE_INC = 1
    SHELL = /bin/bash
    TERM = xterm
    TMPDIR = /tmp/testwrapper.9815

Perl special variables (and OS-specific diagnostics, for MSWin32):

    $^X = /home/smoker/perl5/perlbrew/perls/perl-5.18.4-thread/bin/perl5.18.4
    $UID/$EUID = 1000 / 1000
    $GID = 1000
    $EGID = 1000

Perl module toolchain versions installed:

    Module              Have    
    ------------------- --------
    CPAN                2.27    
    CPAN::Meta          2.143240
    Cwd                 3.75    
    ExtUtils::CBuilder  0.280210
    ExtUtils::Command   7.44    
    ExtUtils::Install   2.06    
    ExtUtils::MakeMaker 7.44    
    ExtUtils::Manifest  1.70    
    ExtUtils::ParseXS   3.18    
    File::Spec          3.75    
    JSON                4.02    
    JSON::PP            2.27203 
    Module::Build       0.4003  
    Module::Signature   n/a     
    Parse::CPAN::Meta   1.4414  
    Test::Harness       3.42    
    Test::More          1.302172
    YAML                1.30    
    YAML::Syck          1.32    
    version             0.9902  


--

Summary of my perl5 (revision 5 version 18 subversion 4) configuration:
   
  Platform:
    osname=linux, osvers=4.16.0-2-amd64, archname=x86_64-linux-thread-multi
    uname='linux e499360747da 4.16.0-2-amd64 #1 smp debian 4.16.16-2 (2018-06-22) x86_64 gnulinux '
    config_args='-de -Dprefix=/home/smoker/perl5/perlbrew/perls/perl-5.18.4-thread -Dusedevel -Dusethreads -Accflags=-O2 -pipe -Wall -Wextra -mtune=native -march=native -Aeval:scriptdir=/home/smoker/perl5/perlbrew/perls/perl-5.18.4-thread/bin'
    hint=recommended, useposix=true, d_sigaction=define
    useithreads=define, usemultiplicity=define
    useperlio=define, d_sfio=undef, uselargefiles=define, usesocks=undef
    use64bitint=define, use64bitall=define, uselongdouble=undef
    usemymalloc=n, bincompat5005=undef
  Compiler:
    cc='cc', ccflags ='-D_REENTRANT -D_GNU_SOURCE -O2 -pipe -Wall -Wextra -mtune=native -march=native -fwrapv -fno-strict-aliasing -fstack-protector -I/usr/local/include -D_LARGEFILE_SOURCE -D_FILE_OFFSET_BITS=64',
    optimize='-O2',
    cppflags='-D_REENTRANT -D_GNU_SOURCE -O2 -pipe -Wall -Wextra -mtune=native -march=native -fwrapv -fno-strict-aliasing -fstack-protector -I/usr/local/include'
    ccversion='', gccversion='6.3.0 20170516', gccosandvers=''
    intsize=4, longsize=8, ptrsize=8, doublesize=8, byteorder=12345678
    d_longlong=define, longlongsize=8, d_longdbl=define, longdblsize=16
    ivtype='long', ivsize=8, nvtype='double', nvsize=8, Off_t='off_t', lseeksize=8
    alignbytes=8, prototype=define
  Linker and Libraries:
    ld='cc', ldflags =' -fstack-protector -L/usr/local/lib'
    libpth=/usr/local/lib /lib/x86_64-linux-gnu /lib/../lib /usr/lib/x86_64-linux-gnu /usr/lib/../lib /lib /usr/lib
    libs=-lnsl -ldl -lm -lcrypt -lutil -lpthread -lc
    perllibs=-lnsl -ldl -lm -lcrypt -lutil -lpthread -lc
    libc=libc-2.24.so, so=so, useshrplib=false, libperl=libperl.a
    gnulibc_version='2.24'
  Dynamic Linking:
    dlsrc=dl_dlopen.xs, dlext=so, d_dlsymun=undef, ccdlflags='-Wl,-E'
    cccdlflags='-fPIC', lddlflags='-shared -O2 -L/usr/local/lib -fstack-protector'


Characteristics of this binary (from libperl): 
  Compile-time options: HAS_TIMES MULTIPLICITY PERLIO_LAYERS
                        PERL_DONT_CREATE_GVSV
                        PERL_HASH_FUNC_ONE_AT_A_TIME_HARD
                        PERL_IMPLICIT_CONTEXT PERL_MALLOC_WRAP
                        PERL_PRESERVE_IVUV PERL_SAWAMPERSAND PERL_USE_DEVEL
                        USE_64_BIT_ALL USE_64_BIT_INT USE_ITHREADS
                        USE_LARGE_FILES USE_LOCALE USE_LOCALE_COLLATE
                        USE_LOCALE_CTYPE USE_LOCALE_NUMERIC USE_PERLIO
                        USE_PERL_ATOF USE_REENTRANT_API
  Locally applied patches:
	Devel::PatchPerl 1.90
  Built under linux
  Compiled at Mar 26 2020 23:16:05
  %ENV:
    PERL5LIB="/tmp/build/Module-Pluggable-5.2-0/blib/arch:/tmp/build/Module-Pluggable-5.2-0/blib/lib:/tmp/build/Text-Indent-Tiny-0.1.2-0/blib/arch:/tmp/build/Text-Indent-Tiny-0.1.2-0/blib/lib"
    PERL5OPT=""
    PERL5_CPANPLUS_IS_RUNNING="9827"
    PERL5_CPAN_IS_RUNNING="9827"
    PERLBREW_HOME="/home/smoker/.perlbrew"
    PERLBREW_MANPATH="/home/smoker/perl5/perlbrew/perls/perl-5.18.4-thread/man"
    PERLBREW_PATH="/home/smoker/perl5/perlbrew/bin:/home/smoker/perl5/perlbrew/perls/perl-5.18.4-thread/bin"
    PERLBREW_PERL="perl-5.18.4-thread"
    PERLBREW_ROOT="/home/smoker/perl5/perlbrew"
    PERLBREW_SHELLRC_VERSION="0.88"
    PERLBREW_VERSION="0.88"
    PERL_MM_USE_DEFAULT="1"
    PERL_USE_UNSAFE_INC="1"
  @INC:
    /tmp/build/Module-Pluggable-5.2-0/blib/arch
    /tmp/build/Module-Pluggable-5.2-0/blib/lib
    /tmp/build/Text-Indent-Tiny-0.1.2-0/blib/arch
    /tmp/build/Text-Indent-Tiny-0.1.2-0/blib/lib
    /home/smoker/perl5/perlbrew/perls/perl-5.18.4-thread/lib/site_perl/5.18.4/x86_64-linux-thread-multi
    /home/smoker/perl5/perlbrew/perls/perl-5.18.4-thread/lib/site_perl/5.18.4
    /home/smoker/perl5/perlbrew/perls/perl-5.18.4-thread/lib/5.18.4/x86_64-linux-thread-multi
    /home/smoker/perl5/perlbrew/perls/perl-5.18.4-thread/lib/5.18.4
    .