Back
From: metabase:user:314402c4-2aae-11df-837a-5e0a49663a4f
Subject: PASS Starlink-AST-1.05 v5.22.3 GNU/Linux
Date: 2017-06-24T20:03:30Z
This distribution has been tested as part of the CPAN Testers
project, supporting the Perl programming language. See
http://wiki.cpantesters.org/ for more information or email
questions to cpan-testers-discuss@perl.org
--
Dear Tim Jenness,
This is a computer-generated report for Starlink-AST-1.05
on perl 5.22.3, created by CPAN-Reporter-1.2018.
Thank you for uploading your work to CPAN. Congratulations!
All tests were successful.
Sections of this report:
* Tester comments
* Program output
* Prerequisites
* Environment and other context
------------------------------
TESTER COMMENTS
------------------------------
Additional comments from tester:
none provided
------------------------------
PROGRAM OUTPUT
------------------------------
Output from './Build test':
t/attrib.t .......... ok
t/channel.t ......... ok
t/dclone.t .......... ok
t/dsb_reg.t ......... ok
t/error.t ........... ok
t/fitschan.t ........ ok
t/fitschn0.t ........ ok
t/formats.t ......... ok
t/keymap-tie.t ...... ok
t/keymap.t .......... ok
t/offset.t .......... ok
t/plot00_pgplot.t ... skipped: PGPLOT module not installed.
t/plot00_plplot.t ... skipped: Graphics::PLplot module not installed.
t/plot00_tk.t ....... ok
t/plot00_tk_zinc.t .. skipped: Tk::Zinc module not installed
t/plot_pg.t ......... skipped: PGPLOT module not installed.
t/plot_pl.t ......... skipped: Graphics::PLplot module not installed.
t/plot_tk.t ......... ok
t/plot_tk_zinc.t .... skipped: Tk::Zinc module not installed
t/region.t .......... ok
t/specframe.t ....... ok
t/stcschan.t ........ ok
t/unitmap.t ......... ok
t/xmlchan.t ......... ok
t/zoommap.t ......... ok
All tests successful.
Files=25, Tests=288, 5 wallclock secs ( 0.15 usr 0.15 sys + 1.12 cusr 0.20 csys = 1.62 CPU)
Result: PASS
------------------------------
PREREQUISITES
------------------------------
Prerequisite modules loaded:
build_requires:
Module Need Have
-------------------- ------ --------
ExtUtils::CBuilder 0 0.280221
perl 5.008 5.022003
Test::Deep 0 1.127
Test::More 0 1.302086
Test::Number::Delta 0 1.06
configure_requires:
Module Need Have
-------------------- ------ --------
Module::Build 0.3604 0.4224
opt_requires:
Module Need Have
-------------------- ------ --------
! Astro::FITS::CFITSIO 0 n/a
Astro::FITS::Header 0 3.04
Tk 0 804.033
! Tk::Zinc 0 n/a
------------------------------
ENVIRONMENT AND OTHER CONTEXT
------------------------------
Environment variables:
LANG = C
PATH = /usr/local/bin:/usr/bin:/bin:/usr/local/sbin:/usr/sbin:/sbin:/home/cpansand/bin/linux-gnu:/home/cpansand/bin/sh:/home/cpansand/bin:/usr/games:/home/cpansand/devel:/home/eserte/src/srezic-misc/scripts
PERL5LIB =
PERL5OPT =
PERL5_CPANPLUS_IS_RUNNING = 30403
PERL5_CPAN_IS_RUNNING = 30403
PERL5_CPAN_IS_RUNNING_IN_RECURSION = 18104,30403
PERLDOC = -MPod::Perldoc::ToTextOverstrike
PERL_BATCH = yes
PERL_CANARY_STABILITY_NOPROMPT = 1
PERL_CPAN_REPORTER_CONFIG = /var/tmp/cpansmoker-1023/2017062418/cpanreporter_000_config.ini
PERL_EXTUTILS_AUTOINSTALL = --defaultdeps
PERL_USE_UNSAFE_INC = 1
SHELL = /usr/bin/zsh
TERM = screen
TMPDIR = /var/tmp/cpansmoker-1023/2017062418
Perl special variables (and OS-specific diagnostics, for MSWin32):
$^X = /opt/perl-5.22.3/bin/perl5.22.3
$UID/$EUID = 1023 / 1023
$GID = 1023 1023
$EGID = 1023 1023
Perl module toolchain versions installed:
Module Have
------------------- ----------
CPAN 2.11_01
CPAN::Meta 2.150001
Cwd 3.56_02
ExtUtils::CBuilder 0.280221
ExtUtils::Command 7.30
ExtUtils::Install 2.06
ExtUtils::MakeMaker 7.30
ExtUtils::Manifest 1.70
ExtUtils::ParseXS 3.28
File::Spec 3.56_02
JSON 2.94
JSON::PP 2.94
Module::Build 0.4224
Module::Signature 0.81
Parse::CPAN::Meta 1.4414_001
Test::Harness 3.35_01
Test::More 1.302086
YAML 1.23
YAML::Syck 1.30
version 0.9909
--
Summary of my perl5 (revision 5 version 22 subversion 3) configuration:
Platform:
osname=linux, osvers=4.9.0-3-amd64, archname=x86_64-linux
uname='linux debian9 4.9.0-3-amd64 #1 smp debian 4.9.30-2+deb9u1 (2017-06-18) x86_64 gnulinux '
config_args='-ds -e -Dprefix=/opt/perl-5.22.3 -Dcf_email=srezic@cpan.org'
hint=recommended, useposix=true, d_sigaction=define
useithreads=undef, usemultiplicity=undef
use64bitint=define, use64bitall=define, uselongdouble=undef
usemymalloc=n, bincompat5005=undef
Compiler:
cc='cc', ccflags ='-fwrapv -fno-strict-aliasing -pipe -fstack-protector-strong -I/usr/local/include -D_LARGEFILE_SOURCE -D_FILE_OFFSET_BITS=64',
optimize='-O2',
cppflags='-fwrapv -fno-strict-aliasing -pipe -fstack-protector-strong -I/usr/local/include'
ccversion='', gccversion='6.3.0 20170516', gccosandvers=''
intsize=4, longsize=8, ptrsize=8, doublesize=8, byteorder=12345678, doublekind=3
d_longlong=define, longlongsize=8, d_longdbl=define, longdblsize=16, longdblkind=3
ivtype='long', ivsize=8, nvtype='double', nvsize=8, Off_t='off_t', lseeksize=8
alignbytes=8, prototype=define
Linker and Libraries:
ld='cc', ldflags =' -fstack-protector-strong -L/usr/local/lib'
libpth=/usr/local/lib /usr/lib/gcc/x86_64-linux-gnu/6/include-fixed /usr/include/x86_64-linux-gnu /usr/lib /lib/x86_64-linux-gnu /lib/../lib /usr/lib/x86_64-linux-gnu /usr/lib/../lib /lib
libs=-lpthread -lnsl -lgdbm -ldb -ldl -lm -lcrypt -lutil -lc -lgdbm_compat
perllibs=-lpthread -lnsl -ldl -lm -lcrypt -lutil -lc
libc=libc-2.24.so, so=so, useshrplib=false, libperl=libperl.a
gnulibc_version='2.24'
Dynamic Linking:
dlsrc=dl_dlopen.xs, dlext=so, d_dlsymun=undef, ccdlflags='-Wl,-E'
cccdlflags='-fPIC', lddlflags='-shared -O2 -L/usr/local/lib -fstack-protector-strong'
Characteristics of this binary (from libperl):
Compile-time options: HAS_TIMES PERLIO_LAYERS PERL_DONT_CREATE_GVSV
PERL_HASH_FUNC_ONE_AT_A_TIME_HARD PERL_MALLOC_WRAP
PERL_NEW_COPY_ON_WRITE PERL_PRESERVE_IVUV
USE_64_BIT_ALL USE_64_BIT_INT USE_LARGE_FILES
USE_LOCALE USE_LOCALE_COLLATE USE_LOCALE_CTYPE
USE_LOCALE_NUMERIC USE_LOCALE_TIME USE_PERLIO
USE_PERL_ATOF
Built under linux
Compiled at Jun 21 2017 06:16:58
%ENV:
PERL5LIB=""
PERL5OPT=""
PERL5_CPANPLUS_IS_RUNNING="30403"
PERL5_CPAN_IS_RUNNING="30403"
PERL5_CPAN_IS_RUNNING_IN_RECURSION="18104,30403"
PERLDOC="-MPod::Perldoc::ToTextOverstrike"
PERL_BATCH="yes"
PERL_CANARY_STABILITY_NOPROMPT="1"
PERL_CPAN_REPORTER_CONFIG="/var/tmp/cpansmoker-1023/2017062418/cpanreporter_000_config.ini"
PERL_EXTUTILS_AUTOINSTALL="--defaultdeps"
PERL_USE_UNSAFE_INC="1"
@INC:
/opt/perl-5.22.3/lib/site_perl/5.22.3/x86_64-linux
/opt/perl-5.22.3/lib/site_perl/5.22.3
/opt/perl-5.22.3/lib/5.22.3/x86_64-linux
/opt/perl-5.22.3/lib/5.22.3
.