Back
From: metabase:user:8d44a2bc-b4ba-11e0-8d77-09d09eb71fc2
Subject: PASS MouseX-Traits-0.1102 v5.14.1 GNU/Linux
Date: 2011-10-27T19:52:26Z
This distribution has been tested as part of the CPAN Testers
project, supporting the Perl programming language. See
http://wiki.cpantesters.org/ for more information or email
questions to cpan-testers-discuss@perl.org
--
Dear Goro Fuji,
This is a computer-generated report for MouseX-Traits-0.1102
on perl 5.14.1, created by CPAN-Reporter-1.2002.
Thank you for uploading your work to CPAN. Congratulations!
All tests were successful.
Sections of this report:
* Tester comments
* Program output
* Prerequisites
* Environment and other context
------------------------------
TESTER COMMENTS
------------------------------
Additional comments from tester:
none provided
------------------------------
PROGRAM OUTPUT
------------------------------
Output from '/usr/bin/make test':
PERL_DL_NONLAZY=1 /home/mike/perl5/perlbrew/perls/perl-5.14.1/bin/perl5.14.1 "-MExtUtils::Command::MM" "-e" "test_harness(0, 'inc', 'blib/lib', 'blib/arch')" t/*.t
# Testing MouseX::Traits/0.1102
t/00-load.t ........ ok
t/basic.t .......... ok
t/parameterized.t .. skipped: testing parameterized roles requires MouseX::Role::Parameterized 0.13
t/subclass.t ....... ok
All tests successful.
Files=4, Tests=26, 1 wallclock secs ( 0.03 usr 0.02 sys + 0.18 cusr 0.02 csys = 0.25 CPU)
Result: PASS
------------------------------
PREREQUISITES
------------------------------
Prerequisite modules loaded:
requires:
Module Need Have
------------------- ---- ----
Mouse 0.81 0.97
build_requires:
Module Need Have
------------------- ---- ----
ExtUtils::MakeMaker 6.42 6.59
ok 0 0.02
Test::Exception 0 0.31
Test::More 0 0.98
configure_requires:
Module Need Have
------------------- ---- ----
ExtUtils::MakeMaker 6.42 6.59
------------------------------
ENVIRONMENT AND OTHER CONTEXT
------------------------------
Environment variables:
LANG = en_CA.utf8
PATH = /home/mike/.bin:/home/mike/perl5/perlbrew/bin:/home/mike/perl5/perlbrew/perls/perl-5.14.1/bin:/usr/local/sbin:/usr/local/bin:/usr/sbin:/usr/bin:/sbin:/bin:/usr/games:/home/mike/Downloads/android-sdk-linux_x86/tools:/home/mike/Downloads/android-sdk-linux_x86/platform-tools
PATH_WITHOUT_PERLBREW = /usr/local/sbin:/usr/local/bin:/usr/sbin:/usr/bin:/sbin:/bin:/usr/games
PERL5LIB =
PERL5OPT =
PERL5_CPANPLUS_IS_RUNNING = 29291
PERL5_CPAN_IS_RUNNING = 29291
PERLBREW_HOME = /home/mike/.perlbrew
PERLBREW_PATH = /home/mike/perl5/perlbrew/bin:/home/mike/perl5/perlbrew/perls/perl-5.14.1/bin
PERLBREW_PERL = perl-5.14.1
PERLBREW_ROOT = /home/mike/perl5/perlbrew
PERLBREW_VERSION = 0.29
SHELL = /bin/bash
TERM = xterm
Perl special variables (and OS-specific diagnostics, for MSWin32):
$^X = /home/mike/perl5/perlbrew/perls/perl-5.14.1/bin/perl5.14.1
$UID/$EUID = 1000 / 1000
$GID = 1000 4 20 24 46 105 119 122 1000
$EGID = 1000 4 20 24 46 105 119 122 1000
Perl module toolchain versions installed:
Module Have
------------------- --------
CPAN 1.9800
CPAN::Meta 2.112150
Cwd 3.33
ExtUtils::CBuilder 0.280203
ExtUtils::Command 1.17
ExtUtils::Install 1.56
ExtUtils::MakeMaker 6.59
ExtUtils::Manifest 1.59
ExtUtils::ParseXS 3.03
File::Spec 3.33
JSON 2.53
JSON::PP 2.27200
Module::Build 0.3800
Module::Signature 0.68
Parse::CPAN::Meta 1.4401
Test::Harness 3.23
Test::More 0.98
YAML 0.77
YAML::Syck 1.17
version 0.94
--
Summary of my perl5 (revision 5 version 14 subversion 1) configuration:
Platform:
osname=linux, osvers=2.6.32-33-generic, archname=x86_64-linux
uname='linux charron 2.6.32-33-generic #70-ubuntu smp thu jul 7 21:13:52 utc 2011 x86_64 gnulinux '
config_args='-de -Dprefix=/home/mike/perl5/perlbrew/perls/perl-5.14.1'
hint=recommended, useposix=true, d_sigaction=define
useithreads=undef, usemultiplicity=undef
useperlio=define, d_sfio=undef, uselargefiles=define, usesocks=undef
use64bitint=define, use64bitall=define, uselongdouble=undef
usemymalloc=n, bincompat5005=undef
Compiler:
cc='cc', ccflags ='-fno-strict-aliasing -pipe -fstack-protector -I/usr/local/include -D_LARGEFILE_SOURCE -D_FILE_OFFSET_BITS=64',
optimize='-O2',
cppflags='-fno-strict-aliasing -pipe -fstack-protector -I/usr/local/include'
ccversion='', gccversion='4.4.3', gccosandvers=''
intsize=4, longsize=8, ptrsize=8, doublesize=8, byteorder=12345678
d_longlong=define, longlongsize=8, d_longdbl=define, longdblsize=16
ivtype='long', ivsize=8, nvtype='double', nvsize=8, Off_t='off_t', lseeksize=8
alignbytes=8, prototype=define
Linker and Libraries:
ld='cc', ldflags =' -fstack-protector -L/usr/local/lib'
libpth=/usr/local/lib /lib/../lib /usr/lib/../lib /lib /usr/lib /usr/lib/x86_64-linux-gnu /lib64 /usr/lib64
libs=-lnsl -ldl -lm -lcrypt -lutil -lc
perllibs=-lnsl -ldl -lm -lcrypt -lutil -lc
libc=/lib/libc-2.11.1.so, so=so, useshrplib=false, libperl=libperl.a
gnulibc_version='2.11.1'
Dynamic Linking:
dlsrc=dl_dlopen.xs, dlext=so, d_dlsymun=undef, ccdlflags='-Wl,-E'
cccdlflags='-fPIC', lddlflags='-shared -O2 -L/usr/local/lib -fstack-protector'
Characteristics of this binary (from libperl):
Compile-time options: PERL_DONT_CREATE_GVSV PERL_MALLOC_WRAP
PERL_PRESERVE_IVUV USE_64_BIT_ALL USE_64_BIT_INT
USE_LARGE_FILES USE_PERLIO USE_PERL_ATOF
Built under linux
Compiled at Jul 23 2011 00:49:23
%ENV:
PERL5LIB=""
PERL5OPT=""
PERL5_CPANPLUS_IS_RUNNING="29291"
PERL5_CPAN_IS_RUNNING="29291"
PERLBREW_HOME="/home/mike/.perlbrew"
PERLBREW_PATH="/home/mike/perl5/perlbrew/bin:/home/mike/perl5/perlbrew/perls/perl-5.14.1/bin"
PERLBREW_PERL="perl-5.14.1"
PERLBREW_ROOT="/home/mike/perl5/perlbrew"
PERLBREW_VERSION="0.29"
@INC:
/home/mike/perl5/perlbrew/perls/perl-5.14.1/lib/site_perl/5.14.1/x86_64-linux
/home/mike/perl5/perlbrew/perls/perl-5.14.1/lib/site_perl/5.14.1
/home/mike/perl5/perlbrew/perls/perl-5.14.1/lib/5.14.1/x86_64-linux
/home/mike/perl5/perlbrew/perls/perl-5.14.1/lib/5.14.1
.