Report for Catalyst-DispatchType-Regex-5.90032

Back
From: metabase:user:21427c7c-6c1b-1014-a310-4ed93fdd96d6
Subject: UNKNOWN Catalyst-DispatchType-Regex-5.90032 v5.18.0 GNU/Linux
Date: 2013-06-15T17:08:28Z

This distribution has been tested as part of the CPAN Testers
project, supporting the Perl programming language.  See
http://wiki.cpantesters.org/ for more information or email
questions to cpan-testers-discuss@perl.org


--
Dear Mark Grimes,

This is a computer-generated report for Catalyst-DispatchType-Regex-5.90032
on perl 5.18.0, created by CPAN-Reporter-1.2010.

Thank you for uploading your work to CPAN.  However, attempting to
test your distribution gave an inconclusive result.

This could be because your distribution had an error during the make/build
stage, did not define tests, tests could not be found, because your tests were
interrupted before they finished, or because the results of the tests could not
be parsed.  You may wish to consult the CPAN Testers Wiki:

http://wiki.cpantesters.org/wiki/CPANAuthorNotes

Sections of this report:

    * Tester comments
    * Program output
    * Prerequisites
    * Environment and other context

------------------------------
TESTER COMMENTS
------------------------------

Additional comments from tester:

none provided

------------------------------
PROGRAM OUTPUT
------------------------------

Output from './Build test':

t/01use.t .............................................. skipped: Test require Catalyst::Runtime 5.90030
t/aggregate/live_component_controller_action_regexp.t .. skipped: Test require Catalyst::Runtime 5.90030
t/aggregate/live_priorities.t .......................... skipped: Test require Catalyst::Runtime 5.90030
t/aggregate/unit_core_uri_for_action.t ................. skipped: Test require Catalyst::Runtime 5.90030
Files=4, Tests=0,  3 wallclock secs ( 0.07 usr  0.02 sys +  0.35 cusr  0.06 csys =  0.50 CPU)
Result: NOTESTS

------------------------------
PREREQUISITES
------------------------------

Prerequisite modules loaded:

requires:

    Module               Need   Have  
    -------------------- ------ ------
    Moose                0      2.1001
    Text::Balanced       0      2.02  
    Text::SimpleTable    0      2.03  

build_requires:

    Module               Need   Have  
    -------------------- ------ ------
    Data::Dumper         0      2.145 
    MRO::Compat          0      0.12  
    namespace::autoclean 0      0.13  
    Scalar::Util         0      1.27  
    Test::More           0      0.98  

configure_requires:

    Module               Need   Have  
    -------------------- ------ ------
    Module::Build        0.4004 0.4005


------------------------------
ENVIRONMENT AND OTHER CONTEXT
------------------------------

Environment variables:

    LANG = pl_PL.UTF-8
    LC_COLLATE = pl_PL.UTF-8
    LC_MESSAGES = POSIX
    PATH = /home/jm/perl5/perlbrew/bin:/home/jm/perl5/perlbrew/perls/perl-5.18.0-thread-multi-ld/bin:/home/jm/perl5/perlbrew/bin:/usr/local/bin:/usr/bin:/bin:/usr/games:/usr/lib/kde4/libexec:/usr/lib/qt/bin:.:.:/home/jm/usr/bin
    PERL5LIB = 
    PERL5OPT = 
    PERL5_CPANPLUS_IS_RUNNING = 9690
    PERL5_CPAN_IS_RUNNING = 9690
    PERLBREW_BASHRC_VERSION = 0.61
    PERLBREW_HOME = /home/jm/.perlbrew
    PERLBREW_MANPATH = /home/jm/perl5/perlbrew/perls/perl-5.18.0-thread-multi-ld/man
    PERLBREW_PATH = /home/jm/perl5/perlbrew/bin:/home/jm/perl5/perlbrew/perls/perl-5.18.0-thread-multi-ld/bin
    PERLBREW_PERL = perl-5.18.0-thread-multi-ld
    PERLBREW_ROOT = /home/jm/perl5/perlbrew
    PERLBREW_VERSION = 0.63
    SHELL = /bin/bash
    TERM = xterm

Perl special variables (and OS-specific diagnostics, for MSWin32):

    $^X = /home/jm/perl5/perlbrew/perls/perl-5.18.0-thread-multi-ld/bin/perl
    $UID/$EUID = 1000 / 1000
    $GID = 100 6 10 17 18 19 83 84 93 94 100 1000
    $EGID = 100 6 10 17 18 19 83 84 93 94 100 1000

Perl module toolchain versions installed:

    Module              Have    
    ------------------- --------
    CPAN                2.00    
    CPAN::Meta          2.131560
    Cwd                 3.40    
    ExtUtils::CBuilder  0.280210
    ExtUtils::Command   1.17    
    ExtUtils::Install   1.59    
    ExtUtils::MakeMaker 6.66    
    ExtUtils::Manifest  1.63    
    ExtUtils::ParseXS   3.18    
    File::Spec          3.40    
    JSON                2.57    
    JSON::PP            2.27202 
    Module::Build       0.4005  
    Module::Signature   n/a     
    Parse::CPAN::Meta   1.4404  
    Test::Harness       3.28    
    Test::More          0.98    
    YAML                0.84    
    YAML::Syck          n/a     
    version             0.9902  


--

Summary of my perl5 (revision 5 version 18 subversion 0) configuration:
   
  Platform:
    osname=linux, osvers=3.2.29-smp, archname=i686-linux-thread-multi-ld
    uname='linux darkstar 3.2.29-smp #2 smp mon sep 17 13:16:43 cdt 2012 i686 intel(r) celeron(r) cpu 3.06ghz genuineintel gnulinux '
    config_args='-de -Dprefix=/home/jm/perl5/perlbrew/perls/perl-5.18.0-thread-multi-ld -Dusemultiplicity -Duseithreads -Duselongdouble -Aeval:scriptdir=/home/jm/perl5/perlbrew/perls/perl-5.18.0-thread-multi-ld/bin'
    hint=recommended, useposix=true, d_sigaction=define
    useithreads=define, usemultiplicity=define
    useperlio=define, d_sfio=undef, uselargefiles=define, usesocks=undef
    use64bitint=undef, use64bitall=undef, uselongdouble=define
    usemymalloc=n, bincompat5005=undef
  Compiler:
    cc='cc', ccflags ='-D_REENTRANT -D_GNU_SOURCE -fno-strict-aliasing -pipe -fstack-protector -I/usr/local/include -D_LARGEFILE_SOURCE -D_FILE_OFFSET_BITS=64',
    optimize='-O2',
    cppflags='-D_REENTRANT -D_GNU_SOURCE -fno-strict-aliasing -pipe -fstack-protector -I/usr/local/include'
    ccversion='', gccversion='4.7.1', gccosandvers=''
    intsize=4, longsize=4, ptrsize=4, doublesize=8, byteorder=1234
    d_longlong=define, longlongsize=8, d_longdbl=define, longdblsize=12
    ivtype='long', ivsize=4, nvtype='long double', nvsize=12, Off_t='off_t', lseeksize=8
    alignbytes=4, prototype=define
  Linker and Libraries:
    ld='cc', ldflags =' -fstack-protector -L/usr/local/lib'
    libpth=/usr/local/lib /lib /usr/lib
    libs=-lnsl -lgdbm -ldb -ldl -lm -lcrypt -lutil -lpthread -lc
    perllibs=-lnsl -ldl -lm -lcrypt -lutil -lpthread -lc
    libc=/lib/libc-2.15.so, so=so, useshrplib=false, libperl=libperl.a
    gnulibc_version='2.15'
  Dynamic Linking:
    dlsrc=dl_dlopen.xs, dlext=so, d_dlsymun=undef, ccdlflags='-Wl,-E'
    cccdlflags='-fPIC', lddlflags='-shared -O2 -L/usr/local/lib -fstack-protector'


Characteristics of this binary (from libperl): 
  Compile-time options: HAS_TIMES MULTIPLICITY PERLIO_LAYERS
                        PERL_DONT_CREATE_GVSV
                        PERL_HASH_FUNC_ONE_AT_A_TIME_HARD
                        PERL_IMPLICIT_CONTEXT PERL_MALLOC_WRAP
                        PERL_PRESERVE_IVUV PERL_SAWAMPERSAND USE_ITHREADS
                        USE_LARGE_FILES USE_LOCALE USE_LOCALE_COLLATE
                        USE_LOCALE_CTYPE USE_LOCALE_NUMERIC USE_LONG_DOUBLE
                        USE_PERLIO USE_PERL_ATOF USE_REENTRANT_API
  Built under linux
  Compiled at May 20 2013 20:21:56
  %ENV:
    PERL5LIB=""
    PERL5OPT=""
    PERL5_CPANPLUS_IS_RUNNING="9690"
    PERL5_CPAN_IS_RUNNING="9690"
    PERLBREW_BASHRC_VERSION="0.61"
    PERLBREW_HOME="/home/jm/.perlbrew"
    PERLBREW_MANPATH="/home/jm/perl5/perlbrew/perls/perl-5.18.0-thread-multi-ld/man"
    PERLBREW_PATH="/home/jm/perl5/perlbrew/bin:/home/jm/perl5/perlbrew/perls/perl-5.18.0-thread-multi-ld/bin"
    PERLBREW_PERL="perl-5.18.0-thread-multi-ld"
    PERLBREW_ROOT="/home/jm/perl5/perlbrew"
    PERLBREW_VERSION="0.63"
  @INC:
    /home/jm/perl5/perlbrew/perls/perl-5.18.0-thread-multi-ld/lib/site_perl/5.18.0/i686-linux-thread-multi-ld
    /home/jm/perl5/perlbrew/perls/perl-5.18.0-thread-multi-ld/lib/site_perl/5.18.0
    /home/jm/perl5/perlbrew/perls/perl-5.18.0-thread-multi-ld/lib/5.18.0/i686-linux-thread-multi-ld
    /home/jm/perl5/perlbrew/perls/perl-5.18.0-thread-multi-ld/lib/5.18.0
    .