Time-Zone-Olson v0.44 Perl 5 v5.34.0 i386-freebsd

Status
Pass
From
Chris Williams (BINGOS)
Dist
Time-Zone-Olson v0.44
Platform
Perl 5 v5.34.0 i386-freebsd
Date
2022-10-13 01:34:37
ID
32c9d97c-4a97-11ed-aba6-9a79f339625c
This distribution has been tested as part of the CPAN Testers
project, supporting the Perl programming language.  See
http://wiki.cpantesters.org/ for more information or email
questions to cpan-testers-discuss@perl.org


--

Dear DDICK,

This is a computer-generated error report created automatically by
CPANPLUS, version 0.9914. Testers personal comments may appear
at the end of this report.


Thank you for uploading your work to CPAN.  Congratulations!
All tests were successful.

TEST RESULTS:

Below is the error stack from stage 'make test':

PERL_DL_NONLAZY=1 "/usr/home/cpan/pit/bare/perl-5.34.0/bin/perl" "-MExtUtils::Command::MM" "-MTest::Harness" "-e" "undef *Test::Harness::Switches; test_harness(0, 'blib/lib', 'blib/arch')" t/*.t
# Testing Time::Zone::Olson 0.44, Perl 5.034000, /usr/home/cpan/pit/bare/perl-5.34.0/bin/perl
t/00-load.t ........... ok
t/boilerplate.t ....... ok
t/manifest.t .......... skipped: Author tests not required for installation
t/pod-coverage.t ...... skipped: Test::Pod::Coverage 1.08 required for testing POD coverage
t/pod.t ............... skipped: Test::Pod 1.22 required for testing POD
# Checking https://raw.githubusercontent.com/unicode-org/cldr/master/common/supplemental/windowsZones.xml
# Failed to download https://raw.githubusercontent.com/unicode-org/cldr/master/common/supplemental/windowsZones.xml:500 Can't connect to raw.githubusercontent.com:443
t/windows_zones.t ..... ok
# Olson tz directory is /usr/share/zoneinfo for freebsd
# Local timezone has been determined to be Europe/London
# Local timezone was determined using /var/db/zoneinfo
# Comment for 'Australia/Melbourne' is 'Victoria'
# /usr/share/zoneinfo/Europe/London  Sun Mar 27 00:59:59 2022 UTC = Sun Mar 27 00:59:59 2022 GMT isdst=0 gmtoff=0
# /usr/share/zoneinfo/Europe/London  Sun Mar 27 01:00:00 2022 UTC = Sun Mar 27 02:00:00 2022 BST isdst=1 gmtoff=3600
# /usr/share/zoneinfo/Europe/London  Sun Oct 30 00:59:59 2022 UTC = Sun Oct 30 01:59:59 2022 BST isdst=1 gmtoff=3600
# /usr/share/zoneinfo/Europe/London  Sun Oct 30 01:00:00 2022 UTC = Sun Oct 30 01:00:00 2022 GMT isdst=0 gmtoff=0
# /usr/share/zoneinfo/Europe/London  Sun Mar 26 00:59:59 2023 UTC = Sun Mar 26 00:59:59 2023 GMT isdst=0 gmtoff=0
# /usr/share/zoneinfo/Europe/London  Sun Mar 26 01:00:00 2023 UTC = Sun Mar 26 02:00:00 2023 BST isdst=1 gmtoff=3600
# /usr/share/zoneinfo/Europe/London  Sun Oct 29 00:59:59 2023 UTC = Sun Oct 29 01:59:59 2023 BST isdst=1 gmtoff=3600
# /usr/share/zoneinfo/Europe/London  Sun Oct 29 01:00:00 2023 UTC = Sun Oct 29 01:00:00 2023 GMT isdst=0 gmtoff=0
# /usr/share/zoneinfo/Europe/London  Mon Jan 18 03:14:07 2038 UTC = Mon Jan 18 03:14:07 2038 GMT isdst=0 gmtoff=0
# /usr/share/zoneinfo/Europe/London  Tue Jan 19 03:14:07 2038 UTC = Tue Jan 19 03:14:07 2038 GMT isdst=0 gmtoff=0
# bsd test of early date:2037/04/06 16:28:15 AEST
t/zoneinfo_all.t ...... ok
# Determined timezone is Europe/London
# TZDIR has not been set
# Output of gnu date command:usage: date [-jnRu] [-d dst] [-r seconds|file] [-t west] [-v[+|-]val[ymwdHMS]]
#             [-I[date | hours | minutes | seconds]]
#             [-f fmt date | [[[[[cc]yy]mm]dd]HH]MM[.ss]] [+format]
# Output of bsd date command:2015/02/28 11:00:00
# Results of unpack:Invalid type 'q' in pack at t/zoneinfo_current.t line 67.
# Local timezone has been determined to be Europe/London
t/zoneinfo_current.t .. ok
t/zoneinfo_taint.t .... ok
t/zoneinfo_tz_env.t ... ok
All tests successful.
Files=10, Tests=3811, 37 wallclock secs ( 0.73 usr  0.30 sys + 10.83 cusr 12.11 csys = 23.97 CPU)
Result: PASS


PREREQUISITES:

Here is a list of prerequisites you specified and versions we
managed to load:

	  Module Name                        Have     Want
	  Carp                               1.52        0
	  Digest::SHA                        6.03        0
	  DirHandle                          1.05        0
	  Encode                             3.08        0
	  English                            1.11        0
	  ExtUtils::MakeMaker                7.64        0
	  Fcntl                              1.14        0
	  File::Find                         1.39        0
	  File::Spec                         3.80        0
	  File::Temp                       0.2311        0
	  FileHandle                         2.03        0
	  HTTP::Request                      6.41        0
	  LWP::Protocol::https               6.10     6.06
	  LWP::UserAgent                     6.67        0
	  Math::Int64                        0.54        0
	  POSIX                              1.97        0
	  Test::More                     1.302191        0
	  Time::Local                        1.30        0
	  XML::LibXML                      2.0208        0
	  strict                             1.12        0
	  warnings                           1.51        0

Perl module toolchain versions installed:
	Module Name                        Have
	CPANPLUS                         0.9914
	CPANPLUS::Dist::Build              0.90
	Cwd                                3.80
	ExtUtils::CBuilder             0.280236
	ExtUtils::Command                  7.64
	ExtUtils::Install                  2.20
	ExtUtils::MakeMaker                7.64
	ExtUtils::Manifest                 1.73
	ExtUtils::ParseXS                  3.44
	File::Spec                         3.80
	Module::Build                    0.4231
	Pod::Parser                           0
	Pod::Simple                        3.42
	Test2                          1.302191
	Test::Harness                      3.44
	Test::More                     1.302191
	version                          0.9929

******************************** NOTE ********************************
The comments above are created mechanically, possibly without manual
checking by the sender.  As there are many people performing automatic
tests on each upload to CPAN, it is likely that you will receive
identical messages about the same problem.

If you believe that the message is mistaken, please reply to the first
one with correction and/or additional informations, and do not take
it personally.  We appreciate your patience. :)
**********************************************************************

Additional comments:


This report was machine-generated by CPANPLUS::Dist::YACSmoke 1.08.
Powered by minismokebox version 0.68

CPANPLUS is prefering Build.PL

------------------------------
ENVIRONMENT AND OTHER CONTEXT
------------------------------

Environment variables:

    AUTOMATED_TESTING = 1
    NONINTERACTIVE_TESTING = 1
    PATH = /sbin:/bin:/usr/sbin:/usr/bin:/usr/local/sbin:/usr/local/bin:/home/cpan/bin
    PERL5LIB = /usr/home/cpan/pit/jail/PApD09UvNS/lib/perl5:/usr/home/cpan/pit/bare/conf/perl-5.34.0/.cpanplus/5.34.0/build/goFkPVCjT2/Time-Zone-Olson-0.44/blib/lib:/usr/home/cpan/pit/bare/conf/perl-5.34.0/.cpanplus/5.34.0/build/goFkPVCjT2/Time-Zone-Olson-0.44/blib/arch
    PERL5_CPANPLUS_IS_RUNNING = 74471
    PERL5_CPANPLUS_IS_VERSION = 0.9914
    PERL5_MINISMOKEBOX = 0.68
    PERL5_YACSMOKE_BASE = /usr/home/cpan/pit/bare/conf/perl-5.34.0
    PERL_EXTUTILS_AUTOINSTALL = --defaultdeps
    PERL_LOCAL_LIB_ROOT = /usr/home/cpan/pit/jail/PApD09UvNS
    PERL_MB_OPT = --install_base "/usr/home/cpan/pit/jail/PApD09UvNS"
    PERL_MM_OPT = INSTALL_BASE=/usr/home/cpan/pit/jail/PApD09UvNS
    PERL_MM_USE_DEFAULT = 1
    SHELL = /usr/local/bin/bash
    TERM = screen

Perl special variables (and OS-specific diagnostics, for MSWin32):

    Perl: $^X = /usr/home/cpan/pit/bare/perl-5.34.0/bin/perl
    UID:  $<  = 1002
    EUID: $>  = 1002
    GID:  $(  = 1002 1002
    EGID: $)  = 1002 1002


-------------------------------


--

Summary of my perl5 (revision 5 version 34 subversion 0) configuration:
   
  Platform:
    osname=freebsd
    osvers=12.3-release
    archname=i386-freebsd
    uname='freebsd ffyrc 12.3-release freebsd 12.3-release r371126 generic i386 '
    config_args='-des -Dprefix=/usr/home/cpan/pit/bare/perl-5.34.0'
    hint=recommended
    useposix=true
    d_sigaction=define
    useithreads=undef
    usemultiplicity=undef
    use64bitint=undef
    use64bitall=undef
    uselongdouble=undef
    usemymalloc=n
    default_inc_excludes_dot=define
  Compiler:
    cc='cc'
    ccflags ='-DHAS_FPSETMASK -DHAS_FLOATINGPOINT_H -fno-strict-aliasing -pipe -fstack-protector-strong -I/usr/local/include'
    optimize='-O2'
    cppflags='-DHAS_FPSETMASK -DHAS_FLOATINGPOINT_H -fno-strict-aliasing -pipe -fstack-protector-strong -I/usr/local/include'
    ccversion=''
    gccversion='FreeBSD Clang 10.0.1 (git@github.com:llvm/llvm-project.git llvmorg-10.0.1-0-gef32c611aa2)'
    gccosandvers=''
    intsize=4
    longsize=4
    ptrsize=4
    doublesize=8
    byteorder=1234
    doublekind=3
    d_longlong=define
    longlongsize=8
    d_longdbl=define
    longdblsize=12
    longdblkind=3
    ivtype='long'
    ivsize=4
    nvtype='double'
    nvsize=8
    Off_t='off_t'
    lseeksize=8
    alignbytes=4
    prototype=define
  Linker and Libraries:
    ld='cc'
    ldflags ='-Wl,-E  -fstack-protector-strong -L/usr/local/lib'
    libpth=/usr/lib /usr/local/lib /usr/lib/clang/10.0.1/lib
    libs=-lpthread -lgdbm -ldl -lm -lcrypt -lutil -lc
    perllibs=-lpthread -ldl -lm -lcrypt -lutil -lc
    libc=
    so=so
    useshrplib=false
    libperl=libperl.a
    gnulibc_version=''
  Dynamic Linking:
    dlsrc=dl_dlopen.xs
    dlext=so
    d_dlsymun=undef
    ccdlflags=' '
    cccdlflags='-DPIC -fPIC'
    lddlflags='-shared  -L/usr/local/lib -fstack-protector-strong'


Characteristics of this binary (from libperl): 
  Compile-time options:
    HAS_TIMES
    PERLIO_LAYERS
    PERL_COPY_ON_WRITE
    PERL_DONT_CREATE_GVSV
    PERL_MALLOC_WRAP
    PERL_OP_PARENT
    PERL_PRESERVE_IVUV
    USE_LARGE_FILES
    USE_LOCALE
    USE_LOCALE_COLLATE
    USE_LOCALE_CTYPE
    USE_LOCALE_NUMERIC
    USE_LOCALE_TIME
    USE_PERLIO
    USE_PERL_ATOF
  Built under freebsd
  Compiled at Dec 12 2021 09:35:02
  %ENV:
    PERL5LIB="/usr/home/cpan/pit/jail/PApD09UvNS/lib/perl5:/usr/home/cpan/pit/bare/conf/perl-5.34.0/.cpanplus/5.34.0/build/goFkPVCjT2/Time-Zone-Olson-0.44/blib/lib:/usr/home/cpan/pit/bare/conf/perl-5.34.0/.cpanplus/5.34.0/build/goFkPVCjT2/Time-Zone-Olson-0.44/blib/arch"
    PERL5_CPANPLUS_IS_RUNNING="74471"
    PERL5_CPANPLUS_IS_VERSION="0.9914"
    PERL5_MINISMOKEBOX="0.68"
    PERL5_YACSMOKE_BASE="/usr/home/cpan/pit/bare/conf/perl-5.34.0"
    PERL_EXTUTILS_AUTOINSTALL="--defaultdeps"
    PERL_LOCAL_LIB_ROOT="/usr/home/cpan/pit/jail/PApD09UvNS"
    PERL_MB_OPT="--install_base "/usr/home/cpan/pit/jail/PApD09UvNS""
    PERL_MM_OPT="INSTALL_BASE=/usr/home/cpan/pit/jail/PApD09UvNS"
    PERL_MM_USE_DEFAULT="1"
  @INC:
    /usr/home/cpan/pit/jail/PApD09UvNS/lib/perl5/5.34.0/i386-freebsd
    /usr/home/cpan/pit/jail/PApD09UvNS/lib/perl5/5.34.0
    /usr/home/cpan/pit/jail/PApD09UvNS/lib/perl5/i386-freebsd
    /usr/home/cpan/pit/jail/PApD09UvNS/lib/perl5
    /usr/home/cpan/pit/bare/conf/perl-5.34.0/.cpanplus/5.34.0/build/goFkPVCjT2/Time-Zone-Olson-0.44/blib/lib
    /usr/home/cpan/pit/bare/conf/perl-5.34.0/.cpanplus/5.34.0/build/goFkPVCjT2/Time-Zone-Olson-0.44/blib/arch
    /usr/home/cpan/pit/bare/perl-5.34.0/lib/site_perl/5.34.0/i386-freebsd
    /usr/home/cpan/pit/bare/perl-5.34.0/lib/site_perl/5.34.0
    /usr/home/cpan/pit/bare/perl-5.34.0/lib/5.34.0/i386-freebsd
    /usr/home/cpan/pit/bare/perl-5.34.0/lib/5.34.0