Back
From: metabase:user:5d3557d2-3c72-11e3-a020-0dfbcd73216e
Subject: PASS Math-Complex-1.59 v5.10.1 Mac OS X
Date: 2014-05-29T14:19:08Z
This distribution has been tested as part of the CPAN Testers
project, supporting the Perl programming language. See
http://wiki.cpantesters.org/ for more information or email
questions to cpan-testers-discuss@perl.org
--
Dear Andrew Main (Zefram),
This is a computer-generated report for Math-Complex-1.59
on perl 5.10.1, created by CPAN-Reporter-1.2011.
Thank you for uploading your work to CPAN. Congratulations!
All tests were successful.
Sections of this report:
* Tester comments
* Program output
* Prerequisites
* Environment and other context
------------------------------
TESTER COMMENTS
------------------------------
Additional comments from tester:
none provided
------------------------------
PROGRAM OUTPUT
------------------------------
Output from '/usr/bin/make test':
PERL_DL_NONLAZY=1 /Users/sno/perl5/perlbrew/perls/perl-5.10.1-thread-multi/bin/perl "-MExtUtils::Command::MM" "-MTest::Harness" "-e" "undef *Test::Harness::Switches; test_harness(0, 'blib/lib', 'blib/arch')" t/*.t
t/Complex.t ....... ok
t/pod-coverage.t .. skipped: Test::Pod::Coverage 1.00 required for testing POD coverage
t/pod.t ........... ok
t/Trig.t .......... ok
t/underbar.t ...... ok
All tests successful.
Files=5, Tests=1233, 1 wallclock secs ( 0.14 usr 0.02 sys + 0.47 cusr 0.02 csys = 0.65 CPU)
Result: PASS
------------------------------
PREREQUISITES
------------------------------
Prerequisite modules loaded:
requires:
Module Need Have
------------------- ---- --------
Config 0 0
Exporter 0 5.70
ExtUtils::MakeMaker 0 6.98
overload 0 1.07
Scalar::Util 1.11 1.38
strict 0 1.04
Test::More 0 1.001003
warnings 0 1.06
build_requires:
Module Need Have
------------------- ---- --------
ExtUtils::MakeMaker 0 6.98
configure_requires:
Module Need Have
------------------- ---- --------
ExtUtils::MakeMaker 0 6.98
------------------------------
ENVIRONMENT AND OTHER CONTEXT
------------------------------
Environment variables:
LANG = de_DE.UTF-8
PATH = /Users/sno/perl5/perlbrew/bin:/Users/sno/perl5/perlbrew/perls/perl-5.10.1-thread-multi/bin:/Users/sno/bin:/opt/pkg/bin:/opt/pkg/sbin:/usr/bin:/bin:/usr/sbin:/sbin:/usr/local/bin:/opt/X11/bin
PERL5LIB =
PERL5OPT =
PERL5_CPANPLUS_IS_RUNNING = 22598
PERL5_CPAN_IS_RUNNING = 22598
PERLBREW_BASHRC_VERSION = 0.54
PERLBREW_HOME = /Users/sno/.perlbrew
PERLBREW_MANPATH = /Users/sno/perl5/perlbrew/perls/perl-5.10.1-thread-multi/man
PERLBREW_PATH = /Users/sno/perl5/perlbrew/bin:/Users/sno/perl5/perlbrew/perls/perl-5.10.1-thread-multi/bin
PERLBREW_PERL = perl-5.10.1-thread-multi
PERLBREW_ROOT = /Users/sno/perl5/perlbrew
PERLBREW_VERSION = 0.64
SHELL = /bin/bash
TERM = xterm
TMPDIR = /var/folders/5s/sk58jrwj7jj73phc9lcx9nh80000gn/T/
Perl special variables (and OS-specific diagnostics, for MSWin32):
$^X = /Users/sno/perl5/perlbrew/perls/perl-5.10.1-thread-multi/bin/perl
$UID/$EUID = 501 / 501
$GID = 20 20 501 12 61 79 80 81 98
$EGID = 20 20 501 12 61 79 80 81 98
Perl module toolchain versions installed:
Module Have
------------------- --------
CPAN 2.05
CPAN::Meta 2.141170
Cwd 3.47
ExtUtils::CBuilder 0.280216
ExtUtils::Command 1.18
ExtUtils::Install 1.67
ExtUtils::MakeMaker 6.98
ExtUtils::Manifest 1.63
ExtUtils::ParseXS 3.24
File::Spec 3.47
JSON 2.90
JSON::PP 2.27203
Module::Build 0.4205
Module::Signature n/a
Parse::CPAN::Meta 1.4414
Test::Harness 3.30
Test::More 1.001003
YAML 0.92
YAML::Syck n/a
version 0.9908
--
Summary of my perl5 (revision 5 version 10 subversion 1) configuration:
Platform:
osname=darwin, osvers=13.2.0, archname=darwin-thread-multi-2level
uname='darwin ernie.muppets.liwing.de 13.2.0 darwin kernel version 13.2.0: thu apr 17 23:03:13 pdt 2014; root:xnu-2422.100.13~1release_x86_64 x86_64 '
config_args='-de -Dprefix=/Users/sno/perl5/perlbrew/perls/perl-5.10.1-thread-multi -Dusethreads -Dusemultiplicity -Aeval:scriptdir=/Users/sno/perl5/perlbrew/perls/perl-5.10.1-thread-multi/bin'
hint=recommended, useposix=true, d_sigaction=define
useithreads=define, usemultiplicity=define
useperlio=define, d_sfio=undef, uselargefiles=define, usesocks=undef
use64bitint=define, use64bitall=define, uselongdouble=undef
usemymalloc=n, bincompat5005=undef
Compiler:
cc='cc', ccflags ='-fno-common -DPERL_DARWIN -fno-strict-aliasing -pipe -fstack-protector',
optimize='-O3',
cppflags='-fno-common -DPERL_DARWIN -fno-strict-aliasing -pipe -fstack-protector'
ccversion='', gccversion='4.2.1 Compatible Apple LLVM 5.1 (clang-503.0.40)', gccosandvers=''
intsize=4, longsize=8, ptrsize=8, doublesize=8, byteorder=12345678
d_longlong=define, longlongsize=8, d_longdbl=define, longdblsize=16
ivtype='long', ivsize=8, nvtype='double', nvsize=8, Off_t='off_t', lseeksize=8
alignbytes=8, prototype=define
Linker and Libraries:
ld='env MACOSX_DEPLOYMENT_TARGET=10.3 cc', ldflags =' -fstack-protector'
libpth=/usr/lib
libs=-ldbm -ldl -lm -lutil -lc
perllibs=-ldl -lm -lutil -lc
libc=, so=dylib, useshrplib=false, libperl=libperl.a
gnulibc_version=''
Dynamic Linking:
dlsrc=dl_dlopen.xs, dlext=bundle, d_dlsymun=undef, ccdlflags=' '
cccdlflags=' ', lddlflags=' -bundle -undefined dynamic_lookup -fstack-protector'
Characteristics of this binary (from libperl):
Compile-time options: MULTIPLICITY PERL_DONT_CREATE_GVSV
PERL_IMPLICIT_CONTEXT PERL_MALLOC_WRAP USE_64_BIT_ALL
USE_64_BIT_INT USE_ITHREADS USE_LARGE_FILES
USE_PERLIO USE_REENTRANT_API
Built under darwin
Compiled at May 29 2014 10:37:58
%ENV:
PERL5LIB=""
PERL5OPT=""
PERL5_CPANPLUS_IS_RUNNING="22598"
PERL5_CPAN_IS_RUNNING="22598"
PERLBREW_BASHRC_VERSION="0.54"
PERLBREW_HOME="/Users/sno/.perlbrew"
PERLBREW_MANPATH="/Users/sno/perl5/perlbrew/perls/perl-5.10.1-thread-multi/man"
PERLBREW_PATH="/Users/sno/perl5/perlbrew/bin:/Users/sno/perl5/perlbrew/perls/perl-5.10.1-thread-multi/bin"
PERLBREW_PERL="perl-5.10.1-thread-multi"
PERLBREW_ROOT="/Users/sno/perl5/perlbrew"
PERLBREW_VERSION="0.64"
@INC:
/Users/sno/perl5/perlbrew/perls/perl-5.10.1-thread-multi/lib/5.10.1/darwin-thread-multi-2level
/Users/sno/perl5/perlbrew/perls/perl-5.10.1-thread-multi/lib/5.10.1
/Users/sno/perl5/perlbrew/perls/perl-5.10.1-thread-multi/lib/site_perl/5.10.1/darwin-thread-multi-2level
/Users/sno/perl5/perlbrew/perls/perl-5.10.1-thread-multi/lib/site_perl/5.10.1
.