Report for Deeme-Backend-SQLite-0.03

Back
From: metabase:user:320bfe00-2aae-11df-837a-5e0a49663a4f
Subject: PASS Deeme-Backend-SQLite-0.03 v5.24.2 GNU/Linux
Date: 2017-07-29T01:35:27Z

This distribution has been tested as part of the CPAN Testers
project, supporting the Perl programming language.  See
http://wiki.cpantesters.org/ for more information or email
questions to cpan-testers-discuss@perl.org


--
Dear Ettore Di Giacinto,

This is a computer-generated report for Deeme-Backend-SQLite-0.03
on perl 5.24.2, created by CPAN-Reporter-1.2018.

Thank you for uploading your work to CPAN.  Congratulations!
All tests were successful.

Sections of this report:

    * Tester comments
    * Program output
    * Prerequisites
    * Environment and other context

------------------------------
TESTER COMMENTS
------------------------------

Additional comments from tester:

this report is from an automated smoke testing program
and was not reviewed by a human for accuracy

------------------------------
PROGRAM OUTPUT
------------------------------

Output from './Build test':

t/01-basic.t ............ ok
Unquoted string "like" may clash with future reserved word at (eval 38) line 4.
	eval 'sub {
    use warnings;
    use strict \'refs\';
    like pop(), qr/Event "test2" failed: test2: works!/, \'right error\';
}' called at /home/sand/src/perl/repoperls/installed-perls/host/k93msid/v5.24.2/f11c/lib/site_perl/5.24.2/Deeme/Utils.pm line 10
	Deeme::Utils::_deserialize("ewogICAgdXNlIHdhcm5pbmdzOwogICAgdXNlIHN0cmljdCAncmVmcyc7CiAgI"...) called at /home/sand/src/perl/repoperls/installed-perls/host/k93msid/v5.24.2/f11c/lib/site_perl/5.24.2/Deeme/Backend/DBI.pm line 102
	Deeme::Backend::DBI::events_get(Deeme::Backend::DBI=HASH(0x563b646cecf8), "error") called at /home/sand/src/perl/repoperls/installed-perls/host/k93msid/v5.24.2/f11c/lib/site_perl/5.24.2/Deeme.pm line 27
	Deeme::emit(Deeme=HASH(0x563b646b7cf0), "error", "just") called at t/02-emitter.t line 36
	eval {...} called at t/02-emitter.t line 36
	main::__ANON__() called at /home/sand/src/perl/repoperls/installed-perls/host/k93msid/v5.24.2/f11c/lib/site_perl/5.24.2/Test/Builder.pm line 310
	eval {...} called at /home/sand/src/perl/repoperls/installed-perls/host/k93msid/v5.24.2/f11c/lib/site_perl/5.24.2/Test/Builder.pm line 310
	Test::Builder::subtest(Test::Builder=HASH(0x563b63917190), "SQLite Backend", CODE(0x563b63d61188)) called at /home/sand/src/perl/repoperls/installed-perls/host/k93msid/v5.24.2/f11c/lib/site_perl/5.24.2/Test/More.pm line 807
	Test::More::subtest("SQLite Backend", CODE(0x563b63d61188)) called at t/02-emitter.t line 91
Unquoted string "like" may clash with future reserved word at (eval 41) line 4.
	eval 'sub {
    use warnings;
    use strict \'refs\';
    like pop(), qr/Event "test2" failed: test2: works!/, \'right error\';
}' called at /home/sand/src/perl/repoperls/installed-perls/host/k93msid/v5.24.2/f11c/lib/site_perl/5.24.2/Deeme/Utils.pm line 10
	Deeme::Utils::_deserialize("ewogICAgdXNlIHdhcm5pbmdzOwogICAgdXNlIHN0cmljdCAncmVmcyc7CiAgI"...) called at /home/sand/src/perl/repoperls/installed-perls/host/k93msid/v5.24.2/f11c/lib/site_perl/5.24.2/Deeme/Backend/DBI.pm line 102
	Deeme::Backend::DBI::events_get(Deeme::Backend::DBI=HASH(0x563b646cecf8), "error") called at /home/sand/src/perl/repoperls/installed-perls/host/k93msid/v5.24.2/f11c/lib/site_perl/5.24.2/Deeme.pm line 51
	Deeme::emit_safe(Deeme=HASH(0x563b646b7cf0), "error", "works") called at t/02-emitter.t line 39
	eval {...} called at t/02-emitter.t line 39
	main::__ANON__() called at /home/sand/src/perl/repoperls/installed-perls/host/k93msid/v5.24.2/f11c/lib/site_perl/5.24.2/Test/Builder.pm line 310
	eval {...} called at /home/sand/src/perl/repoperls/installed-perls/host/k93msid/v5.24.2/f11c/lib/site_perl/5.24.2/Test/Builder.pm line 310
	Test::Builder::subtest(Test::Builder=HASH(0x563b63917190), "SQLite Backend", CODE(0x563b63d61188)) called at /home/sand/src/perl/repoperls/installed-perls/host/k93msid/v5.24.2/f11c/lib/site_perl/5.24.2/Test/More.pm line 807
	Test::More::subtest("SQLite Backend", CODE(0x563b63d61188)) called at t/02-emitter.t line 91
Unquoted string "like" may clash with future reserved word at (eval 43) line 4.
	eval 'sub {
    use warnings;
    use strict \'refs\';
    like pop(), qr/Event "test2" failed: test2: works!/, \'right error\';
}' called at /home/sand/src/perl/repoperls/installed-perls/host/k93msid/v5.24.2/f11c/lib/site_perl/5.24.2/Deeme/Utils.pm line 10
	Deeme::Utils::_deserialize("ewogICAgdXNlIHdhcm5pbmdzOwogICAgdXNlIHN0cmljdCAncmVmcyc7CiAgI"...) called at /home/sand/src/perl/repoperls/installed-perls/host/k93msid/v5.24.2/f11c/lib/site_perl/5.24.2/Deeme/Backend/DBI.pm line 102
	Deeme::Backend::DBI::events_get(Deeme::Backend::DBI=HASH(0x563b646cecf8), "error") called at /home/sand/src/perl/repoperls/installed-perls/host/k93msid/v5.24.2/f11c/lib/site_perl/5.24.2/Deeme.pm line 27
	Deeme::emit(Deeme=HASH(0x563b646b7cf0), "error", "Event \"error\" failed: works at (eval 42) line 4.\x{a}\x{9}Deeme::Util"...) called at /home/sand/src/perl/repoperls/installed-perls/host/k93msid/v5.24.2/f11c/lib/site_perl/5.24.2/Deeme.pm line 58
	Deeme::emit_safe(Deeme=HASH(0x563b646b7cf0), "error", "works") called at t/02-emitter.t line 39
	eval {...} called at t/02-emitter.t line 39
	main::__ANON__() called at /home/sand/src/perl/repoperls/installed-perls/host/k93msid/v5.24.2/f11c/lib/site_perl/5.24.2/Test/Builder.pm line 310
	eval {...} called at /home/sand/src/perl/repoperls/installed-perls/host/k93msid/v5.24.2/f11c/lib/site_perl/5.24.2/Test/Builder.pm line 310
	Test::Builder::subtest(Test::Builder=HASH(0x563b63917190), "SQLite Backend", CODE(0x563b63d61188)) called at /home/sand/src/perl/repoperls/installed-perls/host/k93msid/v5.24.2/f11c/lib/site_perl/5.24.2/Test/More.pm line 807
	Test::More::subtest("SQLite Backend", CODE(0x563b63d61188)) called at t/02-emitter.t line 91
t/02-emitter.t .......... ok
t/release-pod-syntax.t .. skipped: these tests are for release candidate testing
All tests successful.
Files=3, Tests=4,  0 wallclock secs ( 0.02 usr  0.02 sys +  0.33 cusr  0.05 csys =  0.42 CPU)
Result: PASS

------------------------------
PREREQUISITES
------------------------------

Prerequisite modules loaded:

requires:

    Module              Need     Have    
    ------------------- -------- --------
    DBD::SQLite         0        1.54    
    DBI                 0        1.636   
    Deeme               0        0.05    
    Deeme::Backend::DBI 0        0.04    
    Deeme::Obj          0        0       
    Deeme::Utils        0        0       
    feature             0        1.42    

build_requires:

    Module              Need     Have    
    ------------------- -------- --------
    Carp::Always        0        0.13    
    Test::More          0        1.302086

configure_requires:

    Module              Need     Have    
    ------------------- -------- --------
    Module::Build::Tiny 0.037    0.039   
    perl                5.008005 5.024002


------------------------------
ENVIRONMENT AND OTHER CONTEXT
------------------------------

Environment variables:

    AUTOMATED_TESTING = 1
    LANG = en_US.UTF-8
    PATH = /home/sand/bin:/usr/local/bin:/usr/bin:/bin:/usr/games:/usr/local/perl/bin:/usr/X11/bin:/sbin:/usr/sbin
    PERL5LIB = 
    PERL5OPT = 
    PERL5_CPANPLUS_IS_RUNNING = 19396
    PERL5_CPAN_IS_RUNNING = 19396
    PERL_CANARY_STABILITY_NOPROMPT = 1
    PERL_MM_USE_DEFAULT = 1
    PERL_USE_UNSAFE_INC = 1
    SHELL = /usr/bin/zsh
    TERM = screen

Perl special variables (and OS-specific diagnostics, for MSWin32):

    $^X = /home/sand/src/perl/repoperls/installed-perls/host/k93msid/v5.24.2/f11c/bin/perl
    $UID/$EUID = 1005 / 1005
    $GID = 1005 1005
    $EGID = 1005 1005

Perl module toolchain versions installed:

    Module              Have      
    ------------------- ----------
    CPAN                2.18      
    CPAN::Meta          2.150010  
    Cwd                 3.63_01   
    ExtUtils::CBuilder  0.280226  
    ExtUtils::Command   7.30      
    ExtUtils::Install   2.14      
    ExtUtils::MakeMaker 7.30      
    ExtUtils::Manifest  1.70      
    ExtUtils::ParseXS   3.31      
    File::Spec          3.63_01   
    JSON                2.94      
    JSON::PP            2.27300_01
    Module::Build       0.4224    
    Module::Signature   0.81      
    Parse::CPAN::Meta   2.150010  
    Test::Harness       3.39      
    Test::More          1.302086  
    YAML                1.23      
    YAML::Syck          1.30      
    version             0.9916    


--

Summary of my perl5 (revision 5 version 24 subversion 2) configuration:
  Derived from: eb3b805818a89c08b5564d383beddf70f69af1a3
  Platform:
    osname=linux, osvers=4.9.0-2-amd64, archname=x86_64-linux-thread-multi
    uname='linux k93msid 4.9.0-2-amd64 #1 smp debian 4.9.18-1 (2017-03-30) x86_64 gnulinux '
    config_args='-Dprefix=/home/sand/src/perl/repoperls/installed-perls/host/k93msid/v5.24.2/f11c -Dmyhostname=k93msid -Dinstallusrbinperl=n -Uversiononly -Dusedevel -des -Ui_db -Dlibswanted=cl pthread socket inet nsl gdbm dbm malloc dl ld sun m crypt sec util c cposix posix ucb BSD gdbm_compat -Duseithreads -Uuselongdouble -DDEBUGGING=-g'
    hint=recommended, useposix=true, d_sigaction=define
    useithreads=define, usemultiplicity=define
    use64bitint=define, use64bitall=define, uselongdouble=undef
    usemymalloc=n, bincompat5005=undef
  Compiler:
    cc='cc', ccflags ='-D_REENTRANT -D_GNU_SOURCE -fwrapv -fno-strict-aliasing -pipe -fstack-protector-strong -I/usr/local/include -D_LARGEFILE_SOURCE -D_FILE_OFFSET_BITS=64',
    optimize='-O2 -g',
    cppflags='-D_REENTRANT -D_GNU_SOURCE -fwrapv -fno-strict-aliasing -pipe -fstack-protector-strong -I/usr/local/include'
    ccversion='', gccversion='6.3.0 20170406', gccosandvers=''
    intsize=4, longsize=8, ptrsize=8, doublesize=8, byteorder=12345678, doublekind=3
    d_longlong=define, longlongsize=8, d_longdbl=define, longdblsize=16, longdblkind=3
    ivtype='long', ivsize=8, nvtype='double', nvsize=8, Off_t='off_t', lseeksize=8
    alignbytes=8, prototype=define
  Linker and Libraries:
    ld='cc', ldflags =' -fstack-protector-strong -L/usr/local/lib'
    libpth=/usr/local/lib /usr/lib/gcc/x86_64-linux-gnu/6/include-fixed /usr/include/x86_64-linux-gnu /usr/lib /lib/x86_64-linux-gnu /lib/../lib /usr/lib/x86_64-linux-gnu /usr/lib/../lib /lib
    libs=-lpthread -lnsl -ldl -lm -lcrypt -lutil -lc
    perllibs=-lpthread -lnsl -ldl -lm -lcrypt -lutil -lc
    libc=libc-2.24.so, so=so, useshrplib=false, libperl=libperl.a
    gnulibc_version='2.24'
  Dynamic Linking:
    dlsrc=dl_dlopen.xs, dlext=so, d_dlsymun=undef, ccdlflags='-Wl,-E'
    cccdlflags='-fPIC', lddlflags='-shared -O2 -g -L/usr/local/lib -fstack-protector-strong'


Characteristics of this binary (from libperl): 
  Compile-time options: HAS_TIMES MULTIPLICITY PERLIO_LAYERS
                        PERL_COPY_ON_WRITE PERL_DONT_CREATE_GVSV
                        PERL_HASH_FUNC_ONE_AT_A_TIME_HARD
                        PERL_IMPLICIT_CONTEXT PERL_MALLOC_WRAP
                        PERL_PRESERVE_IVUV PERL_USE_DEVEL USE_64_BIT_ALL
                        USE_64_BIT_INT USE_ITHREADS USE_LARGE_FILES
                        USE_LOCALE USE_LOCALE_COLLATE USE_LOCALE_CTYPE
                        USE_LOCALE_NUMERIC USE_LOCALE_TIME USE_PERLIO
                        USE_PERL_ATOF USE_REENTRANT_API
  Locally applied patches:
	uncommitted-changes
  Built under linux
  Compiled at Jul 19 2017 03:14:23
  %ENV:
    PERL5LIB=""
    PERL5OPT=""
    PERL5_CPANPLUS_IS_RUNNING="19396"
    PERL5_CPAN_IS_RUNNING="19396"
    PERL_CANARY_STABILITY_NOPROMPT="1"
    PERL_MM_USE_DEFAULT="1"
    PERL_USE_UNSAFE_INC="1"
  @INC:
    /home/sand/src/perl/repoperls/installed-perls/host/k93msid/v5.24.2/f11c/lib/site_perl/5.24.2/x86_64-linux-thread-multi
    /home/sand/src/perl/repoperls/installed-perls/host/k93msid/v5.24.2/f11c/lib/site_perl/5.24.2
    /home/sand/src/perl/repoperls/installed-perls/host/k93msid/v5.24.2/f11c/lib/5.24.2/x86_64-linux-thread-multi
    /home/sand/src/perl/repoperls/installed-perls/host/k93msid/v5.24.2/f11c/lib/5.24.2
    .