JSON-Any v1.40 Perl 5 v5.16.0 i386-freebsd-thread-multi-64int

Status
Pass
From
Chris Williams (BINGOS)
Dist
JSON-Any v1.40
Platform
Perl 5 v5.16.0 i386-freebsd-thread-multi-64int
Date
2024-04-18 12:50:13
ID
32e5f2e8-fd82-11ee-98b0-b3c3213a625c
This distribution has been tested as part of the CPAN Testers
project, supporting the Perl programming language.  See
http://wiki.cpantesters.org/ for more information or email
questions to cpan-testers-discuss@perl.org


--

Dear Karen Etheridge,

This is a computer-generated error report created automatically by
CPANPLUS, version 0.9914. Testers personal comments may appear
at the end of this report.


Thank you for uploading your work to CPAN.  Congratulations!
All tests were successful.

TEST RESULTS:

Below is the error stack from stage 'make test':

PERL_DL_NONLAZY=1 "/usr/home/cpan/pit/rel/perl-5.16.0/bin/perl" "-MExtUtils::Command::MM" "-MTest::Harness" "-e" "undef *Test::Harness::Switches; test_harness(0, 'blib/lib', 'blib/arch')" t/*.t
# Testing JSON::Any 1.40, Perl 5.016000, /usr/home/cpan/pit/rel/perl-5.16.0/bin/perl
t/00-load.t ............ ok
# 
# Versions for all modules listed in MYMETA.json (including optional ones):
# 
# === Configure Requires ===
# 
#     Module                       Want     Have
#     ------------------------ -------- --------
#     CPAN::Meta::Requirements 2.120620    2.131
#     ExtUtils::MakeMaker           any     7.70
#     Module::Metadata              any 1.000038
#     perl                        5.008 5.016000
# 
# === Build Requires ===
# 
#     Module              Want Have
#     ------------------- ---- ----
#     ExtUtils::MakeMaker  any 7.70
# 
# === Test Requires ===
# 
#     Module                 Want     Have
#     --------------------- ----- --------
#     Data::Dumper            any 2.135_06
#     ExtUtils::MakeMaker     any     7.70
#     File::Spec              any     3.75
#     Storable                any     3.25
#     Test::Fatal             any    0.017
#     Test::More             0.88 1.302198
#     Test::Needs             any 0.002010
#     Test::Warnings        0.009    0.033
#     Test::Without::Module   any     0.21
#     open                    any     1.10
#     perl                  5.008 5.016000
#     utf8                    any     1.09
# 
# === Test Recommends ===
# 
#     Module         Want     Have
#     ---------- -------- --------
#     CPAN::Meta 2.120900 2.150010
# 
# === Runtime Requires ===
# 
#     Module    Want     Have
#     -------- ----- --------
#     Carp       any     1.26
#     constant   any     1.23
#     perl     5.008 5.016000
#     strict     any     1.07
#     warnings   any     1.13
# 
# === Other Modules ===
# 
#     Module              Have
#     ---------------- -------
#     Cpanel::JSON::XS missing
#     Encode              3.21
#     File::Temp        0.2311
#     JSON                4.10
#     JSON::DWIW       missing
#     JSON::MaybeXS    missing
#     JSON::PP            4.16
#     JSON::Syck       missing
#     JSON::XS         missing
#     Module::Runtime    0.016
#     Pod::Coverage    missing
#     Sub::Name        missing
#     YAML             missing
#     autodie             2.10
#     constant            1.23
# 
t/00-report-prereqs.t .. ok
# Testing JSON.pm backend
t/01-JSON.t ............ ok
t/02-JSON-XS.t ......... skipped: JSON::XS not installed: Couldn't find a JSON package. Need JSON::XS at (eval 7) line 2.
t/03-JSON-DWIW.t ....... skipped: JSON::DWIW not installed: Couldn't find a JSON package. Need JSON::DWIW at (eval 7) line 2.
t/04-ENV.t ............. skipped: Cpanel::JSON::XS nor JSON::XS are installed
t/05-JSON-Syck.t ....... skipped: JSON::Syck not installed: Couldn't find a JSON package. Need JSON::Syck at (eval 7) line 2.
# Testing JSON::PP backend
t/06-JSON-PP.t ......... ok
t/07-CPanel-JSON-XS.t .. skipped: Cpanel::JSON::XS not installed: Couldn't find a JSON package. Need Cpanel::JSON::XS at (eval 7) line 2.
t/10_unicode.t ......... ok
t/11-string-escape.t ... ok
t/12-boolean.t ......... ok
t/13-no-backends.t ..... ok
t/14-deprecated.t ...... skipped: Need JSON::Syck
All tests successful.
Files=14, Tests=127,  4 wallclock secs ( 0.15 usr  0.06 sys +  2.82 cusr  1.02 csys =  4.05 CPU)
Result: PASS


PREREQUISITES:

Here is a list of prerequisites you specified and versions we
managed to load:

	  Module Name                        Have     Want
	  Carp                               1.26        0
	  Data::Dumper                   2.135_06        0
	  ExtUtils::MakeMaker                7.70        0
	  File::Spec                         3.75        0
	  Storable                           3.25        0
	  Test::Fatal                       0.017        0
	  Test::More                     1.302198     0.88
	  Test::Needs                    0.002010        0
	  Test::Warnings                    0.033    0.009
	  Test::Without::Module              0.21        0
	  constant                           1.23        0
	  open                               1.10        0
	  strict                             1.07        0
	  utf8                               1.09        0
	  warnings                           1.13        0

Perl module toolchain versions installed:
	Module Name                        Have
	CPANPLUS                         0.9914
	CPANPLUS::Dist::Build              0.90
	Cwd                                3.75
	ExtUtils::CBuilder             0.280236
	ExtUtils::Command                  7.70
	ExtUtils::Install                  2.22
	ExtUtils::MakeMaker                7.70
	ExtUtils::Manifest                 1.75
	ExtUtils::ParseXS                  3.51
	File::Spec                         3.75
	Module::Build                    0.4234
	Pod::Parser                        1.51
	Pod::Simple                        3.20
	Test2                          1.302198
	Test::Harness                      3.48
	Test::More                     1.302198
	version                          0.9930

******************************** NOTE ********************************
The comments above are created mechanically, possibly without manual
checking by the sender.  As there are many people performing automatic
tests on each upload to CPAN, it is likely that you will receive
identical messages about the same problem.

If you believe that the message is mistaken, please reply to the first
one with correction and/or additional informations, and do not take
it personally.  We appreciate your patience. :)
**********************************************************************

Additional comments:


This report was machine-generated by CPANPLUS::Dist::YACSmoke 1.08.
Powered by minismokebox version 0.68

CPANPLUS is prefering Build.PL

------------------------------
ENVIRONMENT AND OTHER CONTEXT
------------------------------

Environment variables:

    AUTOMATED_TESTING = 1
    LANG = C.UTF-8
    NONINTERACTIVE_TESTING = 1
    PATH = /sbin:/bin:/usr/sbin:/usr/bin:/usr/local/sbin:/usr/local/bin:/home/cpan/bin
    PERL5LIB = /usr/home/cpan/pit/jail/SmAt9SIqox/lib/perl5:/usr/home/cpan/pit/rel/conf/perl-5.16.0/.cpanplus/5.16.0/build/2i3N9CDNwP/JSON-Any-1.40/blib/lib:/usr/home/cpan/pit/rel/conf/perl-5.16.0/.cpanplus/5.16.0/build/2i3N9CDNwP/JSON-Any-1.40/blib/arch
    PERL5_CPANPLUS_IS_RUNNING = 25932
    PERL5_CPANPLUS_IS_VERSION = 0.9914
    PERL5_MINISMOKEBOX = 0.68
    PERL5_YACSMOKE_BASE = /usr/home/cpan/pit/rel/conf/perl-5.16.0
    PERL_EXTUTILS_AUTOINSTALL = --defaultdeps
    PERL_LOCAL_LIB_ROOT = /usr/home/cpan/pit/jail/SmAt9SIqox
    PERL_MB_OPT = --install_base "/usr/home/cpan/pit/jail/SmAt9SIqox"
    PERL_MM_OPT = INSTALL_BASE=/usr/home/cpan/pit/jail/SmAt9SIqox
    PERL_MM_USE_DEFAULT = 1
    PERL_USE_UNSAFE_INC = 1
    SHELL = /usr/local/bin/bash
    TERM = screen

Perl special variables (and OS-specific diagnostics, for MSWin32):

    Perl: $^X = /usr/home/cpan/pit/rel/perl-5.16.0/bin/perl
    UID:  $<  = 1002
    EUID: $>  = 1002
    GID:  $(  = 1002 1002
    EGID: $)  = 1002 1002


-------------------------------


--

Summary of my perl5 (revision 5 version 16 subversion 0) configuration:
   
  Platform:
    osname=freebsd, osvers=13.2-release-p8, archname=i386-freebsd-thread-multi-64int
    uname='freebsd felstain 13.2-release-p8 freebsd 13.2-release-p8 generic i386 '
    config_args='-des -Dprefix=/usr/home/cpan/pit/rel/perl-5.16.0 -Dusethreads -Duse64bitint'
    hint=recommended, useposix=true, d_sigaction=define
    useithreads=define, usemultiplicity=define
    useperlio=define, d_sfio=undef, uselargefiles=define, usesocks=undef
    use64bitint=define, use64bitall=undef, uselongdouble=undef
    usemymalloc=n, bincompat5005=undef
  Compiler:
    cc='cc', ccflags ='-DHAS_FPSETMASK -DHAS_FLOATINGPOINT_H -fno-strict-aliasing -pipe -fstack-protector -I/usr/local/include',
    optimize='-O2',
    cppflags='-DHAS_FPSETMASK -DHAS_FLOATINGPOINT_H -fno-strict-aliasing -pipe -fstack-protector -I/usr/local/include'
    ccversion='', gccversion='FreeBSD Clang 14.0.5 (https://github.com/llvm/llvm-project.git llvmorg-14.0.5-0-gc12386ae247c)', gccosandvers=''
    intsize=4, longsize=4, ptrsize=4, doublesize=8, byteorder=12345678
    d_longlong=define, longlongsize=8, d_longdbl=define, longdblsize=12
    ivtype='long long', ivsize=8, nvtype='double', nvsize=8, Off_t='off_t', lseeksize=8
    alignbytes=4, prototype=define
  Linker and Libraries:
    ld='cc', ldflags ='-pthread -Wl,-E  -fstack-protector -L/usr/local/lib'
    libpth=/usr/lib /usr/local/lib
    libs=-lgdbm -ldl -lm -lcrypt -lutil
    perllibs=-ldl -lm -lcrypt -lutil
    libc=, so=so, useshrplib=false, libperl=libperl.a
    gnulibc_version=''
  Dynamic Linking:
    dlsrc=dl_dlopen.xs, dlext=so, d_dlsymun=undef, ccdlflags=' '
    cccdlflags='-DPIC -fPIC', lddlflags='-shared  -L/usr/local/lib -fstack-protector'


Characteristics of this binary (from libperl): 
  Compile-time options: HAS_TIMES MULTIPLICITY PERLIO_LAYERS
                        PERL_DONT_CREATE_GVSV PERL_IMPLICIT_CONTEXT
                        PERL_MALLOC_WRAP PERL_PRESERVE_IVUV USE_64_BIT_INT
                        USE_ITHREADS USE_LARGE_FILES USE_LOCALE
                        USE_LOCALE_COLLATE USE_LOCALE_CTYPE
                        USE_LOCALE_NUMERIC USE_PERLIO USE_PERL_ATOF
                        USE_REENTRANT_API
  Locally applied patches:
	Devel::PatchPerl 2.08
  Built under freebsd
  Compiled at Dec 24 2023 03:01:05
  %ENV:
    PERL5LIB="/usr/home/cpan/pit/jail/SmAt9SIqox/lib/perl5:/usr/home/cpan/pit/rel/conf/perl-5.16.0/.cpanplus/5.16.0/build/2i3N9CDNwP/JSON-Any-1.40/blib/lib:/usr/home/cpan/pit/rel/conf/perl-5.16.0/.cpanplus/5.16.0/build/2i3N9CDNwP/JSON-Any-1.40/blib/arch"
    PERL5_CPANPLUS_IS_RUNNING="25932"
    PERL5_CPANPLUS_IS_VERSION="0.9914"
    PERL5_MINISMOKEBOX="0.68"
    PERL5_YACSMOKE_BASE="/usr/home/cpan/pit/rel/conf/perl-5.16.0"
    PERL_EXTUTILS_AUTOINSTALL="--defaultdeps"
    PERL_LOCAL_LIB_ROOT="/usr/home/cpan/pit/jail/SmAt9SIqox"
    PERL_MB_OPT="--install_base "/usr/home/cpan/pit/jail/SmAt9SIqox""
    PERL_MM_OPT="INSTALL_BASE=/usr/home/cpan/pit/jail/SmAt9SIqox"
    PERL_MM_USE_DEFAULT="1"
    PERL_USE_UNSAFE_INC="1"
  @INC:
    /usr/home/cpan/pit/jail/SmAt9SIqox/lib/perl5/5.16.0/i386-freebsd-thread-multi-64int
    /usr/home/cpan/pit/jail/SmAt9SIqox/lib/perl5/5.16.0
    /usr/home/cpan/pit/jail/SmAt9SIqox/lib/perl5/i386-freebsd-thread-multi-64int
    /usr/home/cpan/pit/jail/SmAt9SIqox/lib/perl5
    /usr/home/cpan/pit/rel/conf/perl-5.16.0/.cpanplus/5.16.0/build/2i3N9CDNwP/JSON-Any-1.40/blib/lib
    /usr/home/cpan/pit/rel/conf/perl-5.16.0/.cpanplus/5.16.0/build/2i3N9CDNwP/JSON-Any-1.40/blib/arch
    /usr/home/cpan/pit/rel/perl-5.16.0/lib/site_perl/5.16.0/i386-freebsd-thread-multi-64int
    /usr/home/cpan/pit/rel/perl-5.16.0/lib/site_perl/5.16.0
    /usr/home/cpan/pit/rel/perl-5.16.0/lib/5.16.0/i386-freebsd-thread-multi-64int
    /usr/home/cpan/pit/rel/perl-5.16.0/lib/5.16.0
    .