Report for HTML-Mason-1.52

Back
From: metabase:user:30f4dfbe-2aae-11df-837a-5e0a49663a4f
Subject: PASS HTML-Mason-1.52 v5.16.1 Mac OS X
Date: 2013-10-22T04:34:11Z

This distribution has been tested as part of the CPAN Testers
project, supporting the Perl programming language.  See
http://wiki.cpantesters.org/ for more information or email
questions to cpan-testers-discuss@perl.org


--
Dear Jonathan Swartz,

This is a computer-generated report for HTML-Mason-1.52
on perl 5.16.1, created by CPAN-Reporter-1.2010.

Thank you for uploading your work to CPAN.  Congratulations!
All tests were successful.

Sections of this report:

    * Tester comments
    * Program output
    * Prerequisites
    * Environment and other context

------------------------------
TESTER COMMENTS
------------------------------

Additional comments from tester:

this report is from an automated smoke testing program
and was not reviewed by a human for accuracy

------------------------------
PROGRAM OUTPUT
------------------------------

Output from '/sw/bin/make test':

PERL_DL_NONLAZY=1 /Users/hornenj/perl5/perlbrew/perls/perl-5.16.1/bin/perl "-MExtUtils::Command::MM" "-e" "test_harness(0, 'blib/lib', 'blib/arch')" t/*.t t/author-live/*.t
t/01-syntax.t ............................. ok
t/01a-comp-calls.t ........................ ok
t/02-sections.t ........................... ok
t/02a-filter.t ............................ ok
t/04-misc.t ............................... ok
t/05-request.t ............................ ok
t/05a-stack-corruption.t .................. ok
# Got warnings: Use of uninitialized value $x in addition (+) at /Users/hornenj/.cpan/build/HTML-Mason-1.52-_ePSHV/mason_tests/20432/comps/compiler/no warnings line 2.
# Got warnings: Use of uninitialized value $x in addition (+) at /Users/hornenj/.cpan/build/HTML-Mason-1.52-_ePSHV/mason_tests/20432/comps/compiler/warnings_without_autoflush line 2.
t/06-compiler.t ........................... ok
t/06a-compiler_obj.t ...................... ok
t/06b-compiler-named-subs.t ............... ok
t/06c-compiler-spaces-path.t .............. ok
t/07-interp.t ............................. ok
t/07a-interp-mcr.t ........................ ok
t/07b-interp-static-source.t .............. ok
t/09-component.t .......................... ok
t/09a-comp_content.t ...................... ok
t/10-cache.t .............................. ok
t/10a-cache-1.0x.t ........................ ok
t/10b-cache-chi.t ......................... ok
t/11-inherit.t ............................ ok
t/12-taint.t .............................. ok
t/13-errors.t ............................. ok
t/14-cgi.t ................................ ok
t/14a-fake_apache.t ....................... ok
t/15-subclass.t ........................... ok
t/17-print.t .............................. ok
t/18-leak.t ............................... ok
t/19-subrequest.t ......................... ok
t/20-plugins.t ............................ ok
t/21-escapes.t ............................ ok
t/22-path-security.t ...................... ok
t/23-leak2.t .............................. skipped: These tests require Test::Memory::Cycle to run.
t/24-tools.t .............................. ok
t/25-flush-in-content.t ................... ok
t/25-log.t ................................ ok
t/99-pod.t ................................ ok
t/author-live/apache-filter.t ............. skipped: these tests are for testing by the author
t/author-live/cgi-no-handler.t ............ skipped: these tests are for testing by the author
t/author-live/cgi-with-handler.t .......... skipped: these tests are for testing by the author
t/author-live/CGIHandler.t ................ skipped: these tests are for testing by the author
t/author-live/libapreq-no-handler.t ....... skipped: these tests are for testing by the author
t/author-live/libapreq-with-handler.t ..... skipped: these tests are for testing by the author
t/author-live/multi-conf.t ................ skipped: these tests are for testing by the author
t/author-live/no-config.t ................. skipped: these tests are for testing by the author
t/author-live/set-content-type.t .......... skipped: these tests are for testing by the author
t/author-live/single-level-server-root.t .. skipped: these tests are for testing by the author
t/author-live/taint.t ..................... skipped: these tests are for testing by the author
All tests successful.
Files=47, Tests=570, 37 wallclock secs ( 0.19 usr  0.08 sys +  6.16 cusr  0.91 csys =  7.34 CPU)
Result: PASS

------------------------------
PREREQUISITES
------------------------------

Prerequisite modules loaded:

requires:

    Module              Need Have 
    ------------------- ---- -----
    Cache::Cache        1.00 1.06 
    CGI                 2.46 3.63 
    Class::Container    0.07 0.12 
    Exception::Class    1.15 1.37 
    File::Spec          0.8  3.40 
    HTML::Entities      0    3.69 
    Log::Any            0.08 0.15 
    Params::Validate    0.70 1.08 
    Scalar::Util        1.01 1.31 

build_requires:

    Module              Need Have 
    ------------------- ---- -----
    Test::Deep          0    0.110

configure_requires:

    Module              Need Have 
    ------------------- ---- -----
    ExtUtils::MakeMaker 6.30 6.74 


------------------------------
ENVIRONMENT AND OTHER CONTEXT
------------------------------

Environment variables:

    AUTOMATED_TESTING = 1
    LC_ALL = POSIX
    LD_LIBRARY_PATH = :/net/traces01.be-md.ncbi.nlm.nih.gov/trace_software/vdb/mac/release/x86_64/lib
    PATH = /Users/hornenj/perl5/perlbrew/bin:/Users/hornenj/perl5/perlbrew/perls/perl-5.16.1/bin:/Users/hornenj/perl5/perlbrew/bin:/sw/lib/perl5/ExtUtils:/sw/bin:/sw/sbin:/am/ncbiapdata/bin:/usr/bin:/bin:/usr/X11R6/bin:/Users/hornenj/bin:/netopt/ncbi_tools/bin:/usr/local/ncbi/blast/bin:/net/traces01.be-md.ncbi.nlm.nih.gov/trace_software/vdb/mac/release/x86_64/bin
    PERL5LIB = /Users/hornenj/.cpan/build/Cache-Cache-1.06-N7K8pK/blib/arch:/Users/hornenj/.cpan/build/Cache-Cache-1.06-N7K8pK/blib/lib:/Users/hornenj/.cpan/build/Error-0.17021-bdmdLr/blib/arch:/Users/hornenj/.cpan/build/Error-0.17021-bdmdLr/blib/lib:/Users/hornenj/.cpan/build/Class-Container-0.12-NUEDnS/blib/arch:/Users/hornenj/.cpan/build/Class-Container-0.12-NUEDnS/blib/lib:/Users/hornenj/.cpan/build/File-ShareDir-Install-0.05-CdpESR/blib/arch:/Users/hornenj/.cpan/build/File-ShareDir-Install-0.05-CdpESR/blib/lib
    PERL5OPT = 
    PERL5_CPANPLUS_IS_RUNNING = 20011
    PERL5_CPAN_IS_RUNNING = 20011
    PERL5_MINISMOKEBOX = 0.56
    PERLBREW_BASHRC_VERSION = 0.66
    PERLBREW_HOME = /Users/hornenj/.perlbrew
    PERLBREW_MANPATH = /Users/hornenj/perl5/perlbrew/perls/perl-5.16.1/man
    PERLBREW_PATH = /Users/hornenj/perl5/perlbrew/bin:/Users/hornenj/perl5/perlbrew/perls/perl-5.16.1/bin
    PERLBREW_PERL = perl-5.16.1
    PERLBREW_ROOT = /Users/hornenj/perl5/perlbrew
    PERLBREW_VERSION = 0.66
    PERL_EXTUTILS_AUTOINSTALL = --defaultdeps
    PERL_MM_USE_DEFAULT = 1
    SHELL = /bin/bash
    TERM = xterm
    TMPDIR = /var/folders/pz/pd7y1qjs6s3cbk170cw50fjc000c61/T/
    VERSIONER_PERL_PREFER_32_BIT = no
    VERSIONER_PERL_VERSION = 5.12
    ac_cv_path_INTLTOOL_PERL = /usr/bin/perl

Perl special variables (and OS-specific diagnostics, for MSWin32):

    $^X = /Users/hornenj/perl5/perlbrew/perls/perl-5.16.1/bin/perl
    $UID/$EUID = 12481 / 12481
    $GID = 14 14 5344 527 241 223 206 402 12 62 204
    $EGID = 14 14 5344 527 241 223 206 402 12 62 204

Perl module toolchain versions installed:

    Module              Have    
    ------------------- --------
    CPAN                2.00    
    CPAN::Meta          2.132140
    Cwd                 3.40    
    ExtUtils::CBuilder  0.280206
    ExtUtils::Command   1.17    
    ExtUtils::Install   1.58    
    ExtUtils::MakeMaker 6.74    
    ExtUtils::Manifest  1.61    
    ExtUtils::ParseXS   3.21    
    File::Spec          3.40    
    JSON                2.59    
    JSON::PP            2.27202 
    Module::Build       0.4007  
    Module::Signature   n/a     
    Parse::CPAN::Meta   1.4405  
    Test::Harness       3.28    
    Test::More          0.98    
    YAML                0.84    
    YAML::Syck          1.27    
    version             0.9903  


--

Summary of my perl5 (revision 5 version 16 subversion 1) configuration:
   
  Platform:
    osname=darwin, osvers=12.4.0, archname=darwin-thread-multi-2level
    uname='darwin ncbimac2008.ncbi.nlm.nih.gov 12.4.0 darwin kernel version 12.4.0: wed may 1 17:57:12 pdt 2013; root:xnu-2050.24.15~1release_x86_64 x86_64 '
    config_args='-Duseithreads -Dusemultiplicity -Dinstallprefix=/Users/hornenj/perl5/perlbrew/perls/perl-5.16.1 -Dprefix=/Users/hornenj/perl5/perlbrew/perls/perl-5.16.1 -de -Accflags=-O2 -W -Wformat=2 -Wswitch -Wshadow -Wwrite-strings -Wuninitialized -Wall -pipe -mtune=native -march=native -fomit-frame-pointer -msse2 -msse -mmmx -mfpmath=sse -pedantic -D_FORTIFY_SOURCE=2 -Wpointer-arith -Wstrict-prototypes -fstack-protector -Wstack-protector -Wextra -Wbad-function-cast -Wcast-align -Wcast-qual -Wdisabled-optimization -Wendif-labels -Wfloat-equal -Wformat-nonliteral -Winline -Wmissing-declarations -Wmissing-prototypes -Wnested-externs -Wpointer-arith -Wundef -Wformat-security -ftree-vectorize -fassociative-math -ftree-vectorizer-verbose=2'
    hint=recommended, useposix=true, d_sigaction=define
    useithreads=define, usemultiplicity=define
    useperlio=define, d_sfio=undef, uselargefiles=define, usesocks=undef
    use64bitint=define, use64bitall=define, uselongdouble=undef
    usemymalloc=n, bincompat5005=undef
  Compiler:
    cc='cc', ccflags ='-fno-common -DPERL_DARWIN -O2 -W -Wformat=2 -Wswitch -Wshadow -Wwrite-strings -Wuninitialized -Wall -pipe -mtune=native -march=native -fomit-frame-pointer -msse2 -msse -mmmx -mfpmath=sse -pedantic -D_FORTIFY_SOURCE=2 -Wpointer-arith -Wstrict-prototypes -fstack-protector -Wstack-protector -Wextra -Wbad-function-cast -Wcast-align -Wcast-qual -Wdisabled-optimization -Wendif-labels -Wfloat-equal -Wformat-nonliteral -Winline -Wmissing-declarations -Wmissing-prototypes -Wnested-externs -Wpointer-arith -Wundef -Wformat-security -ftree-vectorize -fassociative-math -ftree-vectorizer-verbose=2 -fno-strict-aliasing -I/usr/local/include',
    optimize='-O3',
    cppflags='-fno-common -DPERL_DARWIN -O2 -W -Wformat=2 -Wswitch -Wshadow -Wwrite-strings -Wuninitialized -Wall -pipe -mtune=native -march=native -fomit-frame-pointer -msse2 -msse -mmmx -mfpmath=sse -pedantic -D_FORTIFY_SOURCE=2 -Wpointer-arith -Wstrict-prototypes -fstack-protector -Wstack-protector -Wextra -Wbad-function-cast -Wcast-align -Wcast-qual -Wdisabled-optimization -Wendif-labels -Wfloat-equal -Wformat-nonliteral -Winline -Wmissing-declarations -Wmissing-prototypes -Wnested-externs -Wpointer-arith -Wundef -Wformat-security -ftree-vectorize -fassociative-math -ftree-vectorizer-verbose=2 -fno-strict-aliasing -I/usr/local/include'
    ccversion='', gccversion='4.2.1 Compatible Apple LLVM 4.2 (clang-425.0.24)', gccosandvers=''
    intsize=4, longsize=8, ptrsize=8, doublesize=8, byteorder=12345678
    d_longlong=define, longlongsize=8, d_longdbl=define, longdblsize=16
    ivtype='long', ivsize=8, nvtype='double', nvsize=8, Off_t='off_t', lseeksize=8
    alignbytes=8, prototype=define
  Linker and Libraries:
    ld='env MACOSX_DEPLOYMENT_TARGET=10.3 cc', ldflags =' -fstack-protector -L/usr/local/lib'
    libpth=/usr/local/lib /usr/lib
    libs=-ldbm -ldl -lm -lutil -lc
    perllibs=-ldl -lm -lutil -lc
    libc=, so=dylib, useshrplib=false, libperl=libperl.a
    gnulibc_version=''
  Dynamic Linking:
    dlsrc=dl_dlopen.xs, dlext=bundle, d_dlsymun=undef, ccdlflags=' '
    cccdlflags=' ', lddlflags=' -bundle -undefined dynamic_lookup -L/usr/local/lib -fstack-protector'


Characteristics of this binary (from libperl): 
  Compile-time options: HAS_TIMES MULTIPLICITY PERLIO_LAYERS
                        PERL_DONT_CREATE_GVSV PERL_IMPLICIT_CONTEXT
                        PERL_MALLOC_WRAP PERL_PRESERVE_IVUV USE_64_BIT_ALL
                        USE_64_BIT_INT USE_ITHREADS USE_LARGE_FILES
                        USE_LOCALE USE_LOCALE_COLLATE USE_LOCALE_CTYPE
                        USE_LOCALE_NUMERIC USE_PERLIO USE_PERL_ATOF
                        USE_REENTRANT_API
  Built under darwin
  Compiled at Aug 20 2013 10:36:05
  %ENV:
    PERL5LIB="/Users/hornenj/.cpan/build/Cache-Cache-1.06-N7K8pK/blib/arch:/Users/hornenj/.cpan/build/Cache-Cache-1.06-N7K8pK/blib/lib:/Users/hornenj/.cpan/build/Error-0.17021-bdmdLr/blib/arch:/Users/hornenj/.cpan/build/Error-0.17021-bdmdLr/blib/lib:/Users/hornenj/.cpan/build/Class-Container-0.12-NUEDnS/blib/arch:/Users/hornenj/.cpan/build/Class-Container-0.12-NUEDnS/blib/lib:/Users/hornenj/.cpan/build/File-ShareDir-Install-0.05-CdpESR/blib/arch:/Users/hornenj/.cpan/build/File-ShareDir-Install-0.05-CdpESR/blib/lib"
    PERL5OPT=""
    PERL5_CPANPLUS_IS_RUNNING="20011"
    PERL5_CPAN_IS_RUNNING="20011"
    PERL5_MINISMOKEBOX="0.56"
    PERLBREW_BASHRC_VERSION="0.66"
    PERLBREW_HOME="/Users/hornenj/.perlbrew"
    PERLBREW_MANPATH="/Users/hornenj/perl5/perlbrew/perls/perl-5.16.1/man"
    PERLBREW_PATH="/Users/hornenj/perl5/perlbrew/bin:/Users/hornenj/perl5/perlbrew/perls/perl-5.16.1/bin"
    PERLBREW_PERL="perl-5.16.1"
    PERLBREW_ROOT="/Users/hornenj/perl5/perlbrew"
    PERLBREW_VERSION="0.66"
    PERL_EXTUTILS_AUTOINSTALL="--defaultdeps"
    PERL_MM_USE_DEFAULT="1"
  @INC:
    /Users/hornenj/.cpan/build/Cache-Cache-1.06-N7K8pK/blib/arch
    /Users/hornenj/.cpan/build/Cache-Cache-1.06-N7K8pK/blib/lib
    /Users/hornenj/.cpan/build/Error-0.17021-bdmdLr/blib/arch
    /Users/hornenj/.cpan/build/Error-0.17021-bdmdLr/blib/lib
    /Users/hornenj/.cpan/build/Class-Container-0.12-NUEDnS/blib/arch
    /Users/hornenj/.cpan/build/Class-Container-0.12-NUEDnS/blib/lib
    /Users/hornenj/.cpan/build/File-ShareDir-Install-0.05-CdpESR/blib/arch
    /Users/hornenj/.cpan/build/File-ShareDir-Install-0.05-CdpESR/blib/lib
    /Users/hornenj/perl5/perlbrew/perls/perl-5.16.1/lib/site_perl/5.16.1/darwin-thread-multi-2level
    /Users/hornenj/perl5/perlbrew/perls/perl-5.16.1/lib/site_perl/5.16.1
    /Users/hornenj/perl5/perlbrew/perls/perl-5.16.1/lib/5.16.1/darwin-thread-multi-2level
    /Users/hornenj/perl5/perlbrew/perls/perl-5.16.1/lib/5.16.1
    .