Report for HTTP-Body-1.17

Back
From: metabase:user:e0ffcb60-b036-11e2-8713-c904bda06ea8
Subject: PASS HTTP-Body-1.17 v5.16.3 GNU/Linux
Date: 2013-09-06T10:58:02Z

This distribution has been tested as part of the CPAN Testers
project, supporting the Perl programming language.  See
http://wiki.cpantesters.org/ for more information or email
questions to cpan-testers-discuss@perl.org


--
Dear GETTY,

This is a computer-generated report for HTTP-Body-1.17
on perl 5.16.3, created by App::cpanminus::reporter 0.10 (1.6914).

Thank you for uploading your work to CPAN.  Congratulations!
All tests were successful.

Sections of this report:

    * Tester comments
    * Program output
    * Prerequisites
    * Environment and other context

------------------------------
TESTER COMMENTS
------------------------------

Additional comments from tester:

none provided

------------------------------
PROGRAM OUTPUT
------------------------------

Output from '':

Building and testing HTTP-Body-1.17
cp lib/HTTP/Body/OctetStream.pm blib/lib/HTTP/Body/OctetStream.pm
cp lib/HTTP/Body/XForms.pm blib/lib/HTTP/Body/XForms.pm
cp lib/HTTP/Body/UrlEncoded.pm blib/lib/HTTP/Body/UrlEncoded.pm
cp lib/HTTP/Body.pm blib/lib/HTTP/Body.pm
cp lib/HTTP/Body/MultiPart.pm blib/lib/HTTP/Body/MultiPart.pm
cp lib/HTTP/Body/XFormsMultipart.pm blib/lib/HTTP/Body/XFormsMultipart.pm
PERL_DL_NONLAZY=1 /home/wallacer/perl5/perlbrew/perls/perl-5.16.3/bin/perl "-MExtUtils::Command::MM" "-e" "test_harness(0, 'blib/lib', 'blib/arch')" t/*.t
t/01use.t ............... ok
t/02pod.t ............... skipped: Test::Pod 1.14 required
t/03podcoverage.t ....... skipped: Test::Pod::Coverage 1.04 required
t/04critic.t ............ skipped: Critic test only for developers.
t/04multipart.t ......... ok
t/05urlencoded.t ........ ok
t/06octetstream.t ....... ok
t/07xforms.t ............ ok
t/08multipart-suffix.t .. ok
All tests successful.
Files=9, Tests=223,  2 wallclock secs ( 0.11 usr  0.05 sys +  0.88 cusr  0.51 csys =  1.55 CPU)
Result: PASS

------------------------------
PREREQUISITES
------------------------------

Prerequisite modules loaded:

    No requirements found

------------------------------
ENVIRONMENT AND OTHER CONTEXT
------------------------------

Environment variables:

    LANG = en_GB.UTF-8
    PATH = /home/wallacer/perl5/perlbrew/bin:/home/wallacer/perl5/perlbrew/perls/perl-5.16.3/bin:/usr/local/bin:/usr/bin:/bin:/usr/games
    PERLBREW_BASHRC_VERSION = 0.64
    PERLBREW_HOME = /home/wallacer/.perlbrew
    PERLBREW_MANPATH = /home/wallacer/perl5/perlbrew/perls/perl-5.16.3/man
    PERLBREW_PATH = /home/wallacer/perl5/perlbrew/bin:/home/wallacer/perl5/perlbrew/perls/perl-5.16.3/bin
    PERLBREW_PERL = perl-5.16.3
    PERLBREW_ROOT = /home/wallacer/perl5/perlbrew
    PERLBREW_VERSION = 0.64
    SHELL = /bin/bash
    TERM = screen

Perl special variables (and OS-specific diagnostics, for MSWin32):

    EGID = 100 100
    EUID = 2016
    EXECUTABLE_NAME = /home/wallacer/perl5/perlbrew/perls/perl-5.16.3/bin/perl
    GID = 100 100
    UID = 2016

Perl module toolchain versions installed:

    Module              Have    
    ------------------- --------
    CPAN                2.00    
    CPAN::Meta          2.131560
    Cwd                 3.40    
    ExtUtils::CBuilder  0.280206
    ExtUtils::Command   1.17    
    ExtUtils::Install   1.58    
    ExtUtils::MakeMaker 6.66    
    ExtUtils::Manifest  1.61    
    ExtUtils::ParseXS   3.16    
    File::Spec          3.40    
    JSON                2.59    
    JSON::PP            2.27200 
    Module::Build       0.4005  
    Module::Signature   n/a     
    Parse::CPAN::Meta   1.4404  
    Test::Harness       3.23    
    Test::More          0.98    
    YAML                n/a     
    YAML::Syck          n/a     
    version             0.99    


--

Summary of my perl5 (revision 5 version 16 subversion 3) configuration:
   
  Platform:
    osname=linux, osvers=2.6.32-5-amd64, archname=x86_64-linux
    uname='linux agaton 2.6.32-5-amd64 #1 smp sun may 6 04:00:17 utc 2012 x86_64 gnulinux '
    config_args='-de -Dprefix=/home/wallacer/perl5/perlbrew/perls/perl-5.16.3 -Aeval:scriptdir=/home/wallacer/perl5/perlbrew/perls/perl-5.16.3/bin'
    hint=recommended, useposix=true, d_sigaction=define
    useithreads=undef, usemultiplicity=undef
    useperlio=define, d_sfio=undef, uselargefiles=define, usesocks=undef
    use64bitint=define, use64bitall=define, uselongdouble=undef
    usemymalloc=n, bincompat5005=undef
  Compiler:
    cc='cc', ccflags ='-fno-strict-aliasing -pipe -fstack-protector -I/usr/local/include -D_LARGEFILE_SOURCE -D_FILE_OFFSET_BITS=64',
    optimize='-O2',
    cppflags='-fno-strict-aliasing -pipe -fstack-protector -I/usr/local/include'
    ccversion='', gccversion='4.4.5', gccosandvers=''
    intsize=4, longsize=8, ptrsize=8, doublesize=8, byteorder=12345678
    d_longlong=define, longlongsize=8, d_longdbl=define, longdblsize=16
    ivtype='long', ivsize=8, nvtype='double', nvsize=8, Off_t='off_t', lseeksize=8
    alignbytes=8, prototype=define
  Linker and Libraries:
    ld='cc', ldflags =' -fstack-protector -L/usr/local/lib'
    libpth=/usr/local/lib /lib/../lib /usr/lib/../lib /lib /usr/lib /lib64 /usr/lib64
    libs=-lnsl -ldl -lm -lcrypt -lutil -lc
    perllibs=-lnsl -ldl -lm -lcrypt -lutil -lc
    libc=/lib/libc-2.11.3.so, so=so, useshrplib=false, libperl=libperl.a
    gnulibc_version='2.11.3'
  Dynamic Linking:
    dlsrc=dl_dlopen.xs, dlext=so, d_dlsymun=undef, ccdlflags='-Wl,-E'
    cccdlflags='-fPIC', lddlflags='-shared -O2 -L/usr/local/lib -fstack-protector'


Characteristics of this binary (from libperl): 
  Compile-time options: HAS_TIMES PERLIO_LAYERS PERL_DONT_CREATE_GVSV
                        PERL_MALLOC_WRAP PERL_PRESERVE_IVUV USE_64_BIT_ALL
                        USE_64_BIT_INT USE_LARGE_FILES USE_LOCALE
                        USE_LOCALE_COLLATE USE_LOCALE_CTYPE
                        USE_LOCALE_NUMERIC USE_PERLIO USE_PERL_ATOF
  Built under linux
  Compiled at Jun 13 2013 14:45:14
  %ENV:
    PERLBREW_BASHRC_VERSION="0.64"
    PERLBREW_HOME="/home/wallacer/.perlbrew"
    PERLBREW_MANPATH="/home/wallacer/perl5/perlbrew/perls/perl-5.16.3/man"
    PERLBREW_PATH="/home/wallacer/perl5/perlbrew/bin:/home/wallacer/perl5/perlbrew/perls/perl-5.16.3/bin"
    PERLBREW_PERL="perl-5.16.3"
    PERLBREW_ROOT="/home/wallacer/perl5/perlbrew"
    PERLBREW_VERSION="0.64"
  @INC:
    /home/wallacer/perl5/perlbrew/perls/perl-5.16.3/lib/site_perl/5.16.3/x86_64-linux
    /home/wallacer/perl5/perlbrew/perls/perl-5.16.3/lib/site_perl/5.16.3
    /home/wallacer/perl5/perlbrew/perls/perl-5.16.3/lib/5.16.3/x86_64-linux
    /home/wallacer/perl5/perlbrew/perls/perl-5.16.3/lib/5.16.3
    .