Catmandu-FileStore v1.16 Perl 5 v5.39.7 aarch64-freebsd

Status
Pass
From
Slaven Rezić
Dist
Catmandu-FileStore v1.16
Platform
Perl 5 v5.39.7 aarch64-freebsd
Date
2024-02-01 08:23:38
ID
3356765a-c0db-11ee-ab13-251f6e8775ea
This distribution has been tested as part of the CPAN Testers
project, supporting the Perl programming language.  See
http://wiki.cpantesters.org/ for more information or email
questions to cpan-testers-discuss@perl.org


--
Dear Patrick Hochstenbach,

This is a computer-generated report for Catmandu-FileStore-1.16
on perl 5.39.7, created by CPAN-Reporter-1.2019.

Thank you for uploading your work to CPAN.  Congratulations!
All tests were successful.

Sections of this report:

    * Tester comments
    * Program output
    * Prerequisites
    * Environment and other context

------------------------------
TESTER COMMENTS
------------------------------

Additional comments from tester:

none provided

------------------------------
PROGRAM OUTPUT
------------------------------

Output from './Build test':

t/Catmandu-Cmd-stream.t ............... ok
t/Catmandu-DirectoryIndex-Map.t ....... ok
t/Catmandu-DirectoryIndex-Number.t .... ok
t/Catmandu-DirectoryIndex-UUID.t ...... ok
t/Catmandu-DirectoryIndex.t ........... ok
t/Catmandu-FileBag-Index.t ............ ok
t/Catmandu-FileBag.t .................. ok
t/Catmandu-FileStore.t ................ ok
t/Catmandu-Plugin-SideCar.t ........... ok
Attempt to call undefined import method with arguments ("is_string") via package "Catmandu::Util" (Perhaps you forgot to load the package?) at /usr/perl5.39.7/lib/site_perl/5.39.7/Catmandu/Error.pm line 47.
t/Catmandu-Store-File-Memory-Bag.t .... ok
t/Catmandu-Store-File-Memory-Index.t .. ok
t/Catmandu-Store-File-Memory.t ........ ok
t/Catmandu-Store-File-Multi-Bag.t ..... ok
t/Catmandu-Store-File-Multi-Index.t ... ok
t/Catmandu-Store-File-Multi.t ......... ok
t/Catmandu-Store-File-Simple-Bag.t .... ok
t/Catmandu-Store-File-Simple-Index.t .. ok
t/Catmandu-Store-File-Simple.t ........ ok
t/author-pod-syntax.t ................. skipped: these tests are for testing by the author
All tests successful.
Files=19, Tests=340,  5 wallclock secs ( 0.09 usr  0.09 sys +  3.77 cusr  0.52 csys =  4.46 CPU)
Result: PASS

------------------------------
PREREQUISITES
------------------------------

Prerequisite modules loaded:

requires:

    Module                            Need    Have    
    --------------------------------- ------- --------
    Catmandu                          1.06    1.2021  
    Clone                             0       0.46    
    Hash::Merge::Simple               0       0.051   
    IO::String                        0       1.08    
    Module::Build                     0.4229  0.4234  
    Moo                               0       2.005005
    Moo::Role                         0       2.005005
    namespace::clean                  0       0.27    
    Package::Stash                    0       0.40    
    Path::Iterator::Rule              0       1.015   
    Path::Tiny                        0       0.144   
    perl                              v5.10.1 5.039007
    URI::Escape                       0       5.21    

build_requires:

    Module                            Need    Have    
    --------------------------------- ------- --------
    App::Cmd::Tester::CaptureExternal 0       0.336   
    Cpanel::JSON::XS                  0       4.37    
    IO::Callback                      0       2.00    
    Log::Any::Adapter::Log4perl       0       0.09    
    Log::Any::Test                    1.03    1.717   
    Log::Log4perl                     0       1.57    
    Module::Build                     0.4229  0.4234  
    Role::Tiny                        0       2.002004
    Test::Deep                        0.112   1.204   
    Test::Exception                   0.43    0.43    
    Test::LWP::UserAgent              0       0.036   
    Test::More                        0.99    1.302198
    Test::Pod                         0       1.52    

configure_requires:

    Module                            Need    Have    
    --------------------------------- ------- --------
    Module::Build                     0.28    0.4234  


------------------------------
ENVIRONMENT AND OTHER CONTEXT
------------------------------

Environment variables:

    LANG = C.UTF-8
    PATH = /usr/local/bin:/usr/bin:/bin:/usr/local/sbin:/usr/sbin:/sbin:/home/cpansand/bin/sh:/home/cpansand/bin:/usr/games:/home/cpansand/devel:/home/eserte/src/srezic-misc/scripts
    PERL5LIB = /home/cpansand/.cpan/build/2024020108/IO-Callback-2.00-2/blib/arch:/home/cpansand/.cpan/build/2024020108/IO-Callback-2.00-2/blib/lib
    PERL5OPT = 
    PERL5_CPANPLUS_IS_RUNNING = 77406
    PERL5_CPAN_IS_RUNNING = 77406
    PERL5_CPAN_IS_RUNNING_IN_RECURSION = 76068,77406
    PERL_BATCH = yes
    PERL_CANARY_STABILITY_NOPROMPT = 1
    PERL_CPAN_REPORTER_CONFIG = /var/tmp/cpansmoker-1023/2024020108/cpanreporter_000_config.ini
    PERL_EXTUTILS_AUTOINSTALL = --defaultdeps
    PERL_USE_UNSAFE_INC = 1
    SHELL = /bin/sh
    TMPDIR = /var/tmp/cpansmoker-1023/2024020108

Perl special variables (and OS-specific diagnostics, for MSWin32):

    $^X = /usr/perl5.39.7/bin/perl5.39.7
    $UID/$EUID = 1023 / 1023
    $GID = 1023 1023
    $EGID = 1023 1023

Perl module toolchain versions installed:

    Module              Have    
    ------------------- --------
    CPAN                2.36    
    CPAN::Meta          2.150010
    Cwd                 3.90    
    ExtUtils::CBuilder  0.280240
    ExtUtils::Command   7.70    
    ExtUtils::Install   2.22    
    ExtUtils::MakeMaker 7.70    
    ExtUtils::Manifest  1.75    
    ExtUtils::ParseXS   3.51    
    File::Spec          3.90    
    JSON                4.10    
    JSON::PP            4.16    
    Module::Build       0.4234  
    Module::Signature   n/a     
    Parse::CPAN::Meta   2.150010
    Test2               1.302198
    Test::Harness       3.48    
    Test::More          1.302198
    YAML                1.31    
    YAML::Syck          1.34    
    version             0.9930  


--

Summary of my perl5 (revision 5 version 39 subversion 7) configuration:
   
  Platform:
    osname=freebsd
    osvers=14.0-stable
    archname=aarch64-freebsd
    uname='freebsd cloud9.bbbike.org 14.0-stable freebsd 14.0-stable #5 stable14-62f890cfb: sat jan 20 10:17:09 utc 2024 root@cloud9.bbbike.org:usrobjhomeprojectsfreebsd-srcarm64.aarch64sysgeneric arm64 '
    config_args='-ds -e -Dprefix=/usr/perl5.39.7 -Dusedevel -Dusemallocwrap=no -Dcf_email=srezic@cpan.org -Doptimize=-O2 -pipe'
    hint=recommended
    useposix=true
    d_sigaction=define
    useithreads=undef
    usemultiplicity=undef
    use64bitint=define
    use64bitall=define
    uselongdouble=undef
    usemymalloc=n
    default_inc_excludes_dot=define
  Compiler:
    cc='cc'
    ccflags ='-DHAS_FPSETMASK -DHAS_FLOATINGPOINT_H -DNO_POSIX_2008_LOCALE -fno-strict-aliasing -pipe -fstack-protector-strong -I/usr/local/include'
    optimize='-O2 -pipe'
    cppflags='-DHAS_FPSETMASK -DHAS_FLOATINGPOINT_H -DNO_POSIX_2008_LOCALE -fno-strict-aliasing -pipe -fstack-protector-strong -I/usr/local/include'
    ccversion=''
    gccversion='FreeBSD Clang 16.0.6 (https://github.com/llvm/llvm-project.git llvmorg-16.0.6-0-g7cbf1a259152)'
    gccosandvers=''
    intsize=4
    longsize=8
    ptrsize=8
    doublesize=8
    byteorder=12345678
    doublekind=3
    d_longlong=define
    longlongsize=8
    d_longdbl=define
    longdblsize=16
    longdblkind=1
    ivtype='long'
    ivsize=8
    nvtype='double'
    nvsize=8
    Off_t='off_t'
    lseeksize=8
    alignbytes=8
    prototype=define
  Linker and Libraries:
    ld='cc'
    ldflags ='-Wl,-E  -fstack-protector-strong -L/usr/local/lib'
    libpth=/usr/lib /usr/local/lib /usr/lib/clang/16/lib
    libs=-lpthread -lgdbm -ldl -lm -lcrypt -lutil -lc
    perllibs=-lpthread -ldl -lm -lcrypt -lutil -lc
    libc=
    so=so
    useshrplib=false
    libperl=libperl.a
    gnulibc_version=''
  Dynamic Linking:
    dlsrc=dl_dlopen.xs
    dlext=so
    d_dlsymun=undef
    ccdlflags=' '
    cccdlflags='-DPIC -fPIC'
    lddlflags='-shared  -L/usr/local/lib -fstack-protector-strong'


Characteristics of this binary (from libperl): 
  Compile-time options:
    HAS_LONG_DOUBLE
    HAS_STRTOLD
    HAS_TIMES
    PERLIO_LAYERS
    PERL_COPY_ON_WRITE
    PERL_DONT_CREATE_GVSV
    PERL_HASH_FUNC_SIPHASH13
    PERL_HASH_USE_SBOX32
    PERL_OP_PARENT
    PERL_PRESERVE_IVUV
    PERL_USE_DEVEL
    PERL_USE_SAFE_PUTENV
    USE_64_BIT_ALL
    USE_64_BIT_INT
    USE_LARGE_FILES
    USE_LOCALE
    USE_LOCALE_COLLATE
    USE_LOCALE_CTYPE
    USE_LOCALE_NUMERIC
    USE_LOCALE_TIME
    USE_PERLIO
    USE_PERL_ATOF
  Built under freebsd
  Compiled at Jan 20 2024 19:08:46
  %ENV:
    PERL5LIB="/home/cpansand/.cpan/build/2024020108/IO-Callback-2.00-2/blib/arch:/home/cpansand/.cpan/build/2024020108/IO-Callback-2.00-2/blib/lib"
    PERL5OPT=""
    PERL5_CPANPLUS_IS_RUNNING="77406"
    PERL5_CPAN_IS_RUNNING="77406"
    PERL5_CPAN_IS_RUNNING_IN_RECURSION="76068,77406"
    PERL_BATCH="yes"
    PERL_CANARY_STABILITY_NOPROMPT="1"
    PERL_CPAN_REPORTER_CONFIG="/var/tmp/cpansmoker-1023/2024020108/cpanreporter_000_config.ini"
    PERL_EXTUTILS_AUTOINSTALL="--defaultdeps"
    PERL_USE_UNSAFE_INC="1"
  @INC:
    /home/cpansand/.cpan/build/2024020108/IO-Callback-2.00-2/blib/arch
    /home/cpansand/.cpan/build/2024020108/IO-Callback-2.00-2/blib/lib
    /usr/perl5.39.7/lib/site_perl/5.39.7/aarch64-freebsd
    /usr/perl5.39.7/lib/site_perl/5.39.7
    /usr/perl5.39.7/lib/5.39.7/aarch64-freebsd
    /usr/perl5.39.7/lib/5.39.7
    .