Report for AnyEvent-Subprocess-1.102912

Back
From: metabase:user:320bfe00-2aae-11df-837a-5e0a49663a4f
Subject: PASS AnyEvent-Subprocess-1.102912 v5.22.2 GNU/Linux
Date: 2016-09-03T15:29:27Z

This distribution has been tested as part of the CPAN Testers
project, supporting the Perl programming language.  See
http://wiki.cpantesters.org/ for more information or email
questions to cpan-testers-discuss@perl.org


--
Dear Jonathan Rockway,

This is a computer-generated report for AnyEvent-Subprocess-1.102912
on perl 5.22.2, created by CPAN-Reporter-1.2018.

Thank you for uploading your work to CPAN.  Congratulations!
All tests were successful.

Sections of this report:

    * Tester comments
    * Program output
    * Prerequisites
    * Environment and other context

------------------------------
TESTER COMMENTS
------------------------------

Additional comments from tester:

this report is from an automated smoke testing program
and was not reviewed by a human for accuracy

------------------------------
PROGRAM OUTPUT
------------------------------

Output from '/usr/bin/make test':

PERL_DL_NONLAZY=1 "/tmp/basesmoker-reloperl-RgXw/bin/perl" "-MExtUtils::Command::MM" "-MTest::Harness" "-e" "undef *Test::Harness::Switches; test_harness(0, 'blib/lib', 'blib/arch')" t/*.t
# Using AnyEvent::Impl::EV
Passing a list of values to enum is deprecated. Enum values should be wrapped in an arrayref. at /tmp/loop_over_bdir-7400-3UHSys/AnyEvent-Subprocess-1.102912-0/blib/lib/AnyEvent/Subprocess/Types.pm line 42.
	require AnyEvent/Subprocess/Types.pm called at /tmp/loop_over_bdir-7400-3UHSys/AnyEvent-Subprocess-1.102912-0/blib/lib/AnyEvent/Subprocess/Job/Delegate/Handle.pm line 12
	AnyEvent::Subprocess::Job::Delegate::Handle::BEGIN() called at /tmp/loop_over_bdir-7400-3UHSys/AnyEvent-Subprocess-1.102912-0/blib/lib/AnyEvent/Subprocess/Types.pm line 0
	eval {...} called at /tmp/loop_over_bdir-7400-3UHSys/AnyEvent-Subprocess-1.102912-0/blib/lib/AnyEvent/Subprocess/Types.pm line 0
	require AnyEvent/Subprocess/Job/Delegate/Handle.pm called at /tmp/loop_over_bdir-7400-3UHSys/AnyEvent-Subprocess-1.102912-0/blib/lib/AnyEvent/Subprocess/DefaultDelegates.pm line 16
	AnyEvent::Subprocess::DefaultDelegates::BEGIN() called at /tmp/loop_over_bdir-7400-3UHSys/AnyEvent-Subprocess-1.102912-0/blib/lib/AnyEvent/Subprocess/Types.pm line 0
	eval {...} called at /tmp/loop_over_bdir-7400-3UHSys/AnyEvent-Subprocess-1.102912-0/blib/lib/AnyEvent/Subprocess/Types.pm line 0
	require AnyEvent/Subprocess/DefaultDelegates.pm called at /tmp/loop_over_bdir-7400-3UHSys/AnyEvent-Subprocess-1.102912-0/blib/lib/AnyEvent/Subprocess.pm line 11
	AnyEvent::Subprocess::BEGIN() called at /tmp/loop_over_bdir-7400-3UHSys/AnyEvent-Subprocess-1.102912-0/blib/lib/AnyEvent/Subprocess/Types.pm line 0
	eval {...} called at /tmp/loop_over_bdir-7400-3UHSys/AnyEvent-Subprocess-1.102912-0/blib/lib/AnyEvent/Subprocess/Types.pm line 0
	require AnyEvent/Subprocess.pm called at t/00-info.t line 9
	main::BEGIN() called at /tmp/loop_over_bdir-7400-3UHSys/AnyEvent-Subprocess-1.102912-0/blib/lib/AnyEvent/Subprocess/Types.pm line 0
	eval {...} called at /tmp/loop_over_bdir-7400-3UHSys/AnyEvent-Subprocess-1.102912-0/blib/lib/AnyEvent/Subprocess/Types.pm line 0
	eval 'package main;

#line 9 t/00-info.t
use AnyEvent::Subprocess @{$args[0]};
1;
' called at /home/sand/src/perl/repoperls/installed-perls/host/k93x64sid/v5.22.2/29a8/lib/site_perl/5.22.2/Test/More.pm line 1023
	Test::More::_eval("package main;\x{a}\x{a}#line 9 t/00-info.t\x{a}use AnyEvent::Subprocess \@"..., ARRAY(0x266f3c0)) called at /home/sand/src/perl/repoperls/installed-perls/host/k93x64sid/v5.22.2/29a8/lib/site_perl/5.22.2/Test/More.pm line 998
	Test::More::use_ok("AnyEvent::Subprocess") called at t/00-info.t line 9
	main::BEGIN() called at /tmp/loop_over_bdir-7400-3UHSys/AnyEvent-Subprocess-1.102912-0/blib/lib/AnyEvent/Subprocess/Types.pm line 0
	eval {...} called at /tmp/loop_over_bdir-7400-3UHSys/AnyEvent-Subprocess-1.102912-0/blib/lib/AnyEvent/Subprocess/Types.pm line 0
t/00-info.t ................. ok
Passing a list of values to enum is deprecated. Enum values should be wrapped in an arrayref. at /tmp/loop_over_bdir-7400-3UHSys/AnyEvent-Subprocess-1.102912-0/blib/lib/AnyEvent/Subprocess/Types.pm line 42.
	require AnyEvent/Subprocess/Types.pm called at /tmp/loop_over_bdir-7400-3UHSys/AnyEvent-Subprocess-1.102912-0/blib/lib/AnyEvent/Subprocess/Job/Delegate/Handle.pm line 12
	AnyEvent::Subprocess::Job::Delegate::Handle::BEGIN() called at /tmp/loop_over_bdir-7400-3UHSys/AnyEvent-Subprocess-1.102912-0/blib/lib/AnyEvent/Subprocess/Types.pm line 0
	eval {...} called at /tmp/loop_over_bdir-7400-3UHSys/AnyEvent-Subprocess-1.102912-0/blib/lib/AnyEvent/Subprocess/Types.pm line 0
	require AnyEvent/Subprocess/Job/Delegate/Handle.pm called at /tmp/loop_over_bdir-7400-3UHSys/AnyEvent-Subprocess-1.102912-0/blib/lib/AnyEvent/Subprocess/DefaultDelegates.pm line 16
	AnyEvent::Subprocess::DefaultDelegates::BEGIN() called at /tmp/loop_over_bdir-7400-3UHSys/AnyEvent-Subprocess-1.102912-0/blib/lib/AnyEvent/Subprocess/Types.pm line 0
	eval {...} called at /tmp/loop_over_bdir-7400-3UHSys/AnyEvent-Subprocess-1.102912-0/blib/lib/AnyEvent/Subprocess/Types.pm line 0
	require AnyEvent/Subprocess/DefaultDelegates.pm called at /tmp/loop_over_bdir-7400-3UHSys/AnyEvent-Subprocess-1.102912-0/blib/lib/AnyEvent/Subprocess.pm line 11
	AnyEvent::Subprocess::BEGIN() called at /tmp/loop_over_bdir-7400-3UHSys/AnyEvent-Subprocess-1.102912-0/blib/lib/AnyEvent/Subprocess/Types.pm line 0
	eval {...} called at /tmp/loop_over_bdir-7400-3UHSys/AnyEvent-Subprocess-1.102912-0/blib/lib/AnyEvent/Subprocess/Types.pm line 0
	require AnyEvent/Subprocess.pm called at t/basic.t line 5
	main::BEGIN() called at /tmp/loop_over_bdir-7400-3UHSys/AnyEvent-Subprocess-1.102912-0/blib/lib/AnyEvent/Subprocess/Types.pm line 0
	eval {...} called at /tmp/loop_over_bdir-7400-3UHSys/AnyEvent-Subprocess-1.102912-0/blib/lib/AnyEvent/Subprocess/Types.pm line 0
	eval 'package main;

#line 5 t/basic.t
use AnyEvent::Subprocess @{$args[0]};
1;
' called at /home/sand/src/perl/repoperls/installed-perls/host/k93x64sid/v5.22.2/29a8/lib/site_perl/5.22.2/Test/More.pm line 1023
	Test::More::_eval("package main;\x{a}\x{a}#line 5 t/basic.t\x{a}use AnyEvent::Subprocess \@{\$"..., ARRAY(0x284f4c0)) called at /home/sand/src/perl/repoperls/installed-perls/host/k93x64sid/v5.22.2/29a8/lib/site_perl/5.22.2/Test/More.pm line 998
	Test::More::use_ok("ok", "AnyEvent::Subprocess") called at t/basic.t line 5
	main::BEGIN() called at /tmp/loop_over_bdir-7400-3UHSys/AnyEvent-Subprocess-1.102912-0/blib/lib/AnyEvent/Subprocess/Types.pm line 0
	eval {...} called at /tmp/loop_over_bdir-7400-3UHSys/AnyEvent-Subprocess-1.102912-0/blib/lib/AnyEvent/Subprocess/Types.pm line 0
t/basic.t ................... ok
Passing a list of values to enum is deprecated. Enum values should be wrapped in an arrayref. at /tmp/loop_over_bdir-7400-3UHSys/AnyEvent-Subprocess-1.102912-0/blib/lib/AnyEvent/Subprocess/Types.pm line 42.
	require AnyEvent/Subprocess/Types.pm called at /tmp/loop_over_bdir-7400-3UHSys/AnyEvent-Subprocess-1.102912-0/blib/lib/AnyEvent/Subprocess/Job/Delegate/Handle.pm line 12
	AnyEvent::Subprocess::Job::Delegate::Handle::BEGIN() called at /tmp/loop_over_bdir-7400-3UHSys/AnyEvent-Subprocess-1.102912-0/blib/lib/AnyEvent/Subprocess/Types.pm line 0
	eval {...} called at /tmp/loop_over_bdir-7400-3UHSys/AnyEvent-Subprocess-1.102912-0/blib/lib/AnyEvent/Subprocess/Types.pm line 0
	require AnyEvent/Subprocess/Job/Delegate/Handle.pm called at /tmp/loop_over_bdir-7400-3UHSys/AnyEvent-Subprocess-1.102912-0/blib/lib/AnyEvent/Subprocess/DefaultDelegates.pm line 16
	AnyEvent::Subprocess::DefaultDelegates::BEGIN() called at /tmp/loop_over_bdir-7400-3UHSys/AnyEvent-Subprocess-1.102912-0/blib/lib/AnyEvent/Subprocess/Types.pm line 0
	eval {...} called at /tmp/loop_over_bdir-7400-3UHSys/AnyEvent-Subprocess-1.102912-0/blib/lib/AnyEvent/Subprocess/Types.pm line 0
	require AnyEvent/Subprocess/DefaultDelegates.pm called at /tmp/loop_over_bdir-7400-3UHSys/AnyEvent-Subprocess-1.102912-0/blib/lib/AnyEvent/Subprocess.pm line 11
	AnyEvent::Subprocess::BEGIN() called at /tmp/loop_over_bdir-7400-3UHSys/AnyEvent-Subprocess-1.102912-0/blib/lib/AnyEvent/Subprocess/Types.pm line 0
	eval {...} called at /tmp/loop_over_bdir-7400-3UHSys/AnyEvent-Subprocess-1.102912-0/blib/lib/AnyEvent/Subprocess/Types.pm line 0
	require AnyEvent/Subprocess.pm called at t/capture-basic.t line 5
	main::BEGIN() called at /tmp/loop_over_bdir-7400-3UHSys/AnyEvent-Subprocess-1.102912-0/blib/lib/AnyEvent/Subprocess/Types.pm line 0
	eval {...} called at /tmp/loop_over_bdir-7400-3UHSys/AnyEvent-Subprocess-1.102912-0/blib/lib/AnyEvent/Subprocess/Types.pm line 0
t/capture-basic.t ........... ok
Passing a list of values to enum is deprecated. Enum values should be wrapped in an arrayref. at /tmp/loop_over_bdir-7400-3UHSys/AnyEvent-Subprocess-1.102912-0/blib/lib/AnyEvent/Subprocess/Types.pm line 42.
	require AnyEvent/Subprocess/Types.pm called at /tmp/loop_over_bdir-7400-3UHSys/AnyEvent-Subprocess-1.102912-0/blib/lib/AnyEvent/Subprocess/Job/Delegate/Handle.pm line 12
	AnyEvent::Subprocess::Job::Delegate::Handle::BEGIN() called at /tmp/loop_over_bdir-7400-3UHSys/AnyEvent-Subprocess-1.102912-0/blib/lib/AnyEvent/Subprocess/Types.pm line 0
	eval {...} called at /tmp/loop_over_bdir-7400-3UHSys/AnyEvent-Subprocess-1.102912-0/blib/lib/AnyEvent/Subprocess/Types.pm line 0
	require AnyEvent/Subprocess/Job/Delegate/Handle.pm called at /tmp/loop_over_bdir-7400-3UHSys/AnyEvent-Subprocess-1.102912-0/blib/lib/AnyEvent/Subprocess/DefaultDelegates.pm line 16
	AnyEvent::Subprocess::DefaultDelegates::BEGIN() called at /tmp/loop_over_bdir-7400-3UHSys/AnyEvent-Subprocess-1.102912-0/blib/lib/AnyEvent/Subprocess/Types.pm line 0
	eval {...} called at /tmp/loop_over_bdir-7400-3UHSys/AnyEvent-Subprocess-1.102912-0/blib/lib/AnyEvent/Subprocess/Types.pm line 0
	require AnyEvent/Subprocess/DefaultDelegates.pm called at /tmp/loop_over_bdir-7400-3UHSys/AnyEvent-Subprocess-1.102912-0/blib/lib/AnyEvent/Subprocess.pm line 11
	AnyEvent::Subprocess::BEGIN() called at /tmp/loop_over_bdir-7400-3UHSys/AnyEvent-Subprocess-1.102912-0/blib/lib/AnyEvent/Subprocess/Types.pm line 0
	eval {...} called at /tmp/loop_over_bdir-7400-3UHSys/AnyEvent-Subprocess-1.102912-0/blib/lib/AnyEvent/Subprocess/Types.pm line 0
	require AnyEvent/Subprocess.pm called at t/clone.t line 5
	main::BEGIN() called at /tmp/loop_over_bdir-7400-3UHSys/AnyEvent-Subprocess-1.102912-0/blib/lib/AnyEvent/Subprocess/Types.pm line 0
	eval {...} called at /tmp/loop_over_bdir-7400-3UHSys/AnyEvent-Subprocess-1.102912-0/blib/lib/AnyEvent/Subprocess/Types.pm line 0
t/clone.t ................... ok
Passing a list of values to enum is deprecated. Enum values should be wrapped in an arrayref. at /tmp/loop_over_bdir-7400-3UHSys/AnyEvent-Subprocess-1.102912-0/blib/lib/AnyEvent/Subprocess/Types.pm line 42.
	require AnyEvent/Subprocess/Types.pm called at /tmp/loop_over_bdir-7400-3UHSys/AnyEvent-Subprocess-1.102912-0/blib/lib/AnyEvent/Subprocess/Job/Delegate/Handle.pm line 12
	AnyEvent::Subprocess::Job::Delegate::Handle::BEGIN() called at /tmp/loop_over_bdir-7400-3UHSys/AnyEvent-Subprocess-1.102912-0/blib/lib/AnyEvent/Subprocess/Types.pm line 0
	eval {...} called at /tmp/loop_over_bdir-7400-3UHSys/AnyEvent-Subprocess-1.102912-0/blib/lib/AnyEvent/Subprocess/Types.pm line 0
	require AnyEvent/Subprocess/Job/Delegate/Handle.pm called at /tmp/loop_over_bdir-7400-3UHSys/AnyEvent-Subprocess-1.102912-0/blib/lib/AnyEvent/Subprocess/DefaultDelegates.pm line 16
	AnyEvent::Subprocess::DefaultDelegates::BEGIN() called at /tmp/loop_over_bdir-7400-3UHSys/AnyEvent-Subprocess-1.102912-0/blib/lib/AnyEvent/Subprocess/Types.pm line 0
	eval {...} called at /tmp/loop_over_bdir-7400-3UHSys/AnyEvent-Subprocess-1.102912-0/blib/lib/AnyEvent/Subprocess/Types.pm line 0
	require AnyEvent/Subprocess/DefaultDelegates.pm called at /tmp/loop_over_bdir-7400-3UHSys/AnyEvent-Subprocess-1.102912-0/blib/lib/AnyEvent/Subprocess.pm line 11
	AnyEvent::Subprocess::BEGIN() called at /tmp/loop_over_bdir-7400-3UHSys/AnyEvent-Subprocess-1.102912-0/blib/lib/AnyEvent/Subprocess/Types.pm line 0
	eval {...} called at /tmp/loop_over_bdir-7400-3UHSys/AnyEvent-Subprocess-1.102912-0/blib/lib/AnyEvent/Subprocess/Types.pm line 0
	require AnyEvent/Subprocess.pm called at t/death-by-stdin.t line 5
	main::BEGIN() called at /tmp/loop_over_bdir-7400-3UHSys/AnyEvent-Subprocess-1.102912-0/blib/lib/AnyEvent/Subprocess/Types.pm line 0
	eval {...} called at /tmp/loop_over_bdir-7400-3UHSys/AnyEvent-Subprocess-1.102912-0/blib/lib/AnyEvent/Subprocess/Types.pm line 0
t/death-by-stdin.t .......... ok
Passing a list of values to enum is deprecated. Enum values should be wrapped in an arrayref. at /tmp/loop_over_bdir-7400-3UHSys/AnyEvent-Subprocess-1.102912-0/blib/lib/AnyEvent/Subprocess/Types.pm line 42.
	require AnyEvent/Subprocess/Types.pm called at /tmp/loop_over_bdir-7400-3UHSys/AnyEvent-Subprocess-1.102912-0/blib/lib/AnyEvent/Subprocess/Job/Delegate/Handle.pm line 12
	AnyEvent::Subprocess::Job::Delegate::Handle::BEGIN() called at /tmp/loop_over_bdir-7400-3UHSys/AnyEvent-Subprocess-1.102912-0/blib/lib/AnyEvent/Subprocess/Types.pm line 0
	eval {...} called at /tmp/loop_over_bdir-7400-3UHSys/AnyEvent-Subprocess-1.102912-0/blib/lib/AnyEvent/Subprocess/Types.pm line 0
	require AnyEvent/Subprocess/Job/Delegate/Handle.pm called at /tmp/loop_over_bdir-7400-3UHSys/AnyEvent-Subprocess-1.102912-0/blib/lib/AnyEvent/Subprocess/DefaultDelegates.pm line 16
	AnyEvent::Subprocess::DefaultDelegates::BEGIN() called at /tmp/loop_over_bdir-7400-3UHSys/AnyEvent-Subprocess-1.102912-0/blib/lib/AnyEvent/Subprocess/Types.pm line 0
	eval {...} called at /tmp/loop_over_bdir-7400-3UHSys/AnyEvent-Subprocess-1.102912-0/blib/lib/AnyEvent/Subprocess/Types.pm line 0
	require AnyEvent/Subprocess/DefaultDelegates.pm called at /tmp/loop_over_bdir-7400-3UHSys/AnyEvent-Subprocess-1.102912-0/blib/lib/AnyEvent/Subprocess.pm line 11
	AnyEvent::Subprocess::BEGIN() called at /tmp/loop_over_bdir-7400-3UHSys/AnyEvent-Subprocess-1.102912-0/blib/lib/AnyEvent/Subprocess/Types.pm line 0
	eval {...} called at /tmp/loop_over_bdir-7400-3UHSys/AnyEvent-Subprocess-1.102912-0/blib/lib/AnyEvent/Subprocess/Types.pm line 0
	require AnyEvent/Subprocess.pm called at /tmp/loop_over_bdir-7400-3UHSys/AnyEvent-Subprocess-1.102912-0/blib/lib/AnyEvent/Subprocess/Easy.pm line 10
	AnyEvent::Subprocess::Easy::BEGIN() called at /tmp/loop_over_bdir-7400-3UHSys/AnyEvent-Subprocess-1.102912-0/blib/lib/AnyEvent/Subprocess/Types.pm line 0
	eval {...} called at /tmp/loop_over_bdir-7400-3UHSys/AnyEvent-Subprocess-1.102912-0/blib/lib/AnyEvent/Subprocess/Types.pm line 0
	require AnyEvent/Subprocess/Easy.pm called at t/easy-qx.t line 6
	main::BEGIN() called at /tmp/loop_over_bdir-7400-3UHSys/AnyEvent-Subprocess-1.102912-0/blib/lib/AnyEvent/Subprocess/Types.pm line 0
	eval {...} called at /tmp/loop_over_bdir-7400-3UHSys/AnyEvent-Subprocess-1.102912-0/blib/lib/AnyEvent/Subprocess/Types.pm line 0
# Sat Sep  3 17:29:06 CEST 2016
# The 'failed' message you are about to see is good.
Failed to exec 'I CAN HAZ CHEZBURGER?': No such file or directory at /tmp/loop_over_bdir-7400-3UHSys/AnyEvent-Subprocess-1.102912-0/blib/lib/AnyEvent/Subprocess/Types.pm line 36.
t/easy-qx.t ................. ok
Passing a list of values to enum is deprecated. Enum values should be wrapped in an arrayref. at /tmp/loop_over_bdir-7400-3UHSys/AnyEvent-Subprocess-1.102912-0/blib/lib/AnyEvent/Subprocess/Types.pm line 42.
	require AnyEvent/Subprocess/Types.pm called at /tmp/loop_over_bdir-7400-3UHSys/AnyEvent-Subprocess-1.102912-0/blib/lib/AnyEvent/Subprocess/Job/Delegate/Handle.pm line 12
	AnyEvent::Subprocess::Job::Delegate::Handle::BEGIN() called at /tmp/loop_over_bdir-7400-3UHSys/AnyEvent-Subprocess-1.102912-0/blib/lib/AnyEvent/Subprocess/Types.pm line 0
	eval {...} called at /tmp/loop_over_bdir-7400-3UHSys/AnyEvent-Subprocess-1.102912-0/blib/lib/AnyEvent/Subprocess/Types.pm line 0
	require AnyEvent/Subprocess/Job/Delegate/Handle.pm called at /tmp/loop_over_bdir-7400-3UHSys/AnyEvent-Subprocess-1.102912-0/blib/lib/AnyEvent/Subprocess/DefaultDelegates.pm line 16
	AnyEvent::Subprocess::DefaultDelegates::BEGIN() called at /tmp/loop_over_bdir-7400-3UHSys/AnyEvent-Subprocess-1.102912-0/blib/lib/AnyEvent/Subprocess/Types.pm line 0
	eval {...} called at /tmp/loop_over_bdir-7400-3UHSys/AnyEvent-Subprocess-1.102912-0/blib/lib/AnyEvent/Subprocess/Types.pm line 0
	require AnyEvent/Subprocess/DefaultDelegates.pm called at /tmp/loop_over_bdir-7400-3UHSys/AnyEvent-Subprocess-1.102912-0/blib/lib/AnyEvent/Subprocess.pm line 11
	AnyEvent::Subprocess::BEGIN() called at /tmp/loop_over_bdir-7400-3UHSys/AnyEvent-Subprocess-1.102912-0/blib/lib/AnyEvent/Subprocess/Types.pm line 0
	eval {...} called at /tmp/loop_over_bdir-7400-3UHSys/AnyEvent-Subprocess-1.102912-0/blib/lib/AnyEvent/Subprocess/Types.pm line 0
	require AnyEvent/Subprocess.pm called at t/exit-code.t line 5
	main::BEGIN() called at /tmp/loop_over_bdir-7400-3UHSys/AnyEvent-Subprocess-1.102912-0/blib/lib/AnyEvent/Subprocess/Types.pm line 0
	eval {...} called at /tmp/loop_over_bdir-7400-3UHSys/AnyEvent-Subprocess-1.102912-0/blib/lib/AnyEvent/Subprocess/Types.pm line 0
t/exit-code.t ............... ok
Passing a list of values to enum is deprecated. Enum values should be wrapped in an arrayref. at /tmp/loop_over_bdir-7400-3UHSys/AnyEvent-Subprocess-1.102912-0/blib/lib/AnyEvent/Subprocess/Types.pm line 42.
	require AnyEvent/Subprocess/Types.pm called at /tmp/loop_over_bdir-7400-3UHSys/AnyEvent-Subprocess-1.102912-0/blib/lib/AnyEvent/Subprocess/Job/Delegate/Handle.pm line 12
	AnyEvent::Subprocess::Job::Delegate::Handle::BEGIN() called at /tmp/loop_over_bdir-7400-3UHSys/AnyEvent-Subprocess-1.102912-0/blib/lib/AnyEvent/Subprocess/Types.pm line 0
	eval {...} called at /tmp/loop_over_bdir-7400-3UHSys/AnyEvent-Subprocess-1.102912-0/blib/lib/AnyEvent/Subprocess/Types.pm line 0
	require AnyEvent/Subprocess/Job/Delegate/Handle.pm called at /tmp/loop_over_bdir-7400-3UHSys/AnyEvent-Subprocess-1.102912-0/blib/lib/AnyEvent/Subprocess/DefaultDelegates.pm line 16
	AnyEvent::Subprocess::DefaultDelegates::BEGIN() called at /tmp/loop_over_bdir-7400-3UHSys/AnyEvent-Subprocess-1.102912-0/blib/lib/AnyEvent/Subprocess/Types.pm line 0
	eval {...} called at /tmp/loop_over_bdir-7400-3UHSys/AnyEvent-Subprocess-1.102912-0/blib/lib/AnyEvent/Subprocess/Types.pm line 0
	require AnyEvent/Subprocess/DefaultDelegates.pm called at /tmp/loop_over_bdir-7400-3UHSys/AnyEvent-Subprocess-1.102912-0/blib/lib/AnyEvent/Subprocess.pm line 11
	AnyEvent::Subprocess::BEGIN() called at /tmp/loop_over_bdir-7400-3UHSys/AnyEvent-Subprocess-1.102912-0/blib/lib/AnyEvent/Subprocess/Types.pm line 0
	eval {...} called at /tmp/loop_over_bdir-7400-3UHSys/AnyEvent-Subprocess-1.102912-0/blib/lib/AnyEvent/Subprocess/Types.pm line 0
	require AnyEvent/Subprocess.pm called at t/external-process.t line 5
	main::BEGIN() called at /tmp/loop_over_bdir-7400-3UHSys/AnyEvent-Subprocess-1.102912-0/blib/lib/AnyEvent/Subprocess/Types.pm line 0
	eval {...} called at /tmp/loop_over_bdir-7400-3UHSys/AnyEvent-Subprocess-1.102912-0/blib/lib/AnyEvent/Subprocess/Types.pm line 0
t/external-process.t ........ ok
Passing a list of values to enum is deprecated. Enum values should be wrapped in an arrayref. at /tmp/loop_over_bdir-7400-3UHSys/AnyEvent-Subprocess-1.102912-0/blib/lib/AnyEvent/Subprocess/Types.pm line 42.
	require AnyEvent/Subprocess/Types.pm called at /tmp/loop_over_bdir-7400-3UHSys/AnyEvent-Subprocess-1.102912-0/blib/lib/AnyEvent/Subprocess/Job/Delegate/Handle.pm line 12
	AnyEvent::Subprocess::Job::Delegate::Handle::BEGIN() called at /tmp/loop_over_bdir-7400-3UHSys/AnyEvent-Subprocess-1.102912-0/blib/lib/AnyEvent/Subprocess/Types.pm line 0
	eval {...} called at /tmp/loop_over_bdir-7400-3UHSys/AnyEvent-Subprocess-1.102912-0/blib/lib/AnyEvent/Subprocess/Types.pm line 0
	require AnyEvent/Subprocess/Job/Delegate/Handle.pm called at /tmp/loop_over_bdir-7400-3UHSys/AnyEvent-Subprocess-1.102912-0/blib/lib/AnyEvent/Subprocess/DefaultDelegates.pm line 16
	AnyEvent::Subprocess::DefaultDelegates::BEGIN() called at /tmp/loop_over_bdir-7400-3UHSys/AnyEvent-Subprocess-1.102912-0/blib/lib/AnyEvent/Subprocess/Types.pm line 0
	eval {...} called at /tmp/loop_over_bdir-7400-3UHSys/AnyEvent-Subprocess-1.102912-0/blib/lib/AnyEvent/Subprocess/Types.pm line 0
	require AnyEvent/Subprocess/DefaultDelegates.pm called at /tmp/loop_over_bdir-7400-3UHSys/AnyEvent-Subprocess-1.102912-0/blib/lib/AnyEvent/Subprocess.pm line 11
	AnyEvent::Subprocess::BEGIN() called at /tmp/loop_over_bdir-7400-3UHSys/AnyEvent-Subprocess-1.102912-0/blib/lib/AnyEvent/Subprocess/Types.pm line 0
	eval {...} called at /tmp/loop_over_bdir-7400-3UHSys/AnyEvent-Subprocess-1.102912-0/blib/lib/AnyEvent/Subprocess/Types.pm line 0
	require AnyEvent/Subprocess.pm called at t/handle-leftovers.t line 5
	main::BEGIN() called at /tmp/loop_over_bdir-7400-3UHSys/AnyEvent-Subprocess-1.102912-0/blib/lib/AnyEvent/Subprocess/Types.pm line 0
	eval {...} called at /tmp/loop_over_bdir-7400-3UHSys/AnyEvent-Subprocess-1.102912-0/blib/lib/AnyEvent/Subprocess/Types.pm line 0
t/handle-leftovers.t ........ ok
Passing a list of values to enum is deprecated. Enum values should be wrapped in an arrayref. at /tmp/loop_over_bdir-7400-3UHSys/AnyEvent-Subprocess-1.102912-0/blib/lib/AnyEvent/Subprocess/Types.pm line 42.
	require AnyEvent/Subprocess/Types.pm called at /tmp/loop_over_bdir-7400-3UHSys/AnyEvent-Subprocess-1.102912-0/blib/lib/AnyEvent/Subprocess/Job/Delegate/Handle.pm line 12
	AnyEvent::Subprocess::Job::Delegate::Handle::BEGIN() called at /tmp/loop_over_bdir-7400-3UHSys/AnyEvent-Subprocess-1.102912-0/blib/lib/AnyEvent/Subprocess/Types.pm line 0
	eval {...} called at /tmp/loop_over_bdir-7400-3UHSys/AnyEvent-Subprocess-1.102912-0/blib/lib/AnyEvent/Subprocess/Types.pm line 0
	require AnyEvent/Subprocess/Job/Delegate/Handle.pm called at /tmp/loop_over_bdir-7400-3UHSys/AnyEvent-Subprocess-1.102912-0/blib/lib/AnyEvent/Subprocess/DefaultDelegates.pm line 16
	AnyEvent::Subprocess::DefaultDelegates::BEGIN() called at /tmp/loop_over_bdir-7400-3UHSys/AnyEvent-Subprocess-1.102912-0/blib/lib/AnyEvent/Subprocess/Types.pm line 0
	eval {...} called at /tmp/loop_over_bdir-7400-3UHSys/AnyEvent-Subprocess-1.102912-0/blib/lib/AnyEvent/Subprocess/Types.pm line 0
	require AnyEvent/Subprocess/DefaultDelegates.pm called at /tmp/loop_over_bdir-7400-3UHSys/AnyEvent-Subprocess-1.102912-0/blib/lib/AnyEvent/Subprocess.pm line 11
	AnyEvent::Subprocess::BEGIN() called at /tmp/loop_over_bdir-7400-3UHSys/AnyEvent-Subprocess-1.102912-0/blib/lib/AnyEvent/Subprocess/Types.pm line 0
	eval {...} called at /tmp/loop_over_bdir-7400-3UHSys/AnyEvent-Subprocess-1.102912-0/blib/lib/AnyEvent/Subprocess/Types.pm line 0
	require AnyEvent/Subprocess.pm called at t/kill.t line 5
	main::BEGIN() called at /tmp/loop_over_bdir-7400-3UHSys/AnyEvent-Subprocess-1.102912-0/blib/lib/AnyEvent/Subprocess/Types.pm line 0
	eval {...} called at /tmp/loop_over_bdir-7400-3UHSys/AnyEvent-Subprocess-1.102912-0/blib/lib/AnyEvent/Subprocess/Types.pm line 0
t/kill.t .................... ok
Passing a list of values to enum is deprecated. Enum values should be wrapped in an arrayref. at /tmp/loop_over_bdir-7400-3UHSys/AnyEvent-Subprocess-1.102912-0/blib/lib/AnyEvent/Subprocess/Types.pm line 42.
	require AnyEvent/Subprocess/Types.pm called at /tmp/loop_over_bdir-7400-3UHSys/AnyEvent-Subprocess-1.102912-0/blib/lib/AnyEvent/Subprocess/Job/Delegate/Handle.pm line 12
	AnyEvent::Subprocess::Job::Delegate::Handle::BEGIN() called at /tmp/loop_over_bdir-7400-3UHSys/AnyEvent-Subprocess-1.102912-0/blib/lib/AnyEvent/Subprocess/Types.pm line 0
	eval {...} called at /tmp/loop_over_bdir-7400-3UHSys/AnyEvent-Subprocess-1.102912-0/blib/lib/AnyEvent/Subprocess/Types.pm line 0
	require AnyEvent/Subprocess/Job/Delegate/Handle.pm called at /tmp/loop_over_bdir-7400-3UHSys/AnyEvent-Subprocess-1.102912-0/blib/lib/AnyEvent/Subprocess/DefaultDelegates.pm line 16
	AnyEvent::Subprocess::DefaultDelegates::BEGIN() called at /tmp/loop_over_bdir-7400-3UHSys/AnyEvent-Subprocess-1.102912-0/blib/lib/AnyEvent/Subprocess/Types.pm line 0
	eval {...} called at /tmp/loop_over_bdir-7400-3UHSys/AnyEvent-Subprocess-1.102912-0/blib/lib/AnyEvent/Subprocess/Types.pm line 0
	require AnyEvent/Subprocess/DefaultDelegates.pm called at /tmp/loop_over_bdir-7400-3UHSys/AnyEvent-Subprocess-1.102912-0/blib/lib/AnyEvent/Subprocess.pm line 11
	AnyEvent::Subprocess::BEGIN() called at /tmp/loop_over_bdir-7400-3UHSys/AnyEvent-Subprocess-1.102912-0/blib/lib/AnyEvent/Subprocess/Types.pm line 0
	eval {...} called at /tmp/loop_over_bdir-7400-3UHSys/AnyEvent-Subprocess-1.102912-0/blib/lib/AnyEvent/Subprocess/Types.pm line 0
	require AnyEvent/Subprocess.pm called at t/monitorhandle.t line 5
	main::BEGIN() called at /tmp/loop_over_bdir-7400-3UHSys/AnyEvent-Subprocess-1.102912-0/blib/lib/AnyEvent/Subprocess/Types.pm line 0
	eval {...} called at /tmp/loop_over_bdir-7400-3UHSys/AnyEvent-Subprocess-1.102912-0/blib/lib/AnyEvent/Subprocess/Types.pm line 0
t/monitorhandle.t ........... ok
Passing a list of values to enum is deprecated. Enum values should be wrapped in an arrayref. at /tmp/loop_over_bdir-7400-3UHSys/AnyEvent-Subprocess-1.102912-0/blib/lib/AnyEvent/Subprocess/Types.pm line 42.
	require AnyEvent/Subprocess/Types.pm called at /tmp/loop_over_bdir-7400-3UHSys/AnyEvent-Subprocess-1.102912-0/blib/lib/AnyEvent/Subprocess/Done.pm line 9
	AnyEvent::Subprocess::Done::BEGIN() called at /tmp/loop_over_bdir-7400-3UHSys/AnyEvent-Subprocess-1.102912-0/blib/lib/AnyEvent/Subprocess/Types.pm line 0
	eval {...} called at /tmp/loop_over_bdir-7400-3UHSys/AnyEvent-Subprocess-1.102912-0/blib/lib/AnyEvent/Subprocess/Types.pm line 0
	require AnyEvent/Subprocess/Done.pm called at t/negative-one.t line 4
	main::BEGIN() called at /tmp/loop_over_bdir-7400-3UHSys/AnyEvent-Subprocess-1.102912-0/blib/lib/AnyEvent/Subprocess/Types.pm line 0
	eval {...} called at /tmp/loop_over_bdir-7400-3UHSys/AnyEvent-Subprocess-1.102912-0/blib/lib/AnyEvent/Subprocess/Types.pm line 0
t/negative-one.t ............ ok
Passing a list of values to enum is deprecated. Enum values should be wrapped in an arrayref. at /tmp/loop_over_bdir-7400-3UHSys/AnyEvent-Subprocess-1.102912-0/blib/lib/AnyEvent/Subprocess/Types.pm line 42.
	require AnyEvent/Subprocess/Types.pm called at /tmp/loop_over_bdir-7400-3UHSys/AnyEvent-Subprocess-1.102912-0/blib/lib/AnyEvent/Subprocess/Job/Delegate/Handle.pm line 12
	AnyEvent::Subprocess::Job::Delegate::Handle::BEGIN() called at /tmp/loop_over_bdir-7400-3UHSys/AnyEvent-Subprocess-1.102912-0/blib/lib/AnyEvent/Subprocess/Types.pm line 0
	eval {...} called at /tmp/loop_over_bdir-7400-3UHSys/AnyEvent-Subprocess-1.102912-0/blib/lib/AnyEvent/Subprocess/Types.pm line 0
	require AnyEvent/Subprocess/Job/Delegate/Handle.pm called at /tmp/loop_over_bdir-7400-3UHSys/AnyEvent-Subprocess-1.102912-0/blib/lib/AnyEvent/Subprocess/DefaultDelegates.pm line 16
	AnyEvent::Subprocess::DefaultDelegates::BEGIN() called at /tmp/loop_over_bdir-7400-3UHSys/AnyEvent-Subprocess-1.102912-0/blib/lib/AnyEvent/Subprocess/Types.pm line 0
	eval {...} called at /tmp/loop_over_bdir-7400-3UHSys/AnyEvent-Subprocess-1.102912-0/blib/lib/AnyEvent/Subprocess/Types.pm line 0
	require AnyEvent/Subprocess/DefaultDelegates.pm called at /tmp/loop_over_bdir-7400-3UHSys/AnyEvent-Subprocess-1.102912-0/blib/lib/AnyEvent/Subprocess.pm line 11
	AnyEvent::Subprocess::BEGIN() called at /tmp/loop_over_bdir-7400-3UHSys/AnyEvent-Subprocess-1.102912-0/blib/lib/AnyEvent/Subprocess/Types.pm line 0
	eval {...} called at /tmp/loop_over_bdir-7400-3UHSys/AnyEvent-Subprocess-1.102912-0/blib/lib/AnyEvent/Subprocess/Types.pm line 0
	require AnyEvent/Subprocess.pm called at t/open-to-fd.t line 5
	main::BEGIN() called at /tmp/loop_over_bdir-7400-3UHSys/AnyEvent-Subprocess-1.102912-0/blib/lib/AnyEvent/Subprocess/Types.pm line 0
	eval {...} called at /tmp/loop_over_bdir-7400-3UHSys/AnyEvent-Subprocess-1.102912-0/blib/lib/AnyEvent/Subprocess/Types.pm line 0
t/open-to-fd.t .............. ok
Passing a list of values to enum is deprecated. Enum values should be wrapped in an arrayref. at /tmp/loop_over_bdir-7400-3UHSys/AnyEvent-Subprocess-1.102912-0/blib/lib/AnyEvent/Subprocess/Types.pm line 42.
	require AnyEvent/Subprocess/Types.pm called at /tmp/loop_over_bdir-7400-3UHSys/AnyEvent-Subprocess-1.102912-0/blib/lib/AnyEvent/Subprocess/Job/Delegate/Handle.pm line 12
	AnyEvent::Subprocess::Job::Delegate::Handle::BEGIN() called at /tmp/loop_over_bdir-7400-3UHSys/AnyEvent-Subprocess-1.102912-0/blib/lib/AnyEvent/Subprocess/Types.pm line 0
	eval {...} called at /tmp/loop_over_bdir-7400-3UHSys/AnyEvent-Subprocess-1.102912-0/blib/lib/AnyEvent/Subprocess/Types.pm line 0
	require AnyEvent/Subprocess/Job/Delegate/Handle.pm called at /tmp/loop_over_bdir-7400-3UHSys/AnyEvent-Subprocess-1.102912-0/blib/lib/AnyEvent/Subprocess/DefaultDelegates.pm line 16
	AnyEvent::Subprocess::DefaultDelegates::BEGIN() called at /tmp/loop_over_bdir-7400-3UHSys/AnyEvent-Subprocess-1.102912-0/blib/lib/AnyEvent/Subprocess/Types.pm line 0
	eval {...} called at /tmp/loop_over_bdir-7400-3UHSys/AnyEvent-Subprocess-1.102912-0/blib/lib/AnyEvent/Subprocess/Types.pm line 0
	require AnyEvent/Subprocess/DefaultDelegates.pm called at /tmp/loop_over_bdir-7400-3UHSys/AnyEvent-Subprocess-1.102912-0/blib/lib/AnyEvent/Subprocess.pm line 11
	AnyEvent::Subprocess::BEGIN() called at /tmp/loop_over_bdir-7400-3UHSys/AnyEvent-Subprocess-1.102912-0/blib/lib/AnyEvent/Subprocess/Types.pm line 0
	eval {...} called at /tmp/loop_over_bdir-7400-3UHSys/AnyEvent-Subprocess-1.102912-0/blib/lib/AnyEvent/Subprocess/Types.pm line 0
	require AnyEvent/Subprocess.pm called at t/pty-basic.t line 5
	main::BEGIN() called at /tmp/loop_over_bdir-7400-3UHSys/AnyEvent-Subprocess-1.102912-0/blib/lib/AnyEvent/Subprocess/Types.pm line 0
	eval {...} called at /tmp/loop_over_bdir-7400-3UHSys/AnyEvent-Subprocess-1.102912-0/blib/lib/AnyEvent/Subprocess/Types.pm line 0
t/pty-basic.t ............... ok
Passing a list of values to enum is deprecated. Enum values should be wrapped in an arrayref. at /tmp/loop_over_bdir-7400-3UHSys/AnyEvent-Subprocess-1.102912-0/blib/lib/AnyEvent/Subprocess/Types.pm line 42.
	require AnyEvent/Subprocess/Types.pm called at /tmp/loop_over_bdir-7400-3UHSys/AnyEvent-Subprocess-1.102912-0/blib/lib/AnyEvent/Subprocess/Job/Delegate/Handle.pm line 12
	AnyEvent::Subprocess::Job::Delegate::Handle::BEGIN() called at /tmp/loop_over_bdir-7400-3UHSys/AnyEvent-Subprocess-1.102912-0/blib/lib/AnyEvent/Subprocess/Types.pm line 0
	eval {...} called at /tmp/loop_over_bdir-7400-3UHSys/AnyEvent-Subprocess-1.102912-0/blib/lib/AnyEvent/Subprocess/Types.pm line 0
	require AnyEvent/Subprocess/Job/Delegate/Handle.pm called at /tmp/loop_over_bdir-7400-3UHSys/AnyEvent-Subprocess-1.102912-0/blib/lib/AnyEvent/Subprocess/DefaultDelegates.pm line 16
	AnyEvent::Subprocess::DefaultDelegates::BEGIN() called at /tmp/loop_over_bdir-7400-3UHSys/AnyEvent-Subprocess-1.102912-0/blib/lib/AnyEvent/Subprocess/Types.pm line 0
	eval {...} called at /tmp/loop_over_bdir-7400-3UHSys/AnyEvent-Subprocess-1.102912-0/blib/lib/AnyEvent/Subprocess/Types.pm line 0
	require AnyEvent/Subprocess/DefaultDelegates.pm called at /tmp/loop_over_bdir-7400-3UHSys/AnyEvent-Subprocess-1.102912-0/blib/lib/AnyEvent/Subprocess.pm line 11
	AnyEvent::Subprocess::BEGIN() called at /tmp/loop_over_bdir-7400-3UHSys/AnyEvent-Subprocess-1.102912-0/blib/lib/AnyEvent/Subprocess/Types.pm line 0
	eval {...} called at /tmp/loop_over_bdir-7400-3UHSys/AnyEvent-Subprocess-1.102912-0/blib/lib/AnyEvent/Subprocess/Types.pm line 0
	require AnyEvent/Subprocess.pm called at t/pty-control.t line 4
	main::BEGIN() called at /tmp/loop_over_bdir-7400-3UHSys/AnyEvent-Subprocess-1.102912-0/blib/lib/AnyEvent/Subprocess/Types.pm line 0
	eval {...} called at /tmp/loop_over_bdir-7400-3UHSys/AnyEvent-Subprocess-1.102912-0/blib/lib/AnyEvent/Subprocess/Types.pm line 0
t/pty-control.t ............. ok
t/release-pod-syntax.t ...... skipped: these tests are for release candidate testing
Passing a list of values to enum is deprecated. Enum values should be wrapped in an arrayref. at /tmp/loop_over_bdir-7400-3UHSys/AnyEvent-Subprocess-1.102912-0/blib/lib/AnyEvent/Subprocess/Types.pm line 42.
	require AnyEvent/Subprocess/Types.pm called at /tmp/loop_over_bdir-7400-3UHSys/AnyEvent-Subprocess-1.102912-0/blib/lib/AnyEvent/Subprocess/Job/Delegate/Handle.pm line 12
	AnyEvent::Subprocess::Job::Delegate::Handle::BEGIN() called at /tmp/loop_over_bdir-7400-3UHSys/AnyEvent-Subprocess-1.102912-0/blib/lib/AnyEvent/Subprocess/Types.pm line 0
	eval {...} called at /tmp/loop_over_bdir-7400-3UHSys/AnyEvent-Subprocess-1.102912-0/blib/lib/AnyEvent/Subprocess/Types.pm line 0
	require AnyEvent/Subprocess/Job/Delegate/Handle.pm called at /tmp/loop_over_bdir-7400-3UHSys/AnyEvent-Subprocess-1.102912-0/blib/lib/AnyEvent/Subprocess/DefaultDelegates.pm line 16
	AnyEvent::Subprocess::DefaultDelegates::BEGIN() called at /tmp/loop_over_bdir-7400-3UHSys/AnyEvent-Subprocess-1.102912-0/blib/lib/AnyEvent/Subprocess/Types.pm line 0
	eval {...} called at /tmp/loop_over_bdir-7400-3UHSys/AnyEvent-Subprocess-1.102912-0/blib/lib/AnyEvent/Subprocess/Types.pm line 0
	require AnyEvent/Subprocess/DefaultDelegates.pm called at /tmp/loop_over_bdir-7400-3UHSys/AnyEvent-Subprocess-1.102912-0/blib/lib/AnyEvent/Subprocess.pm line 11
	AnyEvent::Subprocess::BEGIN() called at /tmp/loop_over_bdir-7400-3UHSys/AnyEvent-Subprocess-1.102912-0/blib/lib/AnyEvent/Subprocess/Types.pm line 0
	eval {...} called at /tmp/loop_over_bdir-7400-3UHSys/AnyEvent-Subprocess-1.102912-0/blib/lib/AnyEvent/Subprocess/Types.pm line 0
	require AnyEvent/Subprocess.pm called at t/socket.t line 5
	main::BEGIN() called at /tmp/loop_over_bdir-7400-3UHSys/AnyEvent-Subprocess-1.102912-0/blib/lib/AnyEvent/Subprocess/Types.pm line 0
	eval {...} called at /tmp/loop_over_bdir-7400-3UHSys/AnyEvent-Subprocess-1.102912-0/blib/lib/AnyEvent/Subprocess/Types.pm line 0
t/socket.t .................. ok
Passing a list of values to enum is deprecated. Enum values should be wrapped in an arrayref. at /tmp/loop_over_bdir-7400-3UHSys/AnyEvent-Subprocess-1.102912-0/blib/lib/AnyEvent/Subprocess/Types.pm line 42.
	require AnyEvent/Subprocess/Types.pm called at /tmp/loop_over_bdir-7400-3UHSys/AnyEvent-Subprocess-1.102912-0/blib/lib/AnyEvent/Subprocess/Job/Delegate/Handle.pm line 12
	AnyEvent::Subprocess::Job::Delegate::Handle::BEGIN() called at /tmp/loop_over_bdir-7400-3UHSys/AnyEvent-Subprocess-1.102912-0/blib/lib/AnyEvent/Subprocess/Types.pm line 0
	eval {...} called at /tmp/loop_over_bdir-7400-3UHSys/AnyEvent-Subprocess-1.102912-0/blib/lib/AnyEvent/Subprocess/Types.pm line 0
	require AnyEvent/Subprocess/Job/Delegate/Handle.pm called at /tmp/loop_over_bdir-7400-3UHSys/AnyEvent-Subprocess-1.102912-0/blib/lib/AnyEvent/Subprocess/DefaultDelegates.pm line 16
	AnyEvent::Subprocess::DefaultDelegates::BEGIN() called at /tmp/loop_over_bdir-7400-3UHSys/AnyEvent-Subprocess-1.102912-0/blib/lib/AnyEvent/Subprocess/Types.pm line 0
	eval {...} called at /tmp/loop_over_bdir-7400-3UHSys/AnyEvent-Subprocess-1.102912-0/blib/lib/AnyEvent/Subprocess/Types.pm line 0
	require AnyEvent/Subprocess/DefaultDelegates.pm called at /tmp/loop_over_bdir-7400-3UHSys/AnyEvent-Subprocess-1.102912-0/blib/lib/AnyEvent/Subprocess.pm line 11
	AnyEvent::Subprocess::BEGIN() called at /tmp/loop_over_bdir-7400-3UHSys/AnyEvent-Subprocess-1.102912-0/blib/lib/AnyEvent/Subprocess/Types.pm line 0
	eval {...} called at /tmp/loop_over_bdir-7400-3UHSys/AnyEvent-Subprocess-1.102912-0/blib/lib/AnyEvent/Subprocess/Types.pm line 0
	require AnyEvent/Subprocess.pm called at /tmp/loop_over_bdir-7400-3UHSys/AnyEvent-Subprocess-1.102912-0/blib/lib/AnyEvent/Subprocess/Easy.pm line 10
	AnyEvent::Subprocess::Easy::BEGIN() called at /tmp/loop_over_bdir-7400-3UHSys/AnyEvent-Subprocess-1.102912-0/blib/lib/AnyEvent/Subprocess/Types.pm line 0
	eval {...} called at /tmp/loop_over_bdir-7400-3UHSys/AnyEvent-Subprocess-1.102912-0/blib/lib/AnyEvent/Subprocess/Types.pm line 0
	require AnyEvent/Subprocess/Easy.pm called at t/system.t line 5
	main::BEGIN() called at /tmp/loop_over_bdir-7400-3UHSys/AnyEvent-Subprocess-1.102912-0/blib/lib/AnyEvent/Subprocess/Types.pm line 0
	eval {...} called at /tmp/loop_over_bdir-7400-3UHSys/AnyEvent-Subprocess-1.102912-0/blib/lib/AnyEvent/Subprocess/Types.pm line 0
t/system.t .................. ok
Passing a list of values to enum is deprecated. Enum values should be wrapped in an arrayref. at /tmp/loop_over_bdir-7400-3UHSys/AnyEvent-Subprocess-1.102912-0/blib/lib/AnyEvent/Subprocess/Types.pm line 42.
	require AnyEvent/Subprocess/Types.pm called at /tmp/loop_over_bdir-7400-3UHSys/AnyEvent-Subprocess-1.102912-0/blib/lib/AnyEvent/Subprocess/Job/Delegate/Handle.pm line 12
	AnyEvent::Subprocess::Job::Delegate::Handle::BEGIN() called at /tmp/loop_over_bdir-7400-3UHSys/AnyEvent-Subprocess-1.102912-0/blib/lib/AnyEvent/Subprocess/Types.pm line 0
	eval {...} called at /tmp/loop_over_bdir-7400-3UHSys/AnyEvent-Subprocess-1.102912-0/blib/lib/AnyEvent/Subprocess/Types.pm line 0
	require AnyEvent/Subprocess/Job/Delegate/Handle.pm called at /tmp/loop_over_bdir-7400-3UHSys/AnyEvent-Subprocess-1.102912-0/blib/lib/AnyEvent/Subprocess/DefaultDelegates.pm line 16
	AnyEvent::Subprocess::DefaultDelegates::BEGIN() called at /tmp/loop_over_bdir-7400-3UHSys/AnyEvent-Subprocess-1.102912-0/blib/lib/AnyEvent/Subprocess/Types.pm line 0
	eval {...} called at /tmp/loop_over_bdir-7400-3UHSys/AnyEvent-Subprocess-1.102912-0/blib/lib/AnyEvent/Subprocess/Types.pm line 0
	require AnyEvent/Subprocess/DefaultDelegates.pm called at /tmp/loop_over_bdir-7400-3UHSys/AnyEvent-Subprocess-1.102912-0/blib/lib/AnyEvent/Subprocess.pm line 11
	AnyEvent::Subprocess::BEGIN() called at /tmp/loop_over_bdir-7400-3UHSys/AnyEvent-Subprocess-1.102912-0/blib/lib/AnyEvent/Subprocess/Types.pm line 0
	eval {...} called at /tmp/loop_over_bdir-7400-3UHSys/AnyEvent-Subprocess-1.102912-0/blib/lib/AnyEvent/Subprocess/Types.pm line 0
	require AnyEvent/Subprocess.pm called at t/timeout.t line 5
	main::BEGIN() called at /tmp/loop_over_bdir-7400-3UHSys/AnyEvent-Subprocess-1.102912-0/blib/lib/AnyEvent/Subprocess/Types.pm line 0
	eval {...} called at /tmp/loop_over_bdir-7400-3UHSys/AnyEvent-Subprocess-1.102912-0/blib/lib/AnyEvent/Subprocess/Types.pm line 0
t/timeout.t ................. ok
Passing a list of values to enum is deprecated. Enum values should be wrapped in an arrayref. at /tmp/loop_over_bdir-7400-3UHSys/AnyEvent-Subprocess-1.102912-0/blib/lib/AnyEvent/Subprocess/Types.pm line 42.
	require AnyEvent/Subprocess/Types.pm called at /tmp/loop_over_bdir-7400-3UHSys/AnyEvent-Subprocess-1.102912-0/blib/lib/AnyEvent/Subprocess/Job/Delegate/Handle.pm line 12
	AnyEvent::Subprocess::Job::Delegate::Handle::BEGIN() called at /tmp/loop_over_bdir-7400-3UHSys/AnyEvent-Subprocess-1.102912-0/blib/lib/AnyEvent/Subprocess/Types.pm line 0
	eval {...} called at /tmp/loop_over_bdir-7400-3UHSys/AnyEvent-Subprocess-1.102912-0/blib/lib/AnyEvent/Subprocess/Types.pm line 0
	require AnyEvent/Subprocess/Job/Delegate/Handle.pm called at /tmp/loop_over_bdir-7400-3UHSys/AnyEvent-Subprocess-1.102912-0/blib/lib/AnyEvent/Subprocess/DefaultDelegates.pm line 16
	AnyEvent::Subprocess::DefaultDelegates::BEGIN() called at /tmp/loop_over_bdir-7400-3UHSys/AnyEvent-Subprocess-1.102912-0/blib/lib/AnyEvent/Subprocess/Types.pm line 0
	eval {...} called at /tmp/loop_over_bdir-7400-3UHSys/AnyEvent-Subprocess-1.102912-0/blib/lib/AnyEvent/Subprocess/Types.pm line 0
	require AnyEvent/Subprocess/DefaultDelegates.pm called at /tmp/loop_over_bdir-7400-3UHSys/AnyEvent-Subprocess-1.102912-0/blib/lib/AnyEvent/Subprocess.pm line 11
	AnyEvent::Subprocess::BEGIN() called at /tmp/loop_over_bdir-7400-3UHSys/AnyEvent-Subprocess-1.102912-0/blib/lib/AnyEvent/Subprocess/Types.pm line 0
	eval {...} called at /tmp/loop_over_bdir-7400-3UHSys/AnyEvent-Subprocess-1.102912-0/blib/lib/AnyEvent/Subprocess/Types.pm line 0
	require AnyEvent/Subprocess.pm called at t/trivial.t line 4
	main::BEGIN() called at /tmp/loop_over_bdir-7400-3UHSys/AnyEvent-Subprocess-1.102912-0/blib/lib/AnyEvent/Subprocess/Types.pm line 0
	eval {...} called at /tmp/loop_over_bdir-7400-3UHSys/AnyEvent-Subprocess-1.102912-0/blib/lib/AnyEvent/Subprocess/Types.pm line 0
t/trivial.t ................. ok
Passing a list of values to enum is deprecated. Enum values should be wrapped in an arrayref. at /tmp/loop_over_bdir-7400-3UHSys/AnyEvent-Subprocess-1.102912-0/blib/lib/AnyEvent/Subprocess/Types.pm line 42.
	require AnyEvent/Subprocess/Types.pm called at /tmp/loop_over_bdir-7400-3UHSys/AnyEvent-Subprocess-1.102912-0/blib/lib/AnyEvent/Subprocess/Job/Delegate/Handle.pm line 12
	AnyEvent::Subprocess::Job::Delegate::Handle::BEGIN() called at /tmp/loop_over_bdir-7400-3UHSys/AnyEvent-Subprocess-1.102912-0/blib/lib/AnyEvent/Subprocess/Types.pm line 0
	eval {...} called at /tmp/loop_over_bdir-7400-3UHSys/AnyEvent-Subprocess-1.102912-0/blib/lib/AnyEvent/Subprocess/Types.pm line 0
	require AnyEvent/Subprocess/Job/Delegate/Handle.pm called at /tmp/loop_over_bdir-7400-3UHSys/AnyEvent-Subprocess-1.102912-0/blib/lib/AnyEvent/Subprocess/DefaultDelegates.pm line 16
	AnyEvent::Subprocess::DefaultDelegates::BEGIN() called at /tmp/loop_over_bdir-7400-3UHSys/AnyEvent-Subprocess-1.102912-0/blib/lib/AnyEvent/Subprocess/Types.pm line 0
	eval {...} called at /tmp/loop_over_bdir-7400-3UHSys/AnyEvent-Subprocess-1.102912-0/blib/lib/AnyEvent/Subprocess/Types.pm line 0
	require AnyEvent/Subprocess/DefaultDelegates.pm called at /tmp/loop_over_bdir-7400-3UHSys/AnyEvent-Subprocess-1.102912-0/blib/lib/AnyEvent/Subprocess.pm line 11
	AnyEvent::Subprocess::BEGIN() called at /tmp/loop_over_bdir-7400-3UHSys/AnyEvent-Subprocess-1.102912-0/blib/lib/AnyEvent/Subprocess/Types.pm line 0
	eval {...} called at /tmp/loop_over_bdir-7400-3UHSys/AnyEvent-Subprocess-1.102912-0/blib/lib/AnyEvent/Subprocess/Types.pm line 0
	require AnyEvent/Subprocess.pm called at t/userhooks.t line 5
	main::BEGIN() called at /tmp/loop_over_bdir-7400-3UHSys/AnyEvent-Subprocess-1.102912-0/blib/lib/AnyEvent/Subprocess/Types.pm line 0
	eval {...} called at /tmp/loop_over_bdir-7400-3UHSys/AnyEvent-Subprocess-1.102912-0/blib/lib/AnyEvent/Subprocess/Types.pm line 0
t/userhooks.t ............... ok
Passing a list of values to enum is deprecated. Enum values should be wrapped in an arrayref. at /tmp/loop_over_bdir-7400-3UHSys/AnyEvent-Subprocess-1.102912-0/blib/lib/AnyEvent/Subprocess/Types.pm line 42.
	require AnyEvent/Subprocess/Types.pm called at /tmp/loop_over_bdir-7400-3UHSys/AnyEvent-Subprocess-1.102912-0/blib/lib/AnyEvent/Subprocess/Job/Delegate/Handle.pm line 12
	AnyEvent::Subprocess::Job::Delegate::Handle::BEGIN() called at /tmp/loop_over_bdir-7400-3UHSys/AnyEvent-Subprocess-1.102912-0/blib/lib/AnyEvent/Subprocess/Types.pm line 0
	eval {...} called at /tmp/loop_over_bdir-7400-3UHSys/AnyEvent-Subprocess-1.102912-0/blib/lib/AnyEvent/Subprocess/Types.pm line 0
	require AnyEvent/Subprocess/Job/Delegate/Handle.pm called at /tmp/loop_over_bdir-7400-3UHSys/AnyEvent-Subprocess-1.102912-0/blib/lib/AnyEvent/Subprocess/DefaultDelegates.pm line 16
	AnyEvent::Subprocess::DefaultDelegates::BEGIN() called at /tmp/loop_over_bdir-7400-3UHSys/AnyEvent-Subprocess-1.102912-0/blib/lib/AnyEvent/Subprocess/Types.pm line 0
	eval {...} called at /tmp/loop_over_bdir-7400-3UHSys/AnyEvent-Subprocess-1.102912-0/blib/lib/AnyEvent/Subprocess/Types.pm line 0
	require AnyEvent/Subprocess/DefaultDelegates.pm called at /tmp/loop_over_bdir-7400-3UHSys/AnyEvent-Subprocess-1.102912-0/blib/lib/AnyEvent/Subprocess.pm line 11
	AnyEvent::Subprocess::BEGIN() called at /tmp/loop_over_bdir-7400-3UHSys/AnyEvent-Subprocess-1.102912-0/blib/lib/AnyEvent/Subprocess/Types.pm line 0
	eval {...} called at /tmp/loop_over_bdir-7400-3UHSys/AnyEvent-Subprocess-1.102912-0/blib/lib/AnyEvent/Subprocess/Types.pm line 0
	require AnyEvent/Subprocess.pm called at t/watchers-are-destroyed.t line 7
	main::BEGIN() called at /tmp/loop_over_bdir-7400-3UHSys/AnyEvent-Subprocess-1.102912-0/blib/lib/AnyEvent/Subprocess/Types.pm line 0
	eval {...} called at /tmp/loop_over_bdir-7400-3UHSys/AnyEvent-Subprocess-1.102912-0/blib/lib/AnyEvent/Subprocess/Types.pm line 0
t/watchers-are-destroyed.t .. ok
All tests successful.

Test Summary Report
-------------------
t/negative-one.t          (Wstat: 0 Tests: 5 Failed: 0)
  TODO passed:   1
Files=22, Tests=116, 15 wallclock secs ( 0.03 usr  0.10 sys +  8.79 cusr  1.44 csys = 10.36 CPU)
Result: PASS

------------------------------
PREREQUISITES
------------------------------

Prerequisite modules loaded:

requires:

    Module                      Need Have    
    --------------------------- ---- --------
    AnyEvent                    0    7.12    
    AnyEvent::Handle            0    7.12    
    AnyEvent::Util              0    7.12    
    Carp                        0    1.38    
    EV                          4.0  4.22    
    Event::Join                 0.05 0.06    
    IO::Pty                     0    1.12    
    JSON                        2    2.90    
    Moose                       1.15 2.1805  
    Moose::Role                 0    2.1805  
    MooseX::Clone               0    0.06    
    MooseX::Role::Parameterized 0    1.09    
    MooseX::StrictConstructor   0    0.19    
    MooseX::Types               0    0.46    
    MooseX::Types::Moose        0    0.46    
    MooseX::Types::Signal       0    1.101932
    namespace::autoclean        0    0.28    
    namespace::clean            0    0.27    
    POSIX                       0    1.53_01 
    Sub::Exporter               0    0.987   
    Try::Tiny                   0    0.27    

build_requires:

    Module                      Need Have    
    --------------------------- ---- --------
    ok                          0    1.302052
    Scalar::Util                0    1.45    
    Test::Exception             0    0.43    
    Test::More                  0    1.302052

configure_requires:

    Module                      Need Have    
    --------------------------- ---- --------
    ExtUtils::MakeMaker         6.31 7.24    


------------------------------
ENVIRONMENT AND OTHER CONTEXT
------------------------------

Environment variables:

    AUTOMATED_TESTING = 1
    LANG = C
    PATH = /home/sand/bin:/usr/local/bin:/usr/bin:/bin:/usr/games:/usr/local/perl/bin:/usr/X11/bin:/sbin:/usr/sbin
    PERL = /tmp/basesmoker-reloperl-RgXw/bin/perl
    PERL5LIB = 
    PERL5OPT = 
    PERL5_CPANPLUS_IS_RUNNING = 22357
    PERL5_CPAN_IS_RUNNING = 22357
    PERL_CANARY_STABILITY_NOPROMPT = 1
    PERL_MM_USE_DEFAULT = 1
    SHELL = /usr/bin/zsh
    TERM = screen

Perl special variables (and OS-specific diagnostics, for MSWin32):

    $^X = /tmp/basesmoker-reloperl-RgXw/bin/perl
    $UID/$EUID = 1005 / 1005
    $GID = 1005 1005
    $EGID = 1005 1005

Perl module toolchain versions installed:

    Module              Have    
    ------------------- --------
    CPAN                2.15    
    CPAN::Meta          2.150010
    Cwd                 3.62    
    ExtUtils::CBuilder  0.280224
    ExtUtils::Command   7.24    
    ExtUtils::Install   2.04    
    ExtUtils::MakeMaker 7.24    
    ExtUtils::Manifest  1.70    
    ExtUtils::ParseXS   3.28    
    File::Spec          3.62    
    JSON                2.90    
    JSON::PP            2.27300 
    Module::Build       0.4220  
    Module::Signature   0.80    
    Parse::CPAN::Meta   2.150010
    Test::Harness       3.36    
    Test::More          1.302052
    YAML                1.18    
    YAML::Syck          1.29    
    version             0.9917  


--

Summary of my perl5 (revision 5 version 22 subversion 2) configuration:
  Commit id: 9cbffb38735712e3a34e6f537892b6ef06fb815f
  Platform:
    osname=linux, osvers=4.7.0-1-amd64, archname=x86_64-linux
    uname='linux k93x64sid 4.7.0-1-amd64 #1 smp debian 4.7.2-1 (2016-08-28) x86_64 gnulinux '
    config_args='-Dprefix=/home/sand/src/perl/repoperls/installed-perls/host/k93x64sid/v5.22.2/29a8 -Dmyhostname=k93x64sid -Dinstallusrbinperl=n -Uversiononly -Dusedevel -des -Ui_db -Dlibswanted=cl pthread socket inet nsl gdbm dbm malloc dl ld sun m crypt sec util c cposix posix ucb BSD gdbm_compat -Uuseithreads -Uuselongdouble -DDEBUGGING=-g'
    hint=recommended, useposix=true, d_sigaction=define
    useithreads=undef, usemultiplicity=undef
    use64bitint=define, use64bitall=define, uselongdouble=undef
    usemymalloc=n, bincompat5005=undef
  Compiler:
    cc='cc', ccflags ='-fwrapv -fno-strict-aliasing -pipe -fstack-protector-strong -I/usr/local/include -D_LARGEFILE_SOURCE -D_FILE_OFFSET_BITS=64',
    optimize='-O2 -g',
    cppflags='-fwrapv -fno-strict-aliasing -pipe -fstack-protector-strong -I/usr/local/include'
    ccversion='', gccversion='6.2.0 20160830', gccosandvers=''
    intsize=4, longsize=8, ptrsize=8, doublesize=8, byteorder=12345678, doublekind=3
    d_longlong=define, longlongsize=8, d_longdbl=define, longdblsize=16, longdblkind=3
    ivtype='long', ivsize=8, nvtype='double', nvsize=8, Off_t='off_t', lseeksize=8
    alignbytes=8, prototype=define
  Linker and Libraries:
    ld='cc', ldflags =' -fstack-protector-strong -L/usr/local/lib'
    libpth=/usr/local/lib /usr/lib/gcc/x86_64-linux-gnu/6/include-fixed /usr/include/x86_64-linux-gnu /usr/lib /lib/x86_64-linux-gnu /lib/../lib /usr/lib/x86_64-linux-gnu /usr/lib/../lib /lib
    libs=-lpthread -lnsl -ldl -lm -lcrypt -lutil -lc
    perllibs=-lpthread -lnsl -ldl -lm -lcrypt -lutil -lc
    libc=libc-2.24.so, so=so, useshrplib=false, libperl=libperl.a
    gnulibc_version='2.24'
  Dynamic Linking:
    dlsrc=dl_dlopen.xs, dlext=so, d_dlsymun=undef, ccdlflags='-Wl,-E'
    cccdlflags='-fPIC', lddlflags='-shared -O2 -g -L/usr/local/lib -fstack-protector-strong'


Characteristics of this binary (from libperl): 
  Compile-time options: HAS_TIMES PERLIO_LAYERS PERL_DONT_CREATE_GVSV
                        PERL_HASH_FUNC_ONE_AT_A_TIME_HARD PERL_MALLOC_WRAP
                        PERL_NEW_COPY_ON_WRITE PERL_PRESERVE_IVUV
                        PERL_USE_DEVEL USE_64_BIT_ALL USE_64_BIT_INT
                        USE_LARGE_FILES USE_LOCALE USE_LOCALE_COLLATE
                        USE_LOCALE_CTYPE USE_LOCALE_NUMERIC USE_LOCALE_TIME
                        USE_PERLIO USE_PERL_ATOF
  Built under linux
  Compiled at Sep  3 2016 06:34:26
  %ENV:
    PERL="/tmp/basesmoker-reloperl-RgXw/bin/perl"
    PERL5LIB=""
    PERL5OPT=""
    PERL5_CPANPLUS_IS_RUNNING="22357"
    PERL5_CPAN_IS_RUNNING="22357"
    PERL_CANARY_STABILITY_NOPROMPT="1"
    PERL_MM_USE_DEFAULT="1"
  @INC:
    /home/sand/src/perl/repoperls/installed-perls/host/k93x64sid/v5.22.2/29a8/lib/site_perl/5.22.2/x86_64-linux
    /home/sand/src/perl/repoperls/installed-perls/host/k93x64sid/v5.22.2/29a8/lib/site_perl/5.22.2
    /home/sand/src/perl/repoperls/installed-perls/host/k93x64sid/v5.22.2/29a8/lib/5.22.2/x86_64-linux
    /home/sand/src/perl/repoperls/installed-perls/host/k93x64sid/v5.22.2/29a8/lib/5.22.2
    .