Back
From: metabase:user:7298ebcc-b357-11e4-8d18-8eca7e4756b9
Subject: PASS B-Utils-0.26 v5.21.9 GNU/Linux
Date: 2015-05-21T20:44:40Z
This distribution has been tested as part of the CPAN Testers
project, supporting the Perl programming language. See
http://wiki.cpantesters.org/ for more information or email
questions to cpan-testers-discuss@perl.org
--
Dear ETHER,
This is a computer-generated report for B-Utils-0.26
on perl 5.21.9, created by App::cpanminus::reporter 0.12 (1.7027).
Thank you for uploading your work to CPAN. Congratulations!
All tests were successful.
Sections of this report:
* Tester comments
* Program output
* Prerequisites
* Environment and other context
------------------------------
TESTER COMMENTS
------------------------------
Additional comments from tester:
none provided
------------------------------
PROGRAM OUTPUT
------------------------------
Output from '':
Building and testing B-Utils-0.26
cp lib/B/Utils.pm blib/lib/B/Utils.pm
cp lib/B/Utils/OP.pm blib/lib/B/Utils/OP.pm
cp typemap blib/arch/B/Utils/Install/typemap
cp BUtils.h blib/arch/B/Utils/Install/BUtils.h
cp build/IFiles.pm blib/arch/B/Utils/Install/Files.pm
Running Mkbootstrap for B::Utils ()
chmod 644 "Utils.bs"
"/home/mojolicious/perl5/perlbrew/perls/perl-5.21.9/bin/perl5.21.9" "/home/mojolicious/perl5/perlbrew/perls/perl-5.21.9/lib/5.21.9/ExtUtils/xsubpp" -typemap "/home/mojolicious/perl5/perlbrew/perls/perl-5.21.9/lib/5.21.9/ExtUtils/typemap" -typemap "typemap" -typemap "typemap" Utils.xs > Utils.xsc && mv Utils.xsc Utils.c
cc -c -fwrapv -fno-strict-aliasing -pipe -fstack-protector -I/usr/local/include -D_LARGEFILE_SOURCE -D_FILE_OFFSET_BITS=64 -O2 -DVERSION=\"0.26\" -DXS_VERSION=\"0.26\" -fPIC "-I/home/mojolicious/perl5/perlbrew/perls/perl-5.21.9/lib/5.21.9/x86_64-linux/CORE" Utils.c
"/home/mojolicious/perl5/perlbrew/perls/perl-5.21.9/bin/perl5.21.9" "/home/mojolicious/perl5/perlbrew/perls/perl-5.21.9/lib/5.21.9/ExtUtils/xsubpp" -typemap "/home/mojolicious/perl5/perlbrew/perls/perl-5.21.9/lib/5.21.9/ExtUtils/typemap" -typemap "typemap" -typemap "typemap" OP.xs > OP.xsc && mv OP.xsc OP.c
cc -c -fwrapv -fno-strict-aliasing -pipe -fstack-protector -I/usr/local/include -D_LARGEFILE_SOURCE -D_FILE_OFFSET_BITS=64 -O2 -DVERSION=\"0.26\" -DXS_VERSION=\"0.26\" -fPIC "-I/home/mojolicious/perl5/perlbrew/perls/perl-5.21.9/lib/5.21.9/x86_64-linux/CORE" OP.c
rm -f blib/arch/auto/B/Utils/Utils.so
cc -shared -O2 -L/usr/local/lib -fstack-protector Utils.o OP.o -o blib/arch/auto/B/Utils/Utils.so \
\
chmod 755 blib/arch/auto/B/Utils/Utils.so
"/home/mojolicious/perl5/perlbrew/perls/perl-5.21.9/bin/perl5.21.9" -MExtUtils::Command::MM -e 'cp_nonempty' -- Utils.bs blib/arch/auto/B/Utils/Utils.bs 644
Manifying 2 pod documents
Running Mkbootstrap for B::Utils ()
chmod 644 "Utils.bs"
PERL_DL_NONLAZY=1 "/home/mojolicious/perl5/perlbrew/perls/perl-5.21.9/bin/perl5.21.9" "-MExtUtils::Command::MM" "-MTest::Harness" "-e" "undef *Test::Harness::Switches; test_harness(0, 'blib/lib', 'blib/arch')" t/*.t t/*/*.t
Subroutine B::OP::parent redefined at /home/mojolicious/.cpanm/work/1432240663.26685/B-Utils-0.26/blib/lib/B/Utils.pm line 186.
t/10use.t ........................... ok
Subroutine B::OP::parent redefined at /home/mojolicious/.cpanm/work/1432240663.26685/B-Utils-0.26/blib/lib/B/Utils.pm line 186.
t/11export.t ........................ ok
Subroutine B::OP::parent redefined at /home/mojolicious/.cpanm/work/1432240663.26685/B-Utils-0.26/blib/lib/B/Utils.pm line 186.
t/regression_walkallops_filtered.t .. ok
t/release-pod-syntax.t .............. skipped: these tests are for release candidate testing
Subroutine B::OP::parent redefined at /home/mojolicious/.cpanm/work/1432240663.26685/B-Utils-0.26/blib/lib/B/Utils.pm line 186.
t/utils/20all_starts.t .............. ok
Subroutine B::OP::parent redefined at /home/mojolicious/.cpanm/work/1432240663.26685/B-Utils-0.26/blib/lib/B/Utils.pm line 186.
t/utils/21all_roots.t ............... ok
Subroutine B::OP::parent redefined at /home/mojolicious/.cpanm/work/1432240663.26685/B-Utils-0.26/blib/lib/B/Utils.pm line 186.
t/utils/22anon_subs.t ............... ok
Subroutine B::OP::parent redefined at /home/mojolicious/.cpanm/work/1432240663.26685/B-Utils-0.26/blib/lib/B/Utils.pm line 186.
t/utils/30parent.t .................. ok
t/utils/31oldname.t ................. skipped: No tests written yet.
t/utils/32kids.t .................... skipped: No tests written yet.
t/utils/33ancestors.t ............... skipped: No tests written yet.
t/utils/34descendants.t ............. skipped: No tests written yet.
t/utils/35siblings.t ................ skipped: No tests written yet.
t/utils/36previous.t ................ skipped: No tests written yet.
t/utils/37stringify.t ............... skipped: No tests written yet.
Subroutine B::OP::parent redefined at /home/mojolicious/.cpanm/work/1432240663.26685/B-Utils-0.26/blib/lib/B/Utils.pm line 186.
t/utils/40walk.t .................... ok
t/utils/41walkfilt.t ................ skipped: No tests written yet.
t/utils/42all.t ..................... skipped: No tests written yet.
t/utils/43allfilt.t ................. skipped: No tests written yet.
t/utils/44optrep.t .................. skipped: No tests written yet.
t/utils/50carp.t .................... skipped: No tests written yet.
t/utils/51croak.t ................... skipped: No tests written yet.
All tests successful.
Files=22, Tests=210, 5 wallclock secs ( 0.10 usr 0.02 sys + 2.48 cusr 0.21 csys = 2.81 CPU)
Result: PASS
------------------------------
PREREQUISITES
------------------------------
Prerequisite modules loaded:
runtime:
Module Need Have
------------------ ------ ------------
Exporter 0 5.72
perl v5.6.0 5.021009
Scalar::Util 0 1.41
! Task::Weaken 0 n/a
build:
Module Need Have
------------------ ------ ------------
ExtUtils::CBuilder 0 0.280221
Test::More 0 1.301001_098
configure:
Module Need Have
------------------ ------ ------------
ExtUtils::CBuilder 0 0.280221
! ExtUtils::Depends 0.301 n/a
------------------------------
ENVIRONMENT AND OTHER CONTEXT
------------------------------
Environment variables:
PATH = /home/mojolicious/perl5/perlbrew/bin:/home/mojolicious/perl5/perlbrew/perls/perl-5.20.1/bin:/usr/local/bin:/usr/bin:/bin:/usr/local/games:/usr/games:/home/mojolicious/mojolib/5.21.9/6.04/bin
PERLBREW_BASHRC_VERSION = 0.73
PERLBREW_HOME = /home/mojolicious/.perlbrew
PERLBREW_MANPATH = /home/mojolicious/perl5/perlbrew/perls/perl-5.20.1/man
PERLBREW_PATH = /home/mojolicious/perl5/perlbrew/bin:/home/mojolicious/perl5/perlbrew/perls/perl-5.20.1/bin
PERLBREW_PERL = perl-5.20.1
PERLBREW_ROOT = /home/mojolicious/perl5/perlbrew
PERLBREW_VERSION = 0.73
SHELL = /bin/bash
TERM = xterm
Perl special variables (and OS-specific diagnostics, for MSWin32):
EGID = 1003 1003
EUID = 1003
EXECUTABLE_NAME = /home/mojolicious/perl5/perlbrew/perls/perl-5.21.9/bin/perl5.21.9
GID = 1003 1003
UID = 1003
Perl module toolchain versions installed:
Module Have
------------------- ------------
CPAN 2.05
CPAN::Meta 2.143240
Cwd 3.54
ExtUtils::CBuilder 0.280221
ExtUtils::Command 1.20
ExtUtils::Install 2.04
ExtUtils::MakeMaker 7.04
ExtUtils::Manifest 1.70
ExtUtils::ParseXS 3.27
File::Spec 3.53
JSON 2.90
JSON::PP 2.27300
Module::Build 0.4211
Module::Signature n/a
Parse::CPAN::Meta 1.4414
Test::Harness 3.35
Test::More 1.301001_098
YAML n/a
YAML::Syck n/a
version 0.9909
--
Summary of my perl5 (revision 5 version 21 subversion 9) configuration:
Platform:
osname=linux, osvers=3.13.0-042stab094.8, archname=x86_64-linux
uname='linux lvps92-51-161-142.dedicated.hosteurope.de 3.13.0-042stab094.8 #1 smp tue dec 16 20:36:56 msk 2014 x86_64 x86_64 x86_64 gnulinux '
config_args='-de -Dprefix=/home/mojolicious/perl5/perlbrew/perls/perl-5.21.9 -Dusedevel -Aeval:scriptdir=/home/mojolicious/perl5/perlbrew/perls/perl-5.21.9/bin'
hint=recommended, useposix=true, d_sigaction=define
useithreads=undef, usemultiplicity=undef
use64bitint=define, use64bitall=define, uselongdouble=undef
usemymalloc=n, bincompat5005=undef
Compiler:
cc='cc', ccflags ='-fwrapv -fno-strict-aliasing -pipe -fstack-protector -I/usr/local/include -D_LARGEFILE_SOURCE -D_FILE_OFFSET_BITS=64',
optimize='-O2',
cppflags='-fwrapv -fno-strict-aliasing -pipe -fstack-protector -I/usr/local/include'
ccversion='', gccversion='4.8.2', gccosandvers=''
intsize=4, longsize=8, ptrsize=8, doublesize=8, byteorder=12345678, doublekind=3
d_longlong=define, longlongsize=8, d_longdbl=define, longdblsize=16, longdblkind=3
ivtype='long', ivsize=8, nvtype='double', nvsize=8, Off_t='off_t', lseeksize=8
alignbytes=8, prototype=define
Linker and Libraries:
ld='cc', ldflags =' -fstack-protector -L/usr/local/lib'
libpth=/usr/local/lib /usr/lib/gcc/x86_64-linux-gnu/4.8/include-fixed /usr/include/x86_64-linux-gnu /usr/lib /lib/x86_64-linux-gnu /lib/../lib /usr/lib/x86_64-linux-gnu /usr/lib/../lib /lib
libs=-lpthread -lnsl -ldl -lm -lcrypt -lutil -lc
perllibs=-lpthread -lnsl -ldl -lm -lcrypt -lutil -lc
libc=libc-2.19.so, so=so, useshrplib=false, libperl=libperl.a
gnulibc_version='2.19'
Dynamic Linking:
dlsrc=dl_dlopen.xs, dlext=so, d_dlsymun=undef, ccdlflags='-Wl,-E'
cccdlflags='-fPIC', lddlflags='-shared -O2 -L/usr/local/lib -fstack-protector'
Characteristics of this binary (from libperl):
Compile-time options: HAS_TIMES PERLIO_LAYERS PERL_DONT_CREATE_GVSV
PERL_HASH_FUNC_ONE_AT_A_TIME_HARD PERL_MALLOC_WRAP
PERL_NEW_COPY_ON_WRITE PERL_PRESERVE_IVUV
PERL_USE_DEVEL USE_64_BIT_ALL USE_64_BIT_INT
USE_LARGE_FILES USE_LOCALE USE_LOCALE_COLLATE
USE_LOCALE_CTYPE USE_LOCALE_NUMERIC USE_LOCALE_TIME
USE_PERLIO USE_PERL_ATOF
Locally applied patches:
Devel::PatchPerl 1.30
Built under linux
Compiled at Feb 21 2015 17:39:22
%ENV:
PERLBREW_BASHRC_VERSION="0.73"
PERLBREW_HOME="/home/mojolicious/.perlbrew"
PERLBREW_MANPATH="/home/mojolicious/perl5/perlbrew/perls/perl-5.20.1/man"
PERLBREW_PATH="/home/mojolicious/perl5/perlbrew/bin:/home/mojolicious/perl5/perlbrew/perls/perl-5.20.1/bin"
PERLBREW_PERL="perl-5.20.1"
PERLBREW_ROOT="/home/mojolicious/perl5/perlbrew"
PERLBREW_VERSION="0.73"
@INC:
/home/mojolicious/perl5/perlbrew/perls/perl-5.21.9/lib/site_perl/5.21.9/x86_64-linux
/home/mojolicious/perl5/perlbrew/perls/perl-5.21.9/lib/site_perl/5.21.9
/home/mojolicious/perl5/perlbrew/perls/perl-5.21.9/lib/5.21.9/x86_64-linux
/home/mojolicious/perl5/perlbrew/perls/perl-5.21.9/lib/5.21.9
.