Dancer2-Plugin-ConditionalCaching v0.001 Perl 5 v5.16.3 amd64-freebsd-thread-multi
- Status
- Pass
- From
- Slaven Rezić
- Dist
-
Dancer2-Plugin-ConditionalCaching v0.001
- Platform
- Perl 5 v5.16.3 amd64-freebsd-thread-multi
- Date
- 2023-02-06 11:05:44
- ID
- 33c8b99c-a60e-11ed-be4a-49f26d8775ea
This distribution has been tested as part of the CPAN Testers
project, supporting the Perl programming language. See
http://wiki.cpantesters.org/ for more information or email
questions to cpan-testers-discuss@perl.org
--
Dear David Zurborg,
This is a computer-generated report for Dancer2-Plugin-ConditionalCaching-0.001
on perl 5.16.3, created by CPAN-Reporter-1.2018.
Thank you for uploading your work to CPAN. Congratulations!
All tests were successful.
Sections of this report:
* Tester comments
* Program output
* Prerequisites
* Environment and other context
------------------------------
TESTER COMMENTS
------------------------------
Additional comments from tester:
none provided
------------------------------
PROGRAM OUTPUT
------------------------------
Output from '/usr/bin/make test':
PERL_DL_NONLAZY=1 "/usr/perl5.16.3t/bin/perl" "-MExtUtils::Command::MM" "-MTest::Harness" "-e" "undef *Test::Harness::Switches; test_harness(0, 'blib/lib', 'blib/arch')" t/*.t t/000/*.t
Plugin DSL method 'request' is deprecated. Use '$self->app->request' instead'.
at t/000/conditional.t line 19.
Plugin DSL method 'request' is deprecated. Use '$self->app->request' instead'.
at t/000/conditional.t line 19.
Plugin DSL method 'request' is deprecated. Use '$self->app->request' instead'.
at t/000/conditional.t line 19.
Plugin DSL method 'request' is deprecated. Use '$self->app->request' instead'.
at t/000/conditional.t line 19.
Plugin DSL method 'request' is deprecated. Use '$self->app->request' instead'.
at t/000/conditional.t line 19.
Plugin DSL method 'request' is deprecated. Use '$self->app->request' instead'.
at t/000/conditional.t line 19.
Plugin DSL method 'request' is deprecated. Use '$self->app->request' instead'.
at t/000/conditional.t line 19.
Plugin DSL method 'request' is deprecated. Use '$self->app->request' instead'.
at t/000/conditional.t line 19.
Plugin DSL method 'request' is deprecated. Use '$self->app->request' instead'.
at t/000/conditional.t line 19.
Plugin DSL method 'request' is deprecated. Use '$self->app->request' instead'.
at t/000/conditional.t line 19.
Plugin DSL method 'request' is deprecated. Use '$self->app->request' instead'.
at t/000/conditional.t line 19.
Plugin DSL method 'request' is deprecated. Use '$self->app->request' instead'.
at t/000/conditional.t line 19.
Plugin DSL method 'request' is deprecated. Use '$self->app->request' instead'.
at t/000/conditional.t line 19.
Plugin DSL method 'request' is deprecated. Use '$self->app->request' instead'.
at t/000/conditional.t line 19.
Plugin DSL method 'request' is deprecated. Use '$self->app->request' instead'.
at t/000/conditional.t line 19.
Plugin DSL method 'request' is deprecated. Use '$self->app->request' instead'.
at t/000/conditional.t line 19.
t/000/conditional.t ....... ok
Plugin DSL method 'request' is deprecated. Use '$self->app->request' instead'.
at t/000/request.t line 21.
Plugin DSL method 'request' is deprecated. Use '$self->app->request' instead'.
at t/000/request.t line 21.
Plugin DSL method 'request' is deprecated. Use '$self->app->request' instead'.
at t/000/request.t line 21.
Plugin DSL method 'request' is deprecated. Use '$self->app->request' instead'.
at t/000/request.t line 21.
Plugin DSL method 'request' is deprecated. Use '$self->app->request' instead'.
at t/000/request.t line 21.
Plugin DSL method 'request' is deprecated. Use '$self->app->request' instead'.
at t/000/request.t line 21.
Plugin DSL method 'request' is deprecated. Use '$self->app->request' instead'.
at t/000/request.t line 21.
Plugin DSL method 'request' is deprecated. Use '$self->app->request' instead'.
at t/000/request.t line 21.
Plugin DSL method 'request' is deprecated. Use '$self->app->request' instead'.
at t/000/request.t line 21.
Plugin DSL method 'request' is deprecated. Use '$self->app->request' instead'.
at t/000/request.t line 21.
Plugin DSL method 'request' is deprecated. Use '$self->app->request' instead'.
at t/000/request.t line 21.
Plugin DSL method 'request' is deprecated. Use '$self->app->request' instead'.
at t/000/request.t line 21.
t/000/request.t ........... ok
Plugin DSL method 'request' is deprecated. Use '$self->app->request' instead'.
at t/000/response.t line 15.
Plugin DSL method 'request' is deprecated. Use '$self->app->request' instead'.
at t/000/response.t line 15.
Plugin DSL method 'request' is deprecated. Use '$self->app->request' instead'.
at t/000/response.t line 19.
Plugin DSL method 'request' is deprecated. Use '$self->app->request' instead'.
at t/000/response.t line 19.
Plugin DSL method 'request' is deprecated. Use '$self->app->request' instead'.
at t/000/response.t line 23.
Plugin DSL method 'request' is deprecated. Use '$self->app->request' instead'.
at t/000/response.t line 23.
Plugin DSL method 'request' is deprecated. Use '$self->app->request' instead'.
at t/000/response.t line 27.
Plugin DSL method 'request' is deprecated. Use '$self->app->request' instead'.
at t/000/response.t line 27.
Plugin DSL method 'request' is deprecated. Use '$self->app->request' instead'.
at t/000/response.t line 31.
Plugin DSL method 'request' is deprecated. Use '$self->app->request' instead'.
at t/000/response.t line 31.
Plugin DSL method 'request' is deprecated. Use '$self->app->request' instead'.
at t/000/response.t line 35.
Plugin DSL method 'request' is deprecated. Use '$self->app->request' instead'.
at t/000/response.t line 35.
Plugin DSL method 'request' is deprecated. Use '$self->app->request' instead'.
at t/000/response.t line 39.
Plugin DSL method 'request' is deprecated. Use '$self->app->request' instead'.
at t/000/response.t line 39.
Plugin DSL method 'request' is deprecated. Use '$self->app->request' instead'.
at t/000/response.t line 43.
Plugin DSL method 'request' is deprecated. Use '$self->app->request' instead'.
at t/000/response.t line 43.
t/000/response.t .......... ok
t/author-critic.t ......... skipped: these tests are for testing by the author
t/release-cpan-changes.t .. skipped: these tests are for release candidate testing
t/release-kwalitee.t ...... skipped: these tests are for release candidate testing
t/release-pod-coverage.t .. skipped: these tests are for release candidate testing
t/release-pod-syntax.t .... skipped: these tests are for release candidate testing
All tests successful.
Files=8, Tests=20, 2 wallclock secs ( 0.02 usr 0.02 sys + 1.81 cusr 0.27 csys = 2.12 CPU)
Result: PASS
------------------------------
PREREQUISITES
------------------------------
Prerequisite modules loaded:
requires:
Module Need Have
--------------------- ----- --------
Dancer2::Plugin 0 0.301003
HTTP::Date 0 6.05
HTTP::Exception 0 0.04007
HTTP::Headers::Fancy 0 1.001
Math::Round 0 0.07
perl 5.010 5.016003
Scalar::Util 0 1.63
strictures 2 2.000006
Time::HiRes 0 1.9764
build_requires:
Module Need Have
--------------------- ----- --------
Dancer2 0 0.301003
Data::Dumper 0 2.183
Exporter 0 5.77
ExtUtils::MakeMaker 0 7.64
HTTP::Request::Common 0 6.44
Import::Into 0 1.002005
lib 0 0.63
Plack::Test 0 0
Test::Most 0 0.38
configure_requires:
Module Need Have
--------------------- ----- --------
ExtUtils::MakeMaker 0 7.64
perl 5.010 5.016003
------------------------------
ENVIRONMENT AND OTHER CONTEXT
------------------------------
Environment variables:
LC_ALL = de_DE.ISO8859-1
PATH = /usr/local/bin:/usr/bin:/bin:/usr/local/sbin:/usr/sbin:/sbin:/home/cpansand/bin/freebsd9.3:/home/cpansand/bin/sh:/home/cpansand/bin:/usr/games:/home/cpansand/devel:/usr/home/eserte/src/srezic-misc/scripts
PERL5LIB = /home/cpansand/.cpan/build/2023020612/Dancer2-Plugin-Auth-Extensible-Rights-0.01-0/blib/arch:/home/cpansand/.cpan/build/2023020612/Dancer2-Plugin-Auth-Extensible-Rights-0.01-0/blib/lib:/home/cpansand/.cpan/build/2023020612/Dancer2-Plugin-Auth-CAS-2.000-0/blib/arch:/home/cpansand/.cpan/build/2023020612/Dancer2-Plugin-Auth-CAS-2.000-0/blib/lib:/home/cpansand/.cpan/build/2023020612/Dancer2-Logger-Radis-0.002-0/blib/arch:/home/cpansand/.cpan/build/2023020612/Dancer2-Logger-Radis-0.002-0/blib/lib
PERL5OPT =
PERL5_CPANPLUS_IS_RUNNING = 93531
PERL5_CPAN_IS_RUNNING = 93531
PERL5_CPAN_IS_RUNNING_IN_RECURSION = 25372,93531
PERLDOC = -MPod::Perldoc::ToTextOverstrike
PERL_BATCH = yes
PERL_CANARY_STABILITY_NOPROMPT = 1
PERL_CPAN_REPORTER_CONFIG = /var/tmp/cpansmoker-1023/2023020606/cpanreporter_000_config.ini
PERL_EXTUTILS_AUTOINSTALL = --defaultdeps
PERL_USE_UNSAFE_INC = 1
SHELL = /usr/local/bin/zsh
TERM = screen
TMPDIR = /var/tmp/cpansmoker-1023/2023020606
Perl special variables (and OS-specific diagnostics, for MSWin32):
$^X = /usr/perl5.16.3t/bin/perl
$UID/$EUID = 1023 / 1023
$GID = 1023 1023
$EGID = 1023 1023
Perl module toolchain versions installed:
Module Have
------------------- --------
CPAN 2.34
CPAN::Meta 2.150010
Cwd 3.75
ExtUtils::CBuilder 0.280236
ExtUtils::Command 7.64
ExtUtils::Install 2.22
ExtUtils::MakeMaker 7.64
ExtUtils::Manifest 1.73
ExtUtils::ParseXS 3.35
File::Spec 3.75
JSON 4.10
JSON::PP 4.16
Module::Build 0.4231
Module::Signature 0.88
Parse::CPAN::Meta 2.150010
Test::Harness 3.44
Test::More 1.302192
YAML 1.30
YAML::Syck 1.34
version 0.9929
--
Summary of my perl5 (revision 5 version 16 subversion 3) configuration:
Platform:
osname=freebsd, osvers=9.2-release-p4, archname=amd64-freebsd-thread-multi
uname='freebsd cvrsnica-freebsd-92 9.2-release-p4 freebsd 9.2-release-p4 #0: tue apr 8 18:08:22 utc 2014 root@amd64-builder.daemonology.net:usrobjusrsrcsysgeneric amd64 '
config_args='-ds -e -Dprefix=/usr/perl5.16.3t -Dusethreads'
hint=recommended, useposix=true, d_sigaction=define
useithreads=define, usemultiplicity=define
useperlio=define, d_sfio=undef, uselargefiles=define, usesocks=undef
use64bitint=define, use64bitall=define, uselongdouble=undef
usemymalloc=n, bincompat5005=undef
Compiler:
cc='cc', ccflags ='-DHAS_FPSETMASK -DHAS_FLOATINGPOINT_H -fno-strict-aliasing -pipe -fstack-protector -I/usr/local/include',
optimize='-O',
cppflags='-DHAS_FPSETMASK -DHAS_FLOATINGPOINT_H -fno-strict-aliasing -pipe -fstack-protector -I/usr/local/include'
ccversion='', gccversion='4.2.1 20070831 patched [FreeBSD]', gccosandvers=''
intsize=4, longsize=8, ptrsize=8, doublesize=8, byteorder=12345678
d_longlong=define, longlongsize=8, d_longdbl=define, longdblsize=16
ivtype='long', ivsize=8, nvtype='double', nvsize=8, Off_t='off_t', lseeksize=8
alignbytes=8, prototype=define
Linker and Libraries:
ld='cc', ldflags ='-pthread -Wl,-E -fstack-protector -L/usr/local/lib'
libpth=/usr/lib /usr/local/lib
libs=-lgdbm -lm -lcrypt
perllibs=-lm -lcrypt
libc=, so=so, useshrplib=false, libperl=libperl.a
gnulibc_version=''
Dynamic Linking:
dlsrc=dl_dlopen.xs, dlext=so, d_dlsymun=undef, ccdlflags=' '
cccdlflags='-DPIC -fPIC', lddlflags='-shared -L/usr/local/lib -fstack-protector'
Characteristics of this binary (from libperl):
Compile-time options: HAS_TIMES MULTIPLICITY PERLIO_LAYERS
PERL_DONT_CREATE_GVSV PERL_IMPLICIT_CONTEXT
PERL_MALLOC_WRAP PERL_PRESERVE_IVUV USE_64_BIT_ALL
USE_64_BIT_INT USE_ITHREADS USE_LARGE_FILES
USE_LOCALE USE_LOCALE_COLLATE USE_LOCALE_CTYPE
USE_LOCALE_NUMERIC USE_PERLIO USE_PERL_ATOF
USE_REENTRANT_API
Built under freebsd
Compiled at May 16 2014 07:49:48
%ENV:
PERL5LIB="/home/cpansand/.cpan/build/2023020612/Dancer2-Plugin-Auth-Extensible-Rights-0.01-0/blib/arch:/home/cpansand/.cpan/build/2023020612/Dancer2-Plugin-Auth-Extensible-Rights-0.01-0/blib/lib:/home/cpansand/.cpan/build/2023020612/Dancer2-Plugin-Auth-CAS-2.000-0/blib/arch:/home/cpansand/.cpan/build/2023020612/Dancer2-Plugin-Auth-CAS-2.000-0/blib/lib:/home/cpansand/.cpan/build/2023020612/Dancer2-Logger-Radis-0.002-0/blib/arch:/home/cpansand/.cpan/build/2023020612/Dancer2-Logger-Radis-0.002-0/blib/lib"
PERL5OPT=""
PERL5_CPANPLUS_IS_RUNNING="93531"
PERL5_CPAN_IS_RUNNING="93531"
PERL5_CPAN_IS_RUNNING_IN_RECURSION="25372,93531"
PERLDOC="-MPod::Perldoc::ToTextOverstrike"
PERL_BATCH="yes"
PERL_CANARY_STABILITY_NOPROMPT="1"
PERL_CPAN_REPORTER_CONFIG="/var/tmp/cpansmoker-1023/2023020606/cpanreporter_000_config.ini"
PERL_EXTUTILS_AUTOINSTALL="--defaultdeps"
PERL_USE_UNSAFE_INC="1"
@INC:
/home/cpansand/.cpan/build/2023020612/Dancer2-Plugin-Auth-Extensible-Rights-0.01-0/blib/arch
/home/cpansand/.cpan/build/2023020612/Dancer2-Plugin-Auth-Extensible-Rights-0.01-0/blib/lib
/home/cpansand/.cpan/build/2023020612/Dancer2-Plugin-Auth-CAS-2.000-0/blib/arch
/home/cpansand/.cpan/build/2023020612/Dancer2-Plugin-Auth-CAS-2.000-0/blib/lib
/home/cpansand/.cpan/build/2023020612/Dancer2-Logger-Radis-0.002-0/blib/arch
/home/cpansand/.cpan/build/2023020612/Dancer2-Logger-Radis-0.002-0/blib/lib
/usr/perl5.16.3t/lib/site_perl/5.16.3/amd64-freebsd-thread-multi
/usr/perl5.16.3t/lib/site_perl/5.16.3
/usr/perl5.16.3t/lib/5.16.3/amd64-freebsd-thread-multi
/usr/perl5.16.3t/lib/5.16.3
.