Crypt-OpenSSL-RSA v0.30 Perl 5 v5.10.0 x86_64-dragonfly-thread-multi-ld

Status
Pass
From
Nigel Horne
Dist
Crypt-OpenSSL-RSA v0.30
Platform
Perl 5 v5.10.0 x86_64-dragonfly-thread-multi-ld
Date
2018-05-09 03:29:38
ID
342cb21c-5339-11e8-9da6-f703c768dc7a
This distribution has been tested as part of the CPAN Testers
project, supporting the Perl programming language.  See
http://wiki.cpantesters.org/ for more information or email
questions to cpan-testers-discuss@perl.org


--
Dear Todd Rinaldo,

This is a computer-generated report for Crypt-OpenSSL-RSA-0.30
on perl 5.10.0, created by CPAN-Reporter-1.2018.

Thank you for uploading your work to CPAN.  Congratulations!
All tests were successful.

Sections of this report:

    * Tester comments
    * Program output
    * Prerequisites
    * Environment and other context

------------------------------
TESTER COMMENTS
------------------------------

Additional comments from tester:

this report is from an automated smoke testing program
and was not reviewed by a human for accuracy

------------------------------
PROGRAM OUTPUT
------------------------------

Output from '/usr/bin/make test':

"/home/njh/perl5/perlbrew/perls/perl-5.10.0-thread-multi-ld/bin/perl5.10.0" -MExtUtils::Command::MM -e 'cp_nonempty' -- RSA.bs blib/arch/auto/Crypt/OpenSSL/RSA/RSA.bs 644
PERL_DL_NONLAZY=1 "/home/njh/perl5/perlbrew/perls/perl-5.10.0-thread-multi-ld/bin/perl5.10.0" "-MExtUtils::Command::MM" "-MTest::Harness" "-e" "undef *Test::Harness::Switches; test_harness(0, 'blib/lib', 'blib/arch')" t/*.t
t/bignum.t .................. skipped: Crypt::OpenSSL::Bignum required for bignum tests
t/format.t .................. ok
t/rsa.t ..................... ok
t/z_kwalitee.t .............. skipped: This test is only run for the module author
t/z_meta.t .................. skipped: This test is only run for the module author
t/z_perl_minimum_version.t .. skipped: Author tests not required for installation
t/z_pod-coverage.t .......... skipped: This test is only run for the module author
t/z_pod.t ................... skipped: This test is only run for the module author
All tests successful.
Files=8, Tests=73,  2 wallclock secs ( 0.05 usr  0.07 sys +  0.70 cusr  0.41 csys =  1.24 CPU)
Result: PASS

------------------------------
PREREQUISITES
------------------------------

Prerequisite modules loaded:

requires:

    Module                 Need  Have    
    ---------------------- ----- --------
    Crypt::OpenSSL::Random 0     0.15    
    perl                   5.006 5.010000
    Test::More             0     1.302122

build_requires:

    Module                 Need  Have    
    ---------------------- ----- --------
    ExtUtils::MakeMaker    0     7.30    

configure_requires:

    Module                 Need  Have    
    ---------------------- ----- --------
    Crypt::OpenSSL::Guess  0.11  0.11    
    ExtUtils::MakeMaker    0     7.30    


------------------------------
ENVIRONMENT AND OTHER CONTEXT
------------------------------

Environment variables:

    AUTOMATED_TESTING = 1
    PATH = /home/njh/perl5/perlbrew/bin:/home/njh/perl5/perlbrew/perls/perl-5.10.0-thread-multi-ld/bin:src/njh/smoker/bin:/bin:/sbin:/usr/bin:/usr/sbin:/usr/local/bin:/usr/local/sbin:/usr/pkg/bin:/usr/pkg/sbin
    PERL5LIB = /home/njh/.cpan/build/Crypt-OpenSSL-Random-0.15-2/blib/arch:/home/njh/.cpan/build/Crypt-OpenSSL-Random-0.15-2/blib/lib:/home/njh/.cpan/build/Crypt-OpenSSL-Guess-0.11-2/blib/arch:/home/njh/.cpan/build/Crypt-OpenSSL-Guess-0.11-2/blib/lib:/home/njh/.cpan/build/Module-Build-Tiny-0.039-14/blib/arch:/home/njh/.cpan/build/Module-Build-Tiny-0.039-14/blib/lib:/home/njh/.cpan/build/ExtUtils-InstallPaths-0.011-17/blib/arch:/home/njh/.cpan/build/ExtUtils-InstallPaths-0.011-17/blib/lib:/home/njh/.cpan/build/ExtUtils-Helpers-0.026-18/blib/arch:/home/njh/.cpan/build/ExtUtils-Helpers-0.026-18/blib/lib:/home/njh/.cpan/build/ExtUtils-Config-0.008-17/blib/arch:/home/njh/.cpan/build/ExtUtils-Config-0.008-17/blib/lib
    PERL5OPT = 
    PERL5_CPANPLUS_IS_RUNNING = 546620
    PERL5_CPAN_IS_RUNNING = 546620
    PERLBREW_HOME = /home/njh/.perlbrew
    PERLBREW_MANPATH = /home/njh/perl5/perlbrew/perls/perl-5.10.0-thread-multi-ld/man
    PERLBREW_PATH = /home/njh/perl5/perlbrew/bin:/home/njh/perl5/perlbrew/perls/perl-5.10.0-thread-multi-ld/bin
    PERLBREW_PERL = perl-5.10.0-thread-multi-ld
    PERLBREW_ROOT = /home/njh/perl5/perlbrew
    PERLBREW_SHELLRC_VERSION = 0.82
    PERLBREW_VERSION = 0.82
    SHELL = /bin/sh
    TMPDIR = /tmp/testwrapper.546610

Perl special variables (and OS-specific diagnostics, for MSWin32):

    $^X = /home/njh/perl5/perlbrew/perls/perl-5.10.0-thread-multi-ld/bin/perl5.10.0
    $UID/$EUID = 1001 / 1001
    $GID = 1001 1001 0
    $EGID = 1001 1001 0

Perl module toolchain versions installed:

    Module              Have     
    ------------------- ---------
    CPAN                2.16     
    CPAN::Meta          2.150010 
    Cwd                 3.62     
    ExtUtils::CBuilder  0.21     
    ExtUtils::Command   7.30     
    ExtUtils::Install   2.06     
    ExtUtils::MakeMaker 7.30     
    ExtUtils::Manifest  1.70     
    ExtUtils::ParseXS   2.18_02  
    File::Spec          3.62     
    JSON                n/a      
    JSON::PP            2.97001  
    Module::Build       0.2808_01
    Module::Signature   n/a      
    Parse::CPAN::Meta   2.150010 
    Test::Harness       3.39     
    Test::More          1.302122 
    YAML                1.24     
    YAML::Syck          1.30     
    version             0.9918   


--

Summary of my perl5 (revision 5 version 10 subversion 0) configuration:
  Platform:
    osname=dragonfly, osvers=5.0-release, archname=x86_64-dragonfly-thread-multi-ld
    uname='dragonfly david.bandsman.co.uk 5.0-release dragonfly v5.0.2-release #4: sun dec 3 17:42:25 est 2017 root@www.shiningsilence.com:usrobjhomejustinrelease5_0sysx86_64_generic x86_64 '
    config_args='-de -Dprefix=/home/njh/perl5/perlbrew/perls/perl-5.10.0-thread-multi-ld -Dusedevel -Dusethreads -Duselongdouble -Dusemultiplicity -Accflags= -Aeval:scriptdir=/home/njh/perl5/perlbrew/perls/perl-5.10.0-thread-multi-ld/bin'
    hint=recommended, useposix=true, d_sigaction=define
    useithreads=define, usemultiplicity=define
    useperlio=define, d_sfio=undef, uselargefiles=define, usesocks=undef
    use64bitint=define, use64bitall=define, uselongdouble=define
    usemymalloc=n, bincompat5005=undef
  Compiler:
    cc='cc', ccflags ='-DHAS_FPSETMASK -DHAS_FLOATINGPOINT_H -fno-strict-aliasing -pipe -I/usr/local/include',
    optimize='-O',
    cppflags='-DHAS_FPSETMASK -DHAS_FLOATINGPOINT_H -fno-strict-aliasing -pipe -I/usr/local/include'
    ccversion='', gccversion='5.4.1 [DragonFly] Release/2016-08-27', gccosandvers=''
    intsize=4, longsize=8, ptrsize=8, doublesize=8, byteorder=12345678
    d_longlong=define, longlongsize=8, d_longdbl=define, longdblsize=16
    ivtype='long', ivsize=8, nvtype='long double', nvsize=16, Off_t='off_t', lseeksize=8
    alignbytes=16, prototype=define
  Linker and Libraries:
    ld='cc', ldflags ='-pthread -Wl,-E  -L/usr/local/lib'
    libpth=/usr/lib /usr/local/lib
    libs=-ldl -lm -lcrypt -lutil -lc
    perllibs=-ldl -lm -lcrypt -lutil -lc
    libc=, so=so, useshrplib=false, libperl=libperl.a
    gnulibc_version=''
  Dynamic Linking:
    dlsrc=dl_dlopen.xs, dlext=so, d_dlsymun=undef, ccdlflags=' '
    cccdlflags='-DPIC -fPIC', lddlflags='-shared  -L/usr/local/lib'


Characteristics of this binary (from libperl): 
  Compile-time options: MULTIPLICITY PERL_DONT_CREATE_GVSV
                        PERL_IMPLICIT_CONTEXT PERL_MALLOC_WRAP USE_64_BIT_ALL
                        USE_64_BIT_INT USE_ITHREADS USE_LARGE_FILES
                        USE_LONG_DOUBLE USE_PERLIO USE_REENTRANT_API
  Locally applied patches:
	Devel::PatchPerl 1.48
  Built under dragonfly
  Compiled at Jan 30 2018 01:20:17
  %ENV:
    PERL5LIB="/home/njh/.cpan/build/Crypt-OpenSSL-Random-0.15-2/blib/arch:/home/njh/.cpan/build/Crypt-OpenSSL-Random-0.15-2/blib/lib:/home/njh/.cpan/build/Crypt-OpenSSL-Guess-0.11-2/blib/arch:/home/njh/.cpan/build/Crypt-OpenSSL-Guess-0.11-2/blib/lib:/home/njh/.cpan/build/Module-Build-Tiny-0.039-14/blib/arch:/home/njh/.cpan/build/Module-Build-Tiny-0.039-14/blib/lib:/home/njh/.cpan/build/ExtUtils-InstallPaths-0.011-17/blib/arch:/home/njh/.cpan/build/ExtUtils-InstallPaths-0.011-17/blib/lib:/home/njh/.cpan/build/ExtUtils-Helpers-0.026-18/blib/arch:/home/njh/.cpan/build/ExtUtils-Helpers-0.026-18/blib/lib:/home/njh/.cpan/build/ExtUtils-Config-0.008-17/blib/arch:/home/njh/.cpan/build/ExtUtils-Config-0.008-17/blib/lib"
    PERL5OPT=""
    PERL5_CPANPLUS_IS_RUNNING="546620"
    PERL5_CPAN_IS_RUNNING="546620"
    PERLBREW_HOME="/home/njh/.perlbrew"
    PERLBREW_MANPATH="/home/njh/perl5/perlbrew/perls/perl-5.10.0-thread-multi-ld/man"
    PERLBREW_PATH="/home/njh/perl5/perlbrew/bin:/home/njh/perl5/perlbrew/perls/perl-5.10.0-thread-multi-ld/bin"
    PERLBREW_PERL="perl-5.10.0-thread-multi-ld"
    PERLBREW_ROOT="/home/njh/perl5/perlbrew"
    PERLBREW_SHELLRC_VERSION="0.82"
    PERLBREW_VERSION="0.82"
  @INC:
    /home/njh/.cpan/build/Crypt-OpenSSL-Random-0.15-2/blib/arch
    /home/njh/.cpan/build/Crypt-OpenSSL-Random-0.15-2/blib/lib
    /home/njh/.cpan/build/Crypt-OpenSSL-Guess-0.11-2/blib/arch
    /home/njh/.cpan/build/Crypt-OpenSSL-Guess-0.11-2/blib/lib
    /home/njh/.cpan/build/Module-Build-Tiny-0.039-14/blib/arch
    /home/njh/.cpan/build/Module-Build-Tiny-0.039-14/blib/lib
    /home/njh/.cpan/build/ExtUtils-InstallPaths-0.011-17/blib/arch
    /home/njh/.cpan/build/ExtUtils-InstallPaths-0.011-17/blib/lib
    /home/njh/.cpan/build/ExtUtils-Helpers-0.026-18/blib/arch
    /home/njh/.cpan/build/ExtUtils-Helpers-0.026-18/blib/lib
    /home/njh/.cpan/build/ExtUtils-Config-0.008-17/blib/arch
    /home/njh/.cpan/build/ExtUtils-Config-0.008-17/blib/lib
    /home/njh/perl5/perlbrew/perls/perl-5.10.0-thread-multi-ld/lib/5.10.0/x86_64-dragonfly-thread-multi-ld
    /home/njh/perl5/perlbrew/perls/perl-5.10.0-thread-multi-ld/lib/5.10.0
    /home/njh/perl5/perlbrew/perls/perl-5.10.0-thread-multi-ld/lib/site_perl/5.10.0/x86_64-dragonfly-thread-multi-ld
    /home/njh/perl5/perlbrew/perls/perl-5.10.0-thread-multi-ld/lib/site_perl/5.10.0
    .