File-KDBX v0.906 Perl 5 v5.20.1 amd64-freebsd

Status
Pass
From
Slaven Rezić
Dist
File-KDBX v0.906
Platform
Perl 5 v5.20.1 amd64-freebsd
Date
2022-08-17 02:35:06
ID
3469a530-1dd5-11ed-a024-33526e8775ea
This distribution has been tested as part of the CPAN Testers
project, supporting the Perl programming language.  See
http://wiki.cpantesters.org/ for more information or email
questions to cpan-testers-discuss@perl.org


--
Dear Charles McGarvey,

This is a computer-generated report for File-KDBX-0.906
on perl 5.20.1, created by CPAN-Reporter-1.2018.

Thank you for uploading your work to CPAN.  Congratulations!
All tests were successful.

Sections of this report:

    * Tester comments
    * Program output
    * Prerequisites
    * Environment and other context

------------------------------
TESTER COMMENTS
------------------------------

Additional comments from tester:

none provided

------------------------------
PROGRAM OUTPUT
------------------------------

Output from '/usr/bin/make test':

PERL_DL_NONLAZY=1 "/usr/perl5.20.1p/bin/perl" "-MExtUtils::Command::MM" "-MTest::Harness" "-e" "undef *Test::Harness::Switches; test_harness(0, 'blib/lib', 'blib/arch')" t/*.t
t/00-compile.t ......... ok
# 
# Versions for all modules listed in MYMETA.json (including optional ones):
# 
# === Configure Requires ===
# 
#     Module              Want Have
#     ------------------- ---- ----
#     ExtUtils::MakeMaker  any 7.64
# 
# === Build Requires ===
# 
#     Module              Want Have
#     ------------------- ---- ----
#     ExtUtils::MakeMaker  any 7.64
# 
# === Test Requires ===
# 
#     Module                      Want     Have
#     ------------------- ------------ --------
#     ExtUtils::MakeMaker          any     7.64
#     File::Spec                   any     3.75
#     FindBin                      any     1.52
#     Getopt::Std                  any     1.10
#     IO::Handle                   any     1.48
#     IPC::Open3                   any     1.16
#     Math::BigInt               1.993 1.999832
#     Test::Deep                   any    1.130
#     Test::Fatal                  any    0.016
#     Test::More          1.001004_001 1.302191
#     Test::Warnings               any    0.031
#     lib                          any     0.63
#     utf8                         any  1.13_01
# 
# === Test Recommends ===
# 
#     Module         Want     Have
#     ---------- -------- --------
#     CPAN::Meta 2.120900 2.150010
#     Pass::OTP       any  missing
# 
# === Test Suggests ===
# 
#     Module      Want    Have
#     ----------- ---- -------
#     POSIX::1003  any missing
# 
# === Runtime Requires ===
# 
#     Module                    Want     Have
#     ------------------------ ----- --------
#     Carp                       any     1.50
#     Crypt::Argon2              any    0.011
#     Crypt::Cipher              any    0.076
#     Crypt::Cipher::AES         any    0.076
#     Crypt::Digest              any    0.076
#     Crypt::Mac::HMAC           any    0.076
#     Crypt::Misc              0.049    0.076
#     Crypt::Mode::CBC           any    0.076
#     Crypt::PRNG                any    0.076
#     Crypt::Stream::ChaCha    0.048    0.076
#     Crypt::Stream::Salsa20   0.055    0.076
#     Data::Dumper               any    2.183
#     Devel::GlobalDestruction   any     0.14
#     Encode                     any     3.19
#     Exporter                   any     5.74
#     File::Temp                 any   0.2311
#     Hash::Util::FieldHash      any     1.15
#     IO::Handle                 any     1.48
#     IPC::Cmd                  0.84     1.02
#     Iterator::Simple           any     0.07
#     List::Util                1.33     1.62
#     Math::BigInt             1.993 1.999832
#     Module::Load               any     0.34
#     Module::Loaded             any     0.08
#     POSIX                      any  1.38_03
#     Ref::Util                  any    0.204
#     Scalar::Util               any     1.62
#     Scope::Guard               any     0.21
#     Storable                   any     3.25
#     Symbol                     any     1.07
#     Text::ParseWords           any     3.31
#     Time::Local               1.19     1.30
#     Time::Piece               1.33   1.3401
#     XML::LibXML                any   2.0207
#     XML::LibXML::Reader        any   2.0207
#     boolean                    any     0.46
#     namespace::clean           any     0.27
#     overload                   any     1.22
#     strict                     any     1.08
#     warnings                   any     1.23
# 
# === Runtime Recommends ===
# 
#     Module                 Want    Have
#     ---------------------- ---- -------
#     Compress::Raw::Zlib     any   2.105
#     File::KDBX::XS          any missing
#     File::Spec              any    3.75
#     IO::Compress::Gzip      any   2.106
#     IO::Uncompress::Gunzip  any   2.106
#     Pass::OTP               any missing
# 
# === Runtime Suggests ===
# 
#     Module                  Want    Have
#     ---------------------- ----- -------
#     Crypt::Stream::Serpent 0.055 missing
#     Crypt::Stream::Twofish   any missing
# 
t/00-report-prereqs.t .. ok
t/crypt.t .............. ok
t/database.t ........... ok
t/entry.t .............. ok
t/erase.t .............. ok
t/error.t .............. ok
t/group.t .............. ok
t/hash-block.t ......... ok
t/hmac-block.t ......... ok
t/iterator.t ........... ok
t/kdb.t ................ ok
t/kdbx2.t .............. ok
t/kdbx3.t .............. ok
t/kdbx4.t .............. ok
t/kdf-aes-pp.t ......... ok
t/kdf.t ................ ok
t/keys.t ............... ok
t/memory-protection.t .. skipped: AUTHOR_TESTING required to test memory protection
t/object.t ............. ok
t/otp.t ................ skipped: Pass::OTP required to test one-time-passwords
t/placeholders.t ....... ok
t/query.t .............. ok
t/references.t ......... ok
t/safe.t ............... ok
t/util.t ............... ok
t/yubikey.t ............ ok
All tests successful.
Files=27, Tests=202, 13 wallclock secs ( 0.07 usr  0.08 sys +  5.18 cusr  2.82 csys =  8.15 CPU)
Result: PASS

------------------------------
PREREQUISITES
------------------------------

Prerequisite modules loaded:

requires:

    Module                   Need         Have    
    ------------------------ ------------ --------
    boolean                  0            0.46    
    Carp                     0            1.50    
    Crypt::Argon2            0            0.011   
    Crypt::Cipher            0            0.076   
    Crypt::Cipher::AES       0            0.076   
    Crypt::Digest            0            0.076   
    Crypt::Mac::HMAC         0            0.076   
    Crypt::Misc              0.049        0.076   
    Crypt::Mode::CBC         0            0.076   
    Crypt::PRNG              0            0.076   
    Crypt::Stream::ChaCha    0.048        0.076   
    Crypt::Stream::Salsa20   0.055        0.076   
    Data::Dumper             0            2.183   
    Devel::GlobalDestruction 0            0.14    
    Encode                   0            3.19    
    Exporter                 0            5.74    
    File::Temp               0            0.2311  
    Hash::Util::FieldHash    0            1.15    
    IO::Handle               0            1.48    
    IPC::Cmd                 0.84         1.02    
    Iterator::Simple         0            0.07    
    List::Util               1.33         1.62    
    Math::BigInt             1.993        1.999832
    Module::Load             0            0.34    
    Module::Loaded           0            0.08    
    namespace::clean         0            0.27    
    overload                 0            1.22    
    perl                     5.010        5.020001
    POSIX                    0            1.38_03 
    Ref::Util                0            0.204   
    Scalar::Util             0            1.62    
    Scope::Guard             0            0.21    
    Storable                 0            3.25    
    strict                   0            1.08    
    Symbol                   0            1.07    
    Text::ParseWords         0            3.31    
    Time::Local              1.19         1.30    
    Time::Piece              1.33         1.3401  
    warnings                 0            1.23    
    XML::LibXML              0            2.0207  
    XML::LibXML::Reader      0            2.0207  

build_requires:

    Module                   Need         Have    
    ------------------------ ------------ --------
    ExtUtils::MakeMaker      0            7.64    
    File::Spec               0            3.75    
    FindBin                  0            1.52    
    Getopt::Std              0            1.10    
    IO::Handle               0            1.48    
    IPC::Open3               0            1.16    
    lib                      0            0.63    
    Math::BigInt             1.993        1.999832
    Test::Deep               0            1.130   
    Test::Fatal              0            0.016   
    Test::More               1.001004_001 1.302191
    Test::Warnings           0            0.031   
    utf8                     0            1.13_01 

configure_requires:

    Module                   Need         Have    
    ------------------------ ------------ --------
    ExtUtils::MakeMaker      0            7.64    


------------------------------
ENVIRONMENT AND OTHER CONTEXT
------------------------------

Environment variables:

    LC_ALL = de_DE.ISO8859-1
    PATH = /usr/local/bin:/usr/bin:/bin:/usr/local/sbin:/usr/sbin:/sbin:/home/cpansand/bin/freebsd10.3:/home/cpansand/bin/sh:/home/cpansand/bin:/usr/games:/home/cpansand/devel:/home/eserte/src/srezic-misc/scripts
    PERL5LIB = 
    PERL5OPT = 
    PERL5_CPANPLUS_IS_RUNNING = 22483
    PERL5_CPAN_IS_RUNNING = 22483
    PERL5_CPAN_IS_RUNNING_IN_RECURSION = 19428,22483
    PERLDOC = -MPod::Perldoc::ToTextOverstrike
    PERL_BATCH = yes
    PERL_CANARY_STABILITY_NOPROMPT = 1
    PERL_CPAN_REPORTER_CONFIG = /var/tmp/cpansmoker-1023/2022081704/cpanreporter_000_config.ini
    PERL_EXTUTILS_AUTOINSTALL = --defaultdeps
    PERL_USE_UNSAFE_INC = 1
    SHELL = /usr/local/bin/zsh
    TERM = screen
    TMPDIR = /var/tmp/cpansmoker-1023/2022081704

Perl special variables (and OS-specific diagnostics, for MSWin32):

    $^X = /usr/perl5.20.1p/bin/perl
    $UID/$EUID = 1023 / 1023
    $GID = 1023 1023
    $EGID = 1023 1023

Perl module toolchain versions installed:

    Module              Have    
    ------------------- --------
    CPAN                2.34    
    CPAN::Meta          2.150010
    Cwd                 3.75    
    ExtUtils::CBuilder  0.280235
    ExtUtils::Command   7.64    
    ExtUtils::Install   2.20    
    ExtUtils::MakeMaker 7.64    
    ExtUtils::Manifest  1.70    
    ExtUtils::ParseXS   3.35    
    File::Spec          3.75    
    JSON                4.09    
    JSON::PP            4.11    
    Module::Build       0.4231  
    Module::Signature   0.87    
    Parse::CPAN::Meta   2.150010
    Test::Harness       3.44    
    Test::More          1.302191
    YAML                1.30    
    YAML::Syck          1.34    
    version             0.9929  


--

Summary of my perl5 (revision 5 version 20 subversion 1) configuration:
   
  Platform:
    osname=freebsd, osvers=10.1-release, archname=amd64-freebsd
    uname='freebsd cvrsnica-freebsd-101.herceg.de 10.1-release freebsd 10.1-release #0 r274401: tue nov 11 21:02:49 utc 2014 root@releng1.nyi.freebsd.org:usrobjusrsrcsysgeneric amd64 '
    config_args='-ds -e -Dprefix=/usr/perl5.20.1p'
    hint=recommended, useposix=true, d_sigaction=define
    useithreads=undef, usemultiplicity=undef
    use64bitint=define, use64bitall=define, uselongdouble=undef
    usemymalloc=n, bincompat5005=undef
  Compiler:
    cc='cc', ccflags ='-DHAS_FPSETMASK -DHAS_FLOATINGPOINT_H -fno-strict-aliasing -pipe -fstack-protector -I/usr/local/include',
    optimize='-O',
    cppflags='-DHAS_FPSETMASK -DHAS_FLOATINGPOINT_H -fno-strict-aliasing -pipe -fstack-protector -I/usr/local/include'
    ccversion='', gccversion='4.2.1 Compatible FreeBSD Clang 3.4.1 (tags/RELEASE_34/dot1-final 208032)', gccosandvers=''
    intsize=4, longsize=8, ptrsize=8, doublesize=8, byteorder=12345678
    d_longlong=define, longlongsize=8, d_longdbl=define, longdblsize=16
    ivtype='long', ivsize=8, nvtype='double', nvsize=8, Off_t='off_t', lseeksize=8
    alignbytes=8, prototype=define
  Linker and Libraries:
    ld='cc', ldflags ='-pthread -Wl,-E  -fstack-protector -L/usr/local/lib'
    libpth=/usr/lib /usr/local/lib /usr/include/clang/3.4.1 /usr/lib
    libs=-lm -lcrypt -lutil -lc
    perllibs=-lm -lcrypt -lutil -lc
    libc=, so=so, useshrplib=false, libperl=libperl.a
    gnulibc_version=''
  Dynamic Linking:
    dlsrc=dl_dlopen.xs, dlext=so, d_dlsymun=undef, ccdlflags=' '
    cccdlflags='-DPIC -fPIC', lddlflags='-shared  -L/usr/local/lib -fstack-protector'


Characteristics of this binary (from libperl): 
  Compile-time options: HAS_TIMES PERLIO_LAYERS PERL_DONT_CREATE_GVSV
                        PERL_HASH_FUNC_ONE_AT_A_TIME_HARD PERL_MALLOC_WRAP
                        PERL_NEW_COPY_ON_WRITE PERL_PRESERVE_IVUV
                        USE_64_BIT_ALL USE_64_BIT_INT USE_LARGE_FILES
                        USE_LOCALE USE_LOCALE_COLLATE USE_LOCALE_CTYPE
                        USE_LOCALE_NUMERIC USE_PERLIO USE_PERL_ATOF
  Built under freebsd
  Compiled at Jan 29 2015 08:45:50
  %ENV:
    PERL5LIB=""
    PERL5OPT=""
    PERL5_CPANPLUS_IS_RUNNING="22483"
    PERL5_CPAN_IS_RUNNING="22483"
    PERL5_CPAN_IS_RUNNING_IN_RECURSION="19428,22483"
    PERLDOC="-MPod::Perldoc::ToTextOverstrike"
    PERL_BATCH="yes"
    PERL_CANARY_STABILITY_NOPROMPT="1"
    PERL_CPAN_REPORTER_CONFIG="/var/tmp/cpansmoker-1023/2022081704/cpanreporter_000_config.ini"
    PERL_EXTUTILS_AUTOINSTALL="--defaultdeps"
    PERL_USE_UNSAFE_INC="1"
  @INC:
    /usr/perl5.20.1p/lib/site_perl/5.20.1/amd64-freebsd
    /usr/perl5.20.1p/lib/site_perl/5.20.1
    /usr/perl5.20.1p/lib/5.20.1/amd64-freebsd
    /usr/perl5.20.1p/lib/5.20.1
    .