Dist-Zilla-Plugin-Bootstrap-ShareDir-Dist v1.001002 Perl 5 v5.37.3 x86_64-linux-thread-multi-ld

Status
Pass
From
Andreas J. König (ANDK)
Dist
Dist-Zilla-Plugin-Bootstrap-ShareDir-Dist v1.001002
Platform
Perl 5 v5.37.3 x86_64-linux-thread-multi-ld
Date
2022-09-11 07:34:44
ID
346e09b2-31a4-11ed-a9db-0cd724586dba
This distribution has been tested as part of the CPAN Testers
project, supporting the Perl programming language.  See
http://wiki.cpantesters.org/ for more information or email
questions to cpan-testers-discuss@perl.org


--
Dear Kent Fredric (PAUSE Custodial Account),

This is a computer-generated report for Dist-Zilla-Plugin-Bootstrap-ShareDir-Dist-1.001002
on perl 5.37.3, created by CPAN-Reporter-1.2018.

Thank you for uploading your work to CPAN.  Congratulations!
All tests were successful.

Sections of this report:

    * Tester comments
    * Program output
    * Prerequisites
    * Environment and other context

------------------------------
TESTER COMMENTS
------------------------------

Additional comments from tester:

this report is from an automated smoke testing program
and was not reviewed by a human for accuracy

------------------------------
PROGRAM OUTPUT
------------------------------

Output from '/usr/bin/make test':

PERL_DL_NONLAZY=1 "/tmp/basesmoker-reloperl-KkV_/bin/perl" "-MExtUtils::Command::MM" "-MTest::Harness" "-e" "undef *Test::Harness::Switches; test_harness(0, 'blib/lib', 'blib/arch')" t/*.t t/00-compile/*.t
t/00-compile/lib_Dist_Zilla_Plugin_Bootstrap_ShareDir_Dist_pm.t .. ok
# 
# Versions for all modules listed in MYMETA.json (including optional ones):
# 
# === Configure Requires ===
# 
#     Module              Want Have
#     ------------------- ---- ----
#     ExtUtils::MakeMaker  any 7.64
# 
# === Configure Recommends ===
# 
#     Module              Want Have
#     ------------------- ---- ----
#     ExtUtils::MakeMaker 7.00 7.64
# 
# === Build Requires ===
# 
#     Module              Want Have
#     ------------------- ---- ----
#     ExtUtils::MakeMaker  any 7.64
# 
# === Test Requires ===
# 
#     Module                                    Want     Have
#     ----------------------------------- ---------- --------
#     Dist::Zilla::Plugin::Bootstrap::lib 0.04000000 1.001002
#     Dist::Zilla::Util::Test::KENTNL       1.003001 1.005014
#     ExtUtils::MakeMaker                        any     7.64
#     File::ShareDir                             any    1.118
#     File::Spec                                 any     3.86
#     Path::Tiny                                 any    0.124
#     Test::DZil                                 any    6.025
#     Test::More                                 any 1.302191
# 
# === Test Recommends ===
# 
#     Module                  Want     Have
#     ------------------- -------- --------
#     CPAN::Meta          2.120900 2.150010
#     ExtUtils::MakeMaker     7.00     7.64
#     Path::Tiny             0.058    0.124
#     Test::More              0.99 1.302191
# 
# === Runtime Requires ===
# 
#     Module                             Want     Have
#     ---------------------------------- ---- --------
#     Dist::Zilla::Role::Bootstrap        any 1.001004
#     Moose                               any   2.2201
#     Test::File::ShareDir::Object::Dist  any 1.001002
#     lib                                 any     0.65
#     strict                              any     1.12
#     utf8                                any     1.24
#     warnings                            any     1.58
# 
# === Runtime Recommends ===
# 
#     Module  Want   Have
#     ------ ----- ------
#     Moose  2.000 2.2201
# 
t/00-report-prereqs.t ............................................ ok
t/01-basic.t ..................................................... ok
t/02-try_built.t ................................................. ok
t/03-try_built-pass2.t ........................................... ok
t/04-try_built_nofallback.t ...................................... ok
t/05-try_built_nofallback-pass2.t ................................ ok
All tests successful.
Files=7, Tests=7,  6 wallclock secs ( 0.02 usr  0.02 sys +  5.51 cusr  0.51 csys =  6.06 CPU)
Result: PASS

------------------------------
PREREQUISITES
------------------------------

Prerequisite modules loaded:

requires:

    Module                              Need       Have    
    ----------------------------------- ---------- --------
    Dist::Zilla::Role::Bootstrap        0          1.001004
    lib                                 0          0.65    
    Moose                               0          2.2201  
    perl                                5.008      5.037003
    strict                              0          1.12    
    Test::File::ShareDir::Object::Dist  0          1.001002
    utf8                                0          1.24    
    warnings                            0          1.58    

build_requires:

    Module                              Need       Have    
    ----------------------------------- ---------- --------
    Dist::Zilla::Plugin::Bootstrap::lib 0.04000000 1.001002
    Dist::Zilla::Util::Test::KENTNL     1.003001   1.005014
    ExtUtils::MakeMaker                 0          7.64    
    File::ShareDir                      0          1.118   
    File::Spec                          0          3.86    
    Path::Tiny                          0          0.124   
    Test::DZil                          0          6.025   
    Test::More                          0          1.302191

configure_requires:

    Module                              Need       Have    
    ----------------------------------- ---------- --------
    ExtUtils::MakeMaker                 0          7.64    
    perl                                5.008      5.037003

opt_requires:

    Module                              Need       Have    
    ----------------------------------- ---------- --------
    Moose                               2.000      2.2201  


------------------------------
ENVIRONMENT AND OTHER CONTEXT
------------------------------

Environment variables:

    AUTOMATED_TESTING = 1
    LANG = en_US.UTF-8
    PATH = /home/sand/bin:/usr/local/bin:/usr/local/sbin:/usr/sbin:/usr/bin:/sbin:/bin:/usr/games:/usr/local/games:/snap/bin:/usr/local/perl/bin:/usr/X11/bin
    PERL = /tmp/basesmoker-reloperl-KkV_/bin/perl
    PERL5LIB = /tmp/loop_over_bdir-74323-vwBm6n/mmds-1.902-0/blib/arch:/tmp/loop_over_bdir-74323-vwBm6n/mmds-1.902-0/blib/lib:/tmp/loop_over_bdir-74323-vwBm6n/CORBA-Python-2.66-0/blib/arch:/tmp/loop_over_bdir-74323-vwBm6n/CORBA-Python-2.66-0/blib/lib:/tmp/loop_over_bdir-74323-vwBm6n/triceps-2.1.0-0/blib/arch:/tmp/loop_over_bdir-74323-vwBm6n/triceps-2.1.0-0/blib/lib:/tmp/loop_over_bdir-74323-vwBm6n/Lingua-BioYaTeA-0.11-0/blib/arch:/tmp/loop_over_bdir-74323-vwBm6n/Lingua-BioYaTeA-0.11-0/blib/lib:/tmp/loop_over_bdir-74323-vwBm6n/Lingua-YaTeA-0.626-0/blib/arch:/tmp/loop_over_bdir-74323-vwBm6n/Lingua-YaTeA-0.626-0/blib/lib:/tmp/loop_over_bdir-74323-vwBm6n/Alien-SNMP-MIBDEV-2.020000-0/blib/arch:/tmp/loop_over_bdir-74323-vwBm6n/Alien-SNMP-MIBDEV-2.020000-0/blib/lib:/tmp/loop_over_bdir-74323-vwBm6n/downsexta-0/blib/arch:/tmp/loop_over_bdir-74323-vwBm6n/downsexta-0/blib/lib:/tmp/loop_over_bdir-74323-vwBm6n/Devel-Required-0.16-0/blib/arch:/tmp/loop_over_bdir-74323-vwBm6n/Devel-Required-0.16-0/blib/lib
    PERL5OPT = 
    PERL5_CPANPLUS_IS_RUNNING = 74331
    PERL5_CPAN_IS_RUNNING = 74331
    PERL_CANARY_STABILITY_NOPROMPT = 1
    PERL_MM_USE_DEFAULT = 1
    PERL_USE_UNSAFE_INC = 1
    SHELL = /usr/bin/zsh
    TERM = screen

Perl special variables (and OS-specific diagnostics, for MSWin32):

    $^X = /tmp/basesmoker-reloperl-KkV_/bin/perl
    $UID/$EUID = 1005 / 1005
    $GID = 1005 1005
    $EGID = 1005 1005

Perl module toolchain versions installed:

    Module              Have    
    ------------------- --------
    CPAN                2.34    
    CPAN::Meta          2.150010
    Cwd                 3.86    
    ExtUtils::CBuilder  0.280237
    ExtUtils::Command   7.64    
    ExtUtils::Install   2.20    
    ExtUtils::MakeMaker 7.64    
    ExtUtils::Manifest  1.73    
    ExtUtils::ParseXS   3.45    
    File::Spec          3.86    
    JSON                4.09    
    JSON::PP            4.11    
    Module::Build       0.4231  
    Module::Signature   0.88    
    Parse::CPAN::Meta   2.150010
    Test::Harness       3.44    
    Test::More          1.302191
    YAML                1.30    
    YAML::Syck          1.34    
    version             0.9929  


--

Summary of my perl5 (revision 5 version 37 subversion 3) configuration:
  Commit id: 29b290ccaa79f40de7d941c9a79810119f5c6363
  Platform:
    osname=linux
    osvers=5.4.0-125-generic
    archname=x86_64-linux-thread-multi-ld
    uname='linux k93focal 5.4.0-125-generic #141-ubuntu smp wed aug 10 13:42:03 utc 2022 x86_64 x86_64 x86_64 gnulinux '
    config_args='-Dprefix=/home/sand/src/perl/repoperls/installed-perls/host/k93focal/v5.37.2-224-g29b290ccaa/e463 -Dmyhostname=k93focal -Dinstallusrbinperl=n -Uversiononly -Dusedevel -des -Ui_db -Dlibswanted=cl pthread socket inet nsl gdbm dbm malloc dl ld sun m crypt sec util c cposix posix ucb BSD gdbm_compat -Duseithreads -Duselongdouble -DEBUGGING=both'
    hint=recommended
    useposix=true
    d_sigaction=define
    useithreads=define
    usemultiplicity=define
    use64bitint=define
    use64bitall=define
    uselongdouble=define
    usemymalloc=n
    default_inc_excludes_dot=define
  Compiler:
    cc='cc'
    ccflags ='-D_REENTRANT -D_GNU_SOURCE -fwrapv -DDEBUGGING -fno-strict-aliasing -pipe -fstack-protector-strong -I/usr/local/include -D_LARGEFILE_SOURCE -D_FILE_OFFSET_BITS=64'
    optimize='-O2 -g'
    cppflags='-D_REENTRANT -D_GNU_SOURCE -fwrapv -DDEBUGGING -fno-strict-aliasing -pipe -fstack-protector-strong -I/usr/local/include'
    ccversion=''
    gccversion='9.4.0'
    gccosandvers=''
    intsize=4
    longsize=8
    ptrsize=8
    doublesize=8
    byteorder=12345678
    doublekind=3
    d_longlong=define
    longlongsize=8
    d_longdbl=define
    longdblsize=16
    longdblkind=3
    ivtype='long'
    ivsize=8
    nvtype='long double'
    nvsize=16
    Off_t='off_t'
    lseeksize=8
    alignbytes=16
    prototype=define
  Linker and Libraries:
    ld='cc'
    ldflags =' -fstack-protector-strong -L/usr/local/lib'
    libpth=/usr/local/lib /usr/lib/x86_64-linux-gnu /usr/lib /usr/lib64
    libs=-lpthread -lnsl -ldl -lm -lcrypt -lutil -lc
    perllibs=-lpthread -lnsl -ldl -lm -lcrypt -lutil -lc
    libc=libc-2.31.so
    so=so
    useshrplib=false
    libperl=libperl.a
    gnulibc_version='2.31'
  Dynamic Linking:
    dlsrc=dl_dlopen.xs
    dlext=so
    d_dlsymun=undef
    ccdlflags='-Wl,-E'
    cccdlflags='-fPIC'
    lddlflags='-shared -O2 -g -L/usr/local/lib -fstack-protector-strong'


Characteristics of this binary (from libperl): 
  Compile-time options:
    DEBUGGING
    HAS_TIMES
    MULTIPLICITY
    PERLIO_LAYERS
    PERL_COPY_ON_WRITE
    PERL_DONT_CREATE_GVSV
    PERL_HASH_FUNC_SIPHASH13
    PERL_HASH_USE_SBOX32
    PERL_MALLOC_WRAP
    PERL_OP_PARENT
    PERL_PRESERVE_IVUV
    PERL_TRACK_MEMPOOL
    PERL_USE_DEVEL
    PERL_USE_SAFE_PUTENV
    USE_64_BIT_ALL
    USE_64_BIT_INT
    USE_ITHREADS
    USE_LARGE_FILES
    USE_LOCALE
    USE_LOCALE_COLLATE
    USE_LOCALE_CTYPE
    USE_LOCALE_NUMERIC
    USE_LOCALE_TIME
    USE_LONG_DOUBLE
    USE_PERLIO
    USE_PERL_ATOF
    USE_REENTRANT_API
    USE_THREAD_SAFE_LOCALE
  Built under linux
  Compiled at Sep  6 2022 10:14:49
  %ENV:
    PERL="/tmp/basesmoker-reloperl-KkV_/bin/perl"
    PERL5LIB="/tmp/loop_over_bdir-74323-vwBm6n/mmds-1.902-0/blib/arch:/tmp/loop_over_bdir-74323-vwBm6n/mmds-1.902-0/blib/lib:/tmp/loop_over_bdir-74323-vwBm6n/CORBA-Python-2.66-0/blib/arch:/tmp/loop_over_bdir-74323-vwBm6n/CORBA-Python-2.66-0/blib/lib:/tmp/loop_over_bdir-74323-vwBm6n/triceps-2.1.0-0/blib/arch:/tmp/loop_over_bdir-74323-vwBm6n/triceps-2.1.0-0/blib/lib:/tmp/loop_over_bdir-74323-vwBm6n/Lingua-BioYaTeA-0.11-0/blib/arch:/tmp/loop_over_bdir-74323-vwBm6n/Lingua-BioYaTeA-0.11-0/blib/lib:/tmp/loop_over_bdir-74323-vwBm6n/Lingua-YaTeA-0.626-0/blib/arch:/tmp/loop_over_bdir-74323-vwBm6n/Lingua-YaTeA-0.626-0/blib/lib:/tmp/loop_over_bdir-74323-vwBm6n/Alien-SNMP-MIBDEV-2.020000-0/blib/arch:/tmp/loop_over_bdir-74323-vwBm6n/Alien-SNMP-MIBDEV-2.020000-0/blib/lib:/tmp/loop_over_bdir-74323-vwBm6n/downsexta-0/blib/arch:/tmp/loop_over_bdir-74323-vwBm6n/downsexta-0/blib/lib:/tmp/loop_over_bdir-74323-vwBm6n/Devel-Required-0.16-0/blib/arch:/tmp/loop_over_bdir-74323-vwBm6n/Devel-Required-0.16-0/blib/lib"
    PERL5OPT=""
    PERL5_CPANPLUS_IS_RUNNING="74331"
    PERL5_CPAN_IS_RUNNING="74331"
    PERL_CANARY_STABILITY_NOPROMPT="1"
    PERL_MM_USE_DEFAULT="1"
    PERL_USE_UNSAFE_INC="1"
  @INC:
    /tmp/loop_over_bdir-74323-vwBm6n/mmds-1.902-0/blib/arch
    /tmp/loop_over_bdir-74323-vwBm6n/mmds-1.902-0/blib/lib
    /tmp/loop_over_bdir-74323-vwBm6n/CORBA-Python-2.66-0/blib/arch
    /tmp/loop_over_bdir-74323-vwBm6n/CORBA-Python-2.66-0/blib/lib
    /tmp/loop_over_bdir-74323-vwBm6n/triceps-2.1.0-0/blib/arch
    /tmp/loop_over_bdir-74323-vwBm6n/triceps-2.1.0-0/blib/lib
    /tmp/loop_over_bdir-74323-vwBm6n/Lingua-BioYaTeA-0.11-0/blib/arch
    /tmp/loop_over_bdir-74323-vwBm6n/Lingua-BioYaTeA-0.11-0/blib/lib
    /tmp/loop_over_bdir-74323-vwBm6n/Lingua-YaTeA-0.626-0/blib/arch
    /tmp/loop_over_bdir-74323-vwBm6n/Lingua-YaTeA-0.626-0/blib/lib
    /tmp/loop_over_bdir-74323-vwBm6n/Alien-SNMP-MIBDEV-2.020000-0/blib/arch
    /tmp/loop_over_bdir-74323-vwBm6n/Alien-SNMP-MIBDEV-2.020000-0/blib/lib
    /tmp/loop_over_bdir-74323-vwBm6n/downsexta-0/blib/arch
    /tmp/loop_over_bdir-74323-vwBm6n/downsexta-0/blib/lib
    /tmp/loop_over_bdir-74323-vwBm6n/Devel-Required-0.16-0/blib/arch
    /tmp/loop_over_bdir-74323-vwBm6n/Devel-Required-0.16-0/blib/lib
    /home/sand/src/perl/repoperls/installed-perls/host/k93focal/v5.37.2-224-g29b290ccaa/e463/lib/site_perl/5.37.3/x86_64-linux-thread-multi-ld
    /home/sand/src/perl/repoperls/installed-perls/host/k93focal/v5.37.2-224-g29b290ccaa/e463/lib/site_perl/5.37.3
    /home/sand/src/perl/repoperls/installed-perls/host/k93focal/v5.37.2-224-g29b290ccaa/e463/lib/5.37.3/x86_64-linux-thread-multi-ld
    /home/sand/src/perl/repoperls/installed-perls/host/k93focal/v5.37.2-224-g29b290ccaa/e463/lib/5.37.3
    .