FSA-Rules v0.35 Perl 5 v5.34.0 x86_64-linux

Status
Pass
From
Alceu Rodrigues de Freitas Junior
Dist
FSA-Rules v0.35
Platform
Perl 5 v5.34.0 x86_64-linux
Date
2022-01-10 04:03:01
ID
347d3990-71ca-11ec-816f-efdcdd96d0b2
This distribution has been tested as part of the CPAN Testers
project, supporting the Perl programming language.  See
http://wiki.cpantesters.org/ for more information or email
questions to cpan-testers-discuss@perl.org


--
Dear David E. Wheeler,

This is a computer-generated report for FSA-Rules-0.35
on perl 5.34.0, created by CPAN-Reporter-1.2018.

Thank you for uploading your work to CPAN.  Congratulations!
All tests were successful.

Sections of this report:

    * Tester comments
    * Program output
    * Prerequisites
    * Environment and other context

------------------------------
TESTER COMMENTS
------------------------------

Additional comments from tester:

none provided

------------------------------
PROGRAM OUTPUT
------------------------------

Output from './Build test':

t/base.t ...... ok
t/graph.t ..... skipped: GraphViz or Text::Wrap cannot be loaded.
t/leak.t ...... skipped: Test::Weaken required to test for memory leaks
t/pingpong.t .. ok
t/state.t ..... ok
t/storable.t .. ok
All tests successful.
Files=6, Tests=412,  0 wallclock secs ( 0.05 usr  0.01 sys +  0.41 cusr  0.03 csys =  0.50 CPU)
Result: PASS

------------------------------
PREREQUISITES
------------------------------

Prerequisite modules loaded:

requires:

    Module        Need     Have     
    ------------- -------- ---------
    perl          5.006002 5.034000 
    Scalar::Util  1.01     1.60     

build_requires:

    Module        Need     Have     
    ------------- -------- ---------
    Module::Build 0.2701   0.4231   
    Test::More    0.17     1.302188 

configure_requires:

    Module        Need     Have     
    ------------- -------- ---------
    Module::Build 0.42     0.4231   

opt_requires:

    Module        Need     Have     
    ------------- -------- ---------
    B::Deparse    0.61     1.56     
  ! GraphViz      2.00     n/a      
    Storable      2.05     3.23     
    Test::Pod     1.41     1.52     
    Text::Wrap    0        2013.0523


------------------------------
ENVIRONMENT AND OTHER CONTEXT
------------------------------

Environment variables:

    LANG = pt_BR.UTF-8
    LANGUAGE = pt_BR:pt:en
    PATH = /home/alceu/perl5/perlbrew/bin:/home/alceu/perl5/perlbrew/perls/perl-5.34.0/bin:/home/alceu/.sdkman/candidates/java/current/bin:/home/alceu/.sdkman/candidates/groovy/current/bin:/home/alceu/.sdkman/candidates/gradle/current/bin:/home/alceu/.rvm/gems/ruby-2.5.5/bin:/home/alceu/.rvm/gems/ruby-2.5.5@global/bin:/home/alceu/.rvm/rubies/ruby-2.5.5/bin:/home/alceu/.pyenv/plugins/pyenv-virtualenv/shims:/home/alceu/.pyenv/shims:/home/alceu/.pyenv/bin:/home/alceu/bin:/usr/local/sbin:/usr/local/bin:/usr/sbin:/usr/bin:/sbin:/bin:/usr/games:/usr/local/games:/snap/bin:/usr/local/go/bin:/home/alceu/.rvm/bin:/home/alceu/go/bin
    PERL5LIB = 
    PERL5OPT = 
    PERL5_CPANPLUS_IS_RUNNING = 27123
    PERL5_CPAN_IS_RUNNING = 27123
    PERLBREW_HOME = /home/alceu/.perlbrew
    PERLBREW_MANPATH = /home/alceu/perl5/perlbrew/perls/perl-5.34.0/man
    PERLBREW_PATH = /home/alceu/perl5/perlbrew/bin:/home/alceu/perl5/perlbrew/perls/perl-5.34.0/bin
    PERLBREW_PERL = perl-5.34.0
    PERLBREW_ROOT = /home/alceu/perl5/perlbrew
    PERLBREW_SHELLRC_VERSION = 0.94
    PERLBREW_VERSION = 0.94
    PERL_USE_UNSAFE_INC = 1
    SHELL = /bin/bash
    TERM = xterm-256color

Perl special variables (and OS-specific diagnostics, for MSWin32):

    $^X = /home/alceu/perl5/perlbrew/perls/perl-5.34.0/bin/perl
    $UID/$EUID = 1000 / 1000
    $GID = 1000 4 24 27 29 30 44 46 108 122 123 124 129 142 1000 1002
    $EGID = 1000 4 24 27 29 30 44 46 108 122 123 124 129 142 1000 1002

Perl module toolchain versions installed:

    Module              Have    
    ------------------- --------
    CPAN                2.29    
    CPAN::Meta          2.150010
    Cwd                 3.80    
    ExtUtils::CBuilder  0.280236
    ExtUtils::Command   7.64    
    ExtUtils::Install   2.20    
    ExtUtils::MakeMaker 7.64    
    ExtUtils::Manifest  1.73    
    ExtUtils::ParseXS   3.44    
    File::Spec          3.80    
    JSON                4.04    
    JSON::PP            4.06    
    Module::Build       0.4231  
    Module::Signature   n/a     
    Parse::CPAN::Meta   2.150010
    Test::Harness       3.43    
    Test::More          1.302188
    YAML                1.30    
    YAML::Syck          n/a     
    version             0.9928  


--

Summary of my perl5 (revision 5 version 34 subversion 0) configuration:
   
  Platform:
    osname=linux
    osvers=4.15.0-166-generic
    archname=x86_64-linux
    uname='linux yggdrasil 4.15.0-166-generic #174-ubuntu smp wed dec 8 19:07:44 utc 2021 x86_64 x86_64 x86_64 gnulinux '
    config_args='-de -Dprefix=/home/alceu/perl5/perlbrew/perls/perl-5.34.0 -Aeval:scriptdir=/home/alceu/perl5/perlbrew/perls/perl-5.34.0/bin'
    hint=recommended
    useposix=true
    d_sigaction=define
    useithreads=undef
    usemultiplicity=undef
    use64bitint=define
    use64bitall=define
    uselongdouble=undef
    usemymalloc=n
    default_inc_excludes_dot=define
  Compiler:
    cc='cc'
    ccflags ='-fwrapv -fno-strict-aliasing -pipe -fstack-protector-strong -I/usr/local/include -D_LARGEFILE_SOURCE -D_FILE_OFFSET_BITS=64'
    optimize='-O2'
    cppflags='-fwrapv -fno-strict-aliasing -pipe -fstack-protector-strong -I/usr/local/include'
    ccversion=''
    gccversion='7.5.0'
    gccosandvers=''
    intsize=4
    longsize=8
    ptrsize=8
    doublesize=8
    byteorder=12345678
    doublekind=3
    d_longlong=define
    longlongsize=8
    d_longdbl=define
    longdblsize=16
    longdblkind=3
    ivtype='long'
    ivsize=8
    nvtype='double'
    nvsize=8
    Off_t='off_t'
    lseeksize=8
    alignbytes=8
    prototype=define
  Linker and Libraries:
    ld='cc'
    ldflags =' -fstack-protector-strong -L/usr/local/lib'
    libpth=/usr/local/lib /usr/lib/x86_64-linux-gnu /usr/lib /lib/x86_64-linux-gnu /lib
    libs=-lpthread -lnsl -lgdbm -ldb -ldl -lm -lcrypt -lutil -lc
    perllibs=-lpthread -lnsl -ldl -lm -lcrypt -lutil -lc
    libc=libc-2.27.so
    so=so
    useshrplib=false
    libperl=libperl.a
    gnulibc_version='2.27'
  Dynamic Linking:
    dlsrc=dl_dlopen.xs
    dlext=so
    d_dlsymun=undef
    ccdlflags='-Wl,-E'
    cccdlflags='-fPIC'
    lddlflags='-shared -O2 -L/usr/local/lib -fstack-protector-strong'


Characteristics of this binary (from libperl): 
  Compile-time options:
    HAS_TIMES
    PERLIO_LAYERS
    PERL_COPY_ON_WRITE
    PERL_DONT_CREATE_GVSV
    PERL_MALLOC_WRAP
    PERL_OP_PARENT
    PERL_PRESERVE_IVUV
    USE_64_BIT_ALL
    USE_64_BIT_INT
    USE_LARGE_FILES
    USE_LOCALE
    USE_LOCALE_COLLATE
    USE_LOCALE_CTYPE
    USE_LOCALE_NUMERIC
    USE_LOCALE_TIME
    USE_PERLIO
    USE_PERL_ATOF
  Built under linux
  Compiled at Jan  9 2022 21:31:37
  %ENV:
    PERL5LIB=""
    PERL5OPT=""
    PERL5_CPANPLUS_IS_RUNNING="27123"
    PERL5_CPAN_IS_RUNNING="27123"
    PERLBREW_HOME="/home/alceu/.perlbrew"
    PERLBREW_MANPATH="/home/alceu/perl5/perlbrew/perls/perl-5.34.0/man"
    PERLBREW_PATH="/home/alceu/perl5/perlbrew/bin:/home/alceu/perl5/perlbrew/perls/perl-5.34.0/bin"
    PERLBREW_PERL="perl-5.34.0"
    PERLBREW_ROOT="/home/alceu/perl5/perlbrew"
    PERLBREW_SHELLRC_VERSION="0.94"
    PERLBREW_VERSION="0.94"
    PERL_USE_UNSAFE_INC="1"
  @INC:
    /home/alceu/perl5/perlbrew/perls/perl-5.34.0/lib/site_perl/5.34.0/x86_64-linux
    /home/alceu/perl5/perlbrew/perls/perl-5.34.0/lib/site_perl/5.34.0
    /home/alceu/perl5/perlbrew/perls/perl-5.34.0/lib/5.34.0/x86_64-linux
    /home/alceu/perl5/perlbrew/perls/perl-5.34.0/lib/5.34.0
    .