Report for Dist-Zilla-Plugin-SpellingCommonMistakesTests-1.001000

Back
From: metabase:user:9820532a-708b-1014-9a05-b18a96298da1
Subject: PASS Dist-Zilla-Plugin-SpellingCommonMistakesTests-1.001000 v5.14.1 GNU/Linux
Date: 2011-07-09T23:43:11Z

This distribution has been tested as part of the CPAN Testers
project, supporting the Perl programming language.  See
http://wiki.cpantesters.org/ for more information or email
questions to cpan-testers-discuss@perl.org


--
Dear Adam Lesperance,

This is a computer-generated report for Dist-Zilla-Plugin-SpellingCommonMistakesTests-1.001000
on perl 5.14.1, created by CPAN-Reporter-1.1902.

Thank you for uploading your work to CPAN.  Congratulations!
All tests were successful.

Sections of this report:

    * Tester comments
    * Program output
    * Prerequisites
    * Environment and other context

------------------------------
TESTER COMMENTS
------------------------------

Additional comments from tester:

this report is from an automated smoke testing program
and was not reviewed by a human for accuracy

------------------------------
PROGRAM OUTPUT
------------------------------

Output from './Build test':

t/00-compile.t .................. ok
# 
[Bootstrap::lib] lib added to @INC at (eval 4) line 1
# 
# perl: v5.14.1 (wanted 5.008) on linux from /home/test/perl5/perlbrew/perls/perl-5.14.1/bin/perl5.14.1
# 
# Dist::Zilla::Plugin::Bootstrap::lib           => 0.01023600 (want any version)
# Dist::Zilla::Plugin::InlineFiles              => 4.200009   (want any version)
# English                                       => 1.04       (want any version)
# File::Find                                    => 1.19       (want any version)
# File::Temp                                    => 0.22       (want any version)
# Module::Build                                 => 0.38       (want 0.3601) 
# Moose                                         => 2.0010     (want any version)
# Pod::Spell::CommonMistakes                    => 1.000      (want any version)
# Test::More                                    => 0.98       (want 0.88)   
# Test::Pod::Spelling::CommonMistakes           => 1.000      (want any version)
# utf8                                          => 1.09       (want any version)
# 
# Thanks for using my code.  I hope it works for you.
# If not, please try and include this output in the bug report.
# That will help me reproduce the issue and solve you problem.
# 
t/000-report-versions-tiny.t .... ok
t/author-critic.t ............... skipped: these tests are for testing by the author
t/release-common_spelling.t ..... skipped: these tests are for release candidate testing
t/release-consistent-version.t .. skipped: these tests are for release candidate testing
t/release-cpan-changes.t ........ skipped: these tests are for release candidate testing
t/release-dist-manifest.t ....... skipped: these tests are for release candidate testing
t/release-distmeta.t ............ skipped: these tests are for release candidate testing
t/release-eol.t ................. skipped: these tests are for release candidate testing
t/release-has-version.t ......... skipped: these tests are for release candidate testing
t/release-kwalitee.t ............ skipped: these tests are for release candidate testing
t/release-minimum-version.t ..... skipped: these tests are for release candidate testing
t/release-no-tabs.t ............. skipped: these tests are for release candidate testing
t/release-pod-coverage.t ........ skipped: these tests are for release candidate testing
t/release-pod-syntax.t .......... skipped: these tests are for release candidate testing
t/release-portability.t ......... skipped: these tests are for release candidate testing
t/release-unused-vars.t ......... skipped: these tests are for release candidate testing
All tests successful.
Files=17, Tests=2,  2 wallclock secs ( 0.04 usr  0.05 sys +  1.07 cusr  0.32 csys =  1.48 CPU)
Result: PASS

------------------------------
PREREQUISITES
------------------------------

Prerequisite modules loaded:

requires:

    Module                              Need   Have      
    ----------------------------------- ------ ----------
    Dist::Zilla::Plugin::InlineFiles    0      4.200009  
    Moose                               0      2.0010    
    perl                                5.008  5.014001  
    Pod::Spell::CommonMistakes          0      1.000     
    Test::Pod::Spelling::CommonMistakes 0      1.000     
    utf8                                0      1.09      

build_requires:

    Module                              Need   Have      
    ----------------------------------- ------ ----------
    Dist::Zilla::Plugin::Bootstrap::lib 0      0.01023600
    English                             0      1.04      
    File::Find                          0      1.19      
    File::Temp                          0      0.22      
    Module::Build                       0.3601 0.3800    
    Test::More                          0.88   0.98      

configure_requires:

    Module                              Need   Have      
    ----------------------------------- ------ ----------
    Module::Build                       0.3601 0.3800    


------------------------------
ENVIRONMENT AND OTHER CONTEXT
------------------------------

Environment variables:

    AUTOMATED_TESTING = 1
    LANG = C
    LC_ALL = C
    PATH = /home/test/bin:/home/test/perl5/perlbrew/bin:/home/test/perl5/perlbrew/perls/perl-5.14.1/bin:~/bin:/usr/bin:/bin
    PATH_WITHOUT_PERLBREW = ~/bin:/usr/bin:/bin
    PERL5LIB = /home/test/.cpan/build/Pod-Spell-1.01-b3LGFU/blib/arch:/home/test/.cpan/build/Pod-Spell-1.01-b3LGFU/blib/lib:/home/test/.cpan/build/Dist-Zilla-Plugin-Bootstrap-lib-0.01023600-ZEJiZY/blib/arch:/home/test/.cpan/build/Dist-Zilla-Plugin-Bootstrap-lib-0.01023600-ZEJiZY/blib/lib:/home/test/.cpan/build/Test-Pod-Spelling-CommonMistakes-1.000-YdSYkB/blib/arch:/home/test/.cpan/build/Test-Pod-Spelling-CommonMistakes-1.000-YdSYkB/blib/lib:/home/test/.cpan/build/Pod-Spell-CommonMistakes-1.000-UB9NMe/blib/arch:/home/test/.cpan/build/Pod-Spell-CommonMistakes-1.000-UB9NMe/blib/lib
    PERL5OPT = 
    PERL5_CPANPLUS_IS_RUNNING = 21587
    PERL5_CPAN_IS_RUNNING = 21587
    PERL5_CPAN_IS_RUNNING_IN_RECURSION = 24995,21587
    PERLBREW_HOME = /home/test/.perlbrew
    PERLBREW_PATH = /home/test/perl5/perlbrew/bin:/home/test/perl5/perlbrew/perls/perl-5.14.1/bin
    PERLBREW_PERL = perl-5.14.1
    PERLBREW_ROOT = /home/test/perl5/perlbrew
    PERLBREW_VERSION = 0.25
    PERL_CR_SMOKER_CURRENT = Dist-Zilla-Plugin-SpellingCommonMistakesTests-1.001000
    PERL_EXTUTILS_AUTOINSTALL = --defaultdeps
    PERL_MM_USE_DEFAULT = 1
    SHELL = /bin/bash
    TERM = linux

Perl special variables (and OS-specific diagnostics, for MSWin32):

    $^X = /home/test/perl5/perlbrew/perls/perl-5.14.1/bin/perl5.14.1
    $UID/$EUID = 1001 / 1001
    $GID = 1001 1001
    $EGID = 1001 1001

Perl module toolchain versions installed:

    Module              Have    
    ------------------- --------
    CPAN                1.9600  
    Cwd                 3.36    
    ExtUtils::CBuilder  0.280203
    ExtUtils::Command   1.17    
    ExtUtils::Install   1.56    
    ExtUtils::MakeMaker 6.58    
    ExtUtils::Manifest  1.58    
    ExtUtils::ParseXS   2.2210  
    File::Spec          3.33    
    Module::Build       0.3800  
    Module::Signature   n/a     
    Test::Harness       3.23    
    Test::More          0.98    
    YAML                0.73    
    YAML::Syck          1.17    
    version             0.91    


--

Summary of my perl5 (revision 5 version 14 subversion 1) configuration:
   
  Platform:
    osname=linux, osvers=2.6.35-28-generic, archname=x86_64-linux-thread-multi-ld
    uname='linux zippy 2.6.35-28-generic #50-ubuntu smp fri mar 18 18:42:20 utc 2011 x86_64 gnulinux '
    config_args='-de -Dprefix=/home/test/perl5/perlbrew/perls/perl-5.14.1 -Duselongdouble -Duse64bitall -Dusethreads'
    hint=recommended, useposix=true, d_sigaction=define
    useithreads=define, usemultiplicity=define
    useperlio=define, d_sfio=undef, uselargefiles=define, usesocks=undef
    use64bitint=define, use64bitall=define, uselongdouble=define
    usemymalloc=n, bincompat5005=undef
  Compiler:
    cc='cc', ccflags ='-D_REENTRANT -D_GNU_SOURCE -fno-strict-aliasing -pipe -fstack-protector -I/usr/local/include -D_LARGEFILE_SOURCE -D_FILE_OFFSET_BITS=64',
    optimize='-O2',
    cppflags='-D_REENTRANT -D_GNU_SOURCE -fno-strict-aliasing -pipe -fstack-protector -I/usr/local/include'
    ccversion='', gccversion='4.4.5', gccosandvers=''
    intsize=4, longsize=8, ptrsize=8, doublesize=8, byteorder=12345678
    d_longlong=define, longlongsize=8, d_longdbl=define, longdblsize=16
    ivtype='long', ivsize=8, nvtype='long double', nvsize=16, Off_t='off_t', lseeksize=8
    alignbytes=16, prototype=define
  Linker and Libraries:
    ld='cc', ldflags =' -fstack-protector -L/usr/local/lib'
    libpth=/usr/local/lib /lib/../lib /usr/lib/../lib /lib /usr/lib /usr/lib/x86_64-linux-gnu /lib64 /usr/lib64
    libs=-lnsl -ldl -lm -lcrypt -lutil -lpthread -lc
    perllibs=-lnsl -ldl -lm -lcrypt -lutil -lpthread -lc
    libc=/lib/libc-2.12.1.so, so=so, useshrplib=false, libperl=libperl.a
    gnulibc_version='2.12.1'
  Dynamic Linking:
    dlsrc=dl_dlopen.xs, dlext=so, d_dlsymun=undef, ccdlflags='-Wl,-E'
    cccdlflags='-fPIC', lddlflags='-shared -O2 -L/usr/local/lib -fstack-protector'


Characteristics of this binary (from libperl): 
  Compile-time options: MULTIPLICITY PERL_DONT_CREATE_GVSV
                        PERL_IMPLICIT_CONTEXT PERL_MALLOC_WRAP
                        PERL_PRESERVE_IVUV USE_64_BIT_ALL USE_64_BIT_INT
                        USE_ITHREADS USE_LARGE_FILES USE_LONG_DOUBLE
                        USE_PERLIO USE_PERL_ATOF USE_REENTRANT_API
  Built under linux
  Compiled at Jun 20 2011 16:28:36
  %ENV:
    PERL5LIB="/home/test/.cpan/build/Pod-Spell-1.01-b3LGFU/blib/arch:/home/test/.cpan/build/Pod-Spell-1.01-b3LGFU/blib/lib:/home/test/.cpan/build/Dist-Zilla-Plugin-Bootstrap-lib-0.01023600-ZEJiZY/blib/arch:/home/test/.cpan/build/Dist-Zilla-Plugin-Bootstrap-lib-0.01023600-ZEJiZY/blib/lib:/home/test/.cpan/build/Test-Pod-Spelling-CommonMistakes-1.000-YdSYkB/blib/arch:/home/test/.cpan/build/Test-Pod-Spelling-CommonMistakes-1.000-YdSYkB/blib/lib:/home/test/.cpan/build/Pod-Spell-CommonMistakes-1.000-UB9NMe/blib/arch:/home/test/.cpan/build/Pod-Spell-CommonMistakes-1.000-UB9NMe/blib/lib"
    PERL5OPT=""
    PERL5_CPANPLUS_IS_RUNNING="21587"
    PERL5_CPAN_IS_RUNNING="21587"
    PERL5_CPAN_IS_RUNNING_IN_RECURSION="24995,21587"
    PERLBREW_HOME="/home/test/.perlbrew"
    PERLBREW_PATH="/home/test/perl5/perlbrew/bin:/home/test/perl5/perlbrew/perls/perl-5.14.1/bin"
    PERLBREW_PERL="perl-5.14.1"
    PERLBREW_ROOT="/home/test/perl5/perlbrew"
    PERLBREW_VERSION="0.25"
    PERL_CR_SMOKER_CURRENT="Dist-Zilla-Plugin-SpellingCommonMistakesTests-1.001000"
    PERL_EXTUTILS_AUTOINSTALL="--defaultdeps"
    PERL_MM_USE_DEFAULT="1"
  @INC:
    /home/test/.cpan/build/Pod-Spell-1.01-b3LGFU/blib/arch
    /home/test/.cpan/build/Pod-Spell-1.01-b3LGFU/blib/lib
    /home/test/.cpan/build/Dist-Zilla-Plugin-Bootstrap-lib-0.01023600-ZEJiZY/blib/arch
    /home/test/.cpan/build/Dist-Zilla-Plugin-Bootstrap-lib-0.01023600-ZEJiZY/blib/lib
    /home/test/.cpan/build/Test-Pod-Spelling-CommonMistakes-1.000-YdSYkB/blib/arch
    /home/test/.cpan/build/Test-Pod-Spelling-CommonMistakes-1.000-YdSYkB/blib/lib
    /home/test/.cpan/build/Pod-Spell-CommonMistakes-1.000-UB9NMe/blib/arch
    /home/test/.cpan/build/Pod-Spell-CommonMistakes-1.000-UB9NMe/blib/lib
    /home/test/perl5/perlbrew/perls/perl-5.14.1/lib/site_perl/5.14.1/x86_64-linux-thread-multi-ld
    /home/test/perl5/perlbrew/perls/perl-5.14.1/lib/site_perl/5.14.1
    /home/test/perl5/perlbrew/perls/perl-5.14.1/lib/5.14.1/x86_64-linux-thread-multi-ld
    /home/test/perl5/perlbrew/perls/perl-5.14.1/lib/5.14.1
    .