ETL-Yertl v0.044 Perl 5 v5.28.2 x86_64-linux
- Status
- Pass
- From
- Slaven Rezić (SREZIC)
- Dist
-
ETL-Yertl v0.044
- Platform
- Perl 5 v5.28.2 x86_64-linux
- Date
- 2020-07-28 05:50:13
- ID
- 349e3f04-d096-11ea-9017-1a451f24ea8f
This distribution has been tested as part of the CPAN Testers
project, supporting the Perl programming language. See
http://wiki.cpantesters.org/ for more information or email
questions to cpan-testers-discuss@perl.org
--
Dear Doug Bell,
This is a computer-generated report for ETL-Yertl-0.044
on perl 5.28.2, created by CPAN-Reporter-1.2018.
Thank you for uploading your work to CPAN. Congratulations!
All tests were successful.
Sections of this report:
* Tester comments
* Program output
* Prerequisites
* Environment and other context
------------------------------
TESTER COMMENTS
------------------------------
Additional comments from tester:
none provided
------------------------------
PROGRAM OUTPUT
------------------------------
Output from '/usr/bin/make test':
PERL_DL_NONLAZY=1 "/opt/perl-5.28.2/bin/perl" "-MExtUtils::Command::MM" "-MTest::Harness" "-e" "undef *Test::Harness::Switches; test_harness(0, 'blib/lib', 'blib/arch')" t/*.t t/adapter/*.t t/bin/*.t t/command/ygrok/*.t t/command/ygrok/pattern/*.t t/command/yq/*.t t/format/*.t t/integration/*.t
t/00-compile.t ........................... ok
#
# Versions for all modules listed in MYMETA.json (including optional ones):
#
# === Configure Requires ===
#
# Module Want Have
# ------------------- ---- ----
# ExtUtils::MakeMaker any 7.44
#
# === Build Requires ===
#
# Module Want Have
# ------------------- ---- ----
# ExtUtils::MakeMaker any 7.44
#
# === Test Requires ===
#
# Module Want Have
# ------------------- -------- --------
# Capture::Tiny any 0.48
# Dir::Self any 0.11
# ExtUtils::MakeMaker any 7.44
# File::Spec any 3.75
# Future any 0.43
# IO::Handle any 1.42
# IPC::Open3 any 1.20
# JSON::PP any 2.97001
# Mock::MonkeyPatch any 0.04
# Test::Deep any 1.130
# Test::Differences any 0.67
# Test::Exception any 0.43
# Test::Lib any 0.002
# Test::More 1.001005 1.302174
#
# === Test Recommends ===
#
# Module Want Have
# ---------- -------- --------
# CPAN::Meta 2.120900 2.150010
#
# === Runtime Requires ===
#
# Module Want Have
# ------------------- ---------- ----------
# File::HomeDir any 1.004
# File::Spec any 3.75
# Getopt::Long 2.36 2.51
# Hash::Merge::Simple any 0.051
# IO::Async 0.77 0.77
# IO::Interactive any 1.022
# Import::Base 0.010 1.004
# JSON::MaybeXS any 1.004001
# List::Util any 1.54
# Module::Runtime any 0.016
# Net::Async::HTTP any 0.44
# Path::Tiny 0.072 0.114
# Pod::Usage::Return any 0.003
# Regexp::Common 2013031301 2017060201
# SQL::Abstract any 1.87
# Time::Local any 1.28
# Time::Piece any 1.34
# URI any 1.76
# YAML::Tiny any 1.73
# boolean any 0.46
#
# === Runtime Recommends ===
#
# Module Want Have
# ------------ ---- -------
# DBD::SQLite any 1.64
# DBI any 1.643
# JSON::PP any 2.97001
# JSON::XS any 4.02
# Text::CSV any 2.00
# Text::CSV_XS any 1.39
# YAML::Syck any 1.31
# YAML::XS any 0.80
#
t/00-report-prereqs.t .................... ok
t/adapter/graphite.t ..................... ok
t/adapter/influxdb.t ..................... ok
t/bin/yfrom.t ............................ ok
t/bin/ygrok.t ............................ ok
t/bin/yq.t ............................... ok
t/bin/ysql.t ............................. ok
t/bin/yto.t .............................. ok
t/bin/yts.t .............................. ok
t/command/ygrok/edit_patterns.t .......... ok
t/command/ygrok/pattern/http_combined.t .. ok
t/command/ygrok/pattern/http_common.t .... ok
t/command/ygrok/pattern/linux_proc.t ..... ok
t/command/ygrok/pattern/ls-l.t ........... ok
t/command/ygrok/pattern/ps-u.t ........... ok
t/command/ygrok/pattern/ps-x.t ........... ok
t/command/ygrok/pattern/ps.t ............. ok
t/command/ygrok/pattern/syslog.t ......... ok
t/command/yq/combinator.t ................ ok
t/command/yq/comparison.t ................ ok
t/command/yq/conditional.t ............... ok
t/command/yq/filter.t .................... ok
t/command/yq/functions.t ................. ok
t/command/yq/regression.t ................ ok
t/command/yq/values.t .................... ok
t/format.t ............................... ok
t/format/csv.t ........................... ok
Prototype mismatch: sub main::decode_json ($) vs none at /opt/perl-5.28.2/lib/5.28.2/Exporter.pm line 66.
at (eval 30) line 1.
t/format/json.t .......................... ok
t/format/yaml.t .......................... ok
t/format_stream.t ........................ ok
t/helpers.t .............................. ok
t/input_series.t ......................... ok
t/integration/parse_apache_log.t ......... ok
t/transform.t ............................ ok
All tests successful.
Files=35, Tests=124, 13 wallclock secs ( 0.31 usr 0.09 sys + 11.23 cusr 1.46 csys = 13.09 CPU)
Result: PASS
------------------------------
PREREQUISITES
------------------------------
Prerequisite modules loaded:
requires:
Module Need Have
------------------- ---------- ----------
boolean 0 0.46
File::HomeDir 0 1.004
File::Spec 0 3.75
Getopt::Long 2.36 2.51
Hash::Merge::Simple 0 0.051
Import::Base 0.010 1.004
IO::Async 0.77 0.77
IO::Interactive 0 1.022
JSON::MaybeXS 0 1.004001
List::Util 0 1.54
Module::Runtime 0 0.016
Net::Async::HTTP 0 0.44
Path::Tiny 0.072 0.114
perl 5.010 5.028002
Pod::Usage::Return 0 0.003
Regexp::Common 2013031301 2017060201
SQL::Abstract 0 1.87
Time::Local 0 1.28
Time::Piece 0 1.34
URI 0 1.76
YAML::Tiny 0 1.73
build_requires:
Module Need Have
------------------- ---------- ----------
Capture::Tiny 0 0.48
Dir::Self 0 0.11
ExtUtils::MakeMaker 0 7.44
File::Spec 0 3.75
Future 0 0.43
IO::Handle 0 1.42
IPC::Open3 0 1.20
JSON::PP 0 2.97001
Mock::MonkeyPatch 0 0.04
Test::Deep 0 1.130
Test::Differences 0 0.67
Test::Exception 0 0.43
Test::Lib 0 0.002
Test::More 1.001005 1.302174
configure_requires:
Module Need Have
------------------- ---------- ----------
ExtUtils::MakeMaker 0 7.44
opt_requires:
Module Need Have
------------------- ---------- ----------
DBD::SQLite 0 1.64
DBI 0 1.643
JSON::PP 0 2.97001
JSON::XS 0 4.02
Text::CSV 0 2.00
Text::CSV_XS 0 1.39
YAML::Syck 0 1.31
YAML::XS 0 0.80
opt_build_requires:
Module Need Have
------------------- ---------- ----------
CPAN::Meta 2.120900 2.150010
------------------------------
ENVIRONMENT AND OTHER CONTEXT
------------------------------
Environment variables:
LANG = en_US.UTF-8
PATH = /usr/local/bin:/usr/bin:/bin:/usr/local/sbin:/usr/sbin:/sbin:/home/cpansand/bin/linux-gnu:/home/cpansand/bin/sh:/home/cpansand/bin:/usr/games:/home/cpansand/devel:/home/eserte/src/srezic-misc/scripts
PERL5LIB = /home/cpansand/.cpan/build/2020072804/IO-Async-0.77-2/blib/arch:/home/cpansand/.cpan/build/2020072804/IO-Async-0.77-2/blib/lib:/home/cpansand/.cpan/build/2020072804/Test-Metrics-Any-0.01-2/blib/arch:/home/cpansand/.cpan/build/2020072804/Test-Metrics-Any-0.01-2/blib/lib:/home/cpansand/.cpan/build/2020072804/Metrics-Any-0.06-2/blib/arch:/home/cpansand/.cpan/build/2020072804/Metrics-Any-0.06-2/blib/lib
PERL5OPT =
PERL5_CPANPLUS_IS_RUNNING = 23624
PERL5_CPAN_IS_RUNNING = 23624
PERL5_CPAN_IS_RUNNING_IN_RECURSION = 22390,23624
PERLDOC = -MPod::Perldoc::ToTextOverstrike
PERL_BATCH = yes
PERL_CANARY_STABILITY_NOPROMPT = 1
PERL_CPAN_REPORTER_CONFIG = /var/tmp/cpansmoker-1023/2020072804/cpanreporter_000_config.ini
PERL_EXTUTILS_AUTOINSTALL = --defaultdeps
PERL_USE_UNSAFE_INC = 1
SHELL = /usr/bin/zsh
TERM = screen
TMPDIR = /var/tmp/cpansmoker-1023/2020072804
Perl special variables (and OS-specific diagnostics, for MSWin32):
$^X = /opt/perl-5.28.2/bin/perl
$UID/$EUID = 1023 / 1023
$GID = 1023 1023
$EGID = 1023 1023
Perl module toolchain versions installed:
Module Have
------------------- --------
CPAN 2.20
CPAN::Meta 2.150010
Cwd 3.75
ExtUtils::CBuilder 0.280231
ExtUtils::Command 7.44
ExtUtils::Install 2.14
ExtUtils::MakeMaker 7.44
ExtUtils::Manifest 1.70
ExtUtils::ParseXS 3.39
File::Spec 3.75
JSON 4.02
JSON::PP 2.97001
Module::Build 0.4229
Module::Signature 0.83
Parse::CPAN::Meta 2.150010
Test::Harness 3.42
Test::More 1.302174
YAML 1.30
YAML::Syck 1.31
version 0.9923
--
Summary of my perl5 (revision 5 version 28 subversion 2) configuration:
Platform:
osname=linux
osvers=3.10.0-957.10.1.el7.x86_64
archname=x86_64-linux
uname='linux centos-4gb-hel1-1 3.10.0-957.10.1.el7.x86_64 #1 smp mon mar 18 15:06:45 utc 2019 x86_64 x86_64 x86_64 gnulinux '
config_args='-ds -e -Dprefix=/opt/perl-5.28.2 -Dcf_email=srezic@cpan.org'
hint=recommended
useposix=true
d_sigaction=define
useithreads=undef
usemultiplicity=undef
use64bitint=define
use64bitall=define
uselongdouble=undef
usemymalloc=n
default_inc_excludes_dot=define
bincompat5005=undef
Compiler:
cc='cc'
ccflags ='-fwrapv -fno-strict-aliasing -pipe -fstack-protector-strong -I/usr/local/include -D_LARGEFILE_SOURCE -D_FILE_OFFSET_BITS=64 -D_FORTIFY_SOURCE=2'
optimize='-O2'
cppflags='-fwrapv -fno-strict-aliasing -pipe -fstack-protector-strong -I/usr/local/include'
ccversion=''
gccversion='4.8.5 20150623 (Red Hat 4.8.5-36)'
gccosandvers=''
intsize=4
longsize=8
ptrsize=8
doublesize=8
byteorder=12345678
doublekind=3
d_longlong=define
longlongsize=8
d_longdbl=define
longdblsize=16
longdblkind=3
ivtype='long'
ivsize=8
nvtype='double'
nvsize=8
Off_t='off_t'
lseeksize=8
alignbytes=8
prototype=define
Linker and Libraries:
ld='cc'
ldflags =' -fstack-protector-strong -L/usr/local/lib'
libpth=/usr/local/lib /usr/lib /lib/../lib64 /usr/lib/../lib64 /lib /lib64 /usr/lib64 /usr/local/lib64
libs=-lpthread -lnsl -lgdbm -ldb -ldl -lm -lcrypt -lutil -lc -lgdbm_compat
perllibs=-lpthread -lnsl -ldl -lm -lcrypt -lutil -lc
libc=libc-2.17.so
so=so
useshrplib=false
libperl=libperl.a
gnulibc_version='2.17'
Dynamic Linking:
dlsrc=dl_dlopen.xs
dlext=so
d_dlsymun=undef
ccdlflags='-Wl,-E'
cccdlflags='-fPIC'
lddlflags='-shared -O2 -L/usr/local/lib -fstack-protector-strong'
Characteristics of this binary (from libperl):
Compile-time options:
HAS_TIMES
PERLIO_LAYERS
PERL_COPY_ON_WRITE
PERL_DONT_CREATE_GVSV
PERL_MALLOC_WRAP
PERL_OP_PARENT
PERL_PRESERVE_IVUV
USE_64_BIT_ALL
USE_64_BIT_INT
USE_LARGE_FILES
USE_LOCALE
USE_LOCALE_COLLATE
USE_LOCALE_CTYPE
USE_LOCALE_NUMERIC
USE_LOCALE_TIME
USE_PERLIO
USE_PERL_ATOF
Built under linux
Compiled at Apr 20 2019 07:44:03
%ENV:
PERL5LIB="/home/cpansand/.cpan/build/2020072804/IO-Async-0.77-2/blib/arch:/home/cpansand/.cpan/build/2020072804/IO-Async-0.77-2/blib/lib:/home/cpansand/.cpan/build/2020072804/Test-Metrics-Any-0.01-2/blib/arch:/home/cpansand/.cpan/build/2020072804/Test-Metrics-Any-0.01-2/blib/lib:/home/cpansand/.cpan/build/2020072804/Metrics-Any-0.06-2/blib/arch:/home/cpansand/.cpan/build/2020072804/Metrics-Any-0.06-2/blib/lib"
PERL5OPT=""
PERL5_CPANPLUS_IS_RUNNING="23624"
PERL5_CPAN_IS_RUNNING="23624"
PERL5_CPAN_IS_RUNNING_IN_RECURSION="22390,23624"
PERLDOC="-MPod::Perldoc::ToTextOverstrike"
PERL_BATCH="yes"
PERL_CANARY_STABILITY_NOPROMPT="1"
PERL_CPAN_REPORTER_CONFIG="/var/tmp/cpansmoker-1023/2020072804/cpanreporter_000_config.ini"
PERL_EXTUTILS_AUTOINSTALL="--defaultdeps"
PERL_USE_UNSAFE_INC="1"
@INC:
/home/cpansand/.cpan/build/2020072804/IO-Async-0.77-2/blib/arch
/home/cpansand/.cpan/build/2020072804/IO-Async-0.77-2/blib/lib
/home/cpansand/.cpan/build/2020072804/Test-Metrics-Any-0.01-2/blib/arch
/home/cpansand/.cpan/build/2020072804/Test-Metrics-Any-0.01-2/blib/lib
/home/cpansand/.cpan/build/2020072804/Metrics-Any-0.06-2/blib/arch
/home/cpansand/.cpan/build/2020072804/Metrics-Any-0.06-2/blib/lib
/opt/perl-5.28.2/lib/site_perl/5.28.2/x86_64-linux
/opt/perl-5.28.2/lib/site_perl/5.28.2
/opt/perl-5.28.2/lib/5.28.2/x86_64-linux
/opt/perl-5.28.2/lib/5.28.2
.