Catalyst-Controller-HTML-FormFu v2.04 Perl 5 v5.14.4 x86_64-linux-thread-multi

Status
Pass
From
David Cantrell (DCANTRELL)
Dist
Catalyst-Controller-HTML-FormFu v2.04
Platform
Perl 5 v5.14.4 x86_64-linux-thread-multi
Date
2020-01-24 18:13:22
ID
34b1d2ec-3ed5-11ea-9242-876e052d0de1
This distribution has been tested as part of the CPAN Testers
project, supporting the Perl programming language.  See
http://wiki.cpantesters.org/ for more information or email
questions to cpan-testers-discuss@perl.org


--
Dear Nigel Metheringham,

This is a computer-generated report for Catalyst-Controller-HTML-FormFu-2.04
on perl 5.14.4, created by CPAN-Reporter-1.2018.

Thank you for uploading your work to CPAN.  Congratulations!
All tests were successful.

Sections of this report:

    * Tester comments
    * Program output
    * Prerequisites
    * Environment and other context

------------------------------
TESTER COMMENTS
------------------------------

Additional comments from tester:

this report is from an automated smoke testing program
and was not reviewed by a human for accuracy

------------------------------
PROGRAM OUTPUT
------------------------------

Output from '/usr/bin/make test':

PERL_DL_NONLAZY=1 "/home/david/cpantesting/perl-5.14.4/bin/perl" "-MExtUtils::Command::MM" "-MTest::Harness" "-e" "undef *Test::Harness::Switches; test_harness(0, 'blib/lib', 'blib/arch')" t/*.t t/elements/*.t
# 
# Versions for all modules listed in MYMETA.json (including optional ones):
# 
# === Configure Requires ===
# 
#     Module              Want Have
#     ------------------- ---- ----
#     ExtUtils::MakeMaker  any 7.34
# 
# === Build Requires ===
# 
#     Module              Want Have
#     ------------------- ---- ----
#     ExtUtils::MakeMaker  any 7.34
# 
# === Test Requires ===
# 
#     Module                                               Want     Have
#     ------------------------------------------------- ------- --------
#     Catalyst                                              any  5.90126
#     Catalyst::Action::RenderView                          any     0.16
#     Catalyst::Plugin::Session                             any     0.41
#     Catalyst::Plugin::Session::State::Cookie              any     0.17
#     Catalyst::Plugin::Session::Store::File                any     0.18
#     Catalyst::Runtime                                 5.71001  5.90126
#     Catalyst::View::TT                                    any     0.44
#     Code::TidyAll::Plugin::Perl::AlignMooseAttributes     any     0.01
#     Data::Dumper                                          any 2.130_02
#     ExtUtils::MakeMaker                                   any     7.34
#     File::Spec                                            any     3.33
#     FindBin                                               any     1.50
#     HTML::FormFu::MultiForm                              1.02     1.03
#     Pod::Coverage::TrustPod                               any 0.100005
#     Pod::Tidy                                             any     0.10
#     Template                                              any    3.006
#     Test::CPAN::Meta                                      any     0.25
#     Test::Differences                                     any     0.67
#     Test::EOL                                             any     2.00
#     Test::Kwalitee                                       1.21     1.28
#     Test::Memory::Cycle                                   any     1.06
#     Test::More                                           0.92 1.302171
#     Test::NoTabs                                          any     2.02
#     Test::PAUSE::Permissions                              any     0.07
#     Test::Pod                                            1.41     1.52
#     Test::Pod::Coverage                                  1.08     1.10
#     Test::WWW::Mechanize                                 1.16     1.52
#     Test::WWW::Mechanize::Catalyst                        any     0.62
#     base                                                  any     2.16
#     lib                                                   any     0.63
# 
# === Test Recommends ===
# 
#     Module         Want     Have
#     ---------- -------- --------
#     CPAN::Meta 2.120900 2.150010
# 
# === Runtime Requires ===
# 
#     Module                                     Want     Have
#     --------------------------------------- ------- --------
#     Carp                                        any     1.50
#     Catalyst::Action                            any    undef
#     Catalyst::Component::InstancePerContext     any 0.001001
#     Catalyst::Controller                        any    undef
#     Catalyst::Runtime                       5.71001  5.90126
#     Config::Any                                 any     0.32
#     File::Spec                                  any     3.33
#     HTML::FormFu                               2.06     2.07
#     HTML::FormFu::Constraint                    any     2.07
#     HTML::FormFu::Deploy                        any     2.07
#     HTML::FormFu::Element::Text                 any     2.07
#     HTML::FormFu::MultiForm                    1.02     1.03
#     HTML::FormFu::Plugin                        any     2.07
#     HTML::FormFu::Util                          any     2.07
#     Moose                                       any   2.2012
#     MooseX::Attribute::Chained                  any    1.0.3
#     Regexp::Assemble                            any     0.38
#     Scalar::Util                                any     1.53
#     Task::Weaken                                any     1.06
#     namespace::autoclean                        any     0.29
#     strict                                      any     1.04
#     warnings                                    any     1.12
# 
t/00-report-prereqs.t ............ ok
t/01basic-form.t ................. ok
t/01basic-formconfig.t ........... ok
t/01basic-formconfig_conf_ext.t .. ok
t/01basic-formmethod.t ........... ok
t/01basic-token.t ................ ok
t/02multiform-multiformconfig.t .. ok
t/02multiform-multiformmethod.t .. ok
t/02multiform-token.t ............ skipped: no multi form support yet
t/03instancepercontext.t ......... ok
t/elements/requesttoken.t ........ ok
All tests successful.
Files=11, Tests=127, 151 wallclock secs ( 0.07 usr  0.01 sys + 15.44 cusr  1.14 csys = 16.66 CPU)
Result: PASS

------------------------------
PREREQUISITES
------------------------------

Prerequisite modules loaded:

requires:

    Module                                            Need    Have    
    ------------------------------------------------- ------- --------
    Carp                                              0       1.50    
    Catalyst::Action                                  0       0       
    Catalyst::Component::InstancePerContext           0       0.001001
    Catalyst::Controller                              0       0       
    Catalyst::Runtime                                 5.71001 5.90126 
    Config::Any                                       0       0.32    
    File::Spec                                        0       3.33    
    HTML::FormFu                                      2.06    2.07    
    HTML::FormFu::Constraint                          0       2.07    
    HTML::FormFu::Deploy                              0       2.07    
    HTML::FormFu::Element::Text                       0       2.07    
    HTML::FormFu::MultiForm                           1.02    1.03    
    HTML::FormFu::Plugin                              0       2.07    
    HTML::FormFu::Util                                0       2.07    
    Moose                                             0       2.2012  
    MooseX::Attribute::Chained                        0       1.0.3   
    namespace::autoclean                              0       0.29    
    Regexp::Assemble                                  0       0.38    
    Scalar::Util                                      0       1.53    
    strict                                            0       1.04    
    Task::Weaken                                      0       1.06    
    warnings                                          0       1.12    

build_requires:

    Module                                            Need    Have    
    ------------------------------------------------- ------- --------
    base                                              0       2.16    
    Catalyst                                          0       5.90126 
    Catalyst::Action::RenderView                      0       0.16    
    Catalyst::Plugin::Session                         0       0.41    
    Catalyst::Plugin::Session::State::Cookie          0       0.17    
    Catalyst::Plugin::Session::Store::File            0       0.18    
    Catalyst::Runtime                                 5.71001 5.90126 
    Catalyst::View::TT                                0       0.44    
    Code::TidyAll::Plugin::Perl::AlignMooseAttributes 0       0.01    
    Data::Dumper                                      0       2.130_02
    ExtUtils::MakeMaker                               0       7.34    
    File::Spec                                        0       3.33    
    FindBin                                           0       1.50    
    HTML::FormFu::MultiForm                           1.02    1.03    
    lib                                               0       0.63    
    Pod::Coverage::TrustPod                           0       0.100005
    Pod::Tidy                                         0       0.10    
    Template                                          0       3.006   
    Test::CPAN::Meta                                  0       0.25    
    Test::Differences                                 0       0.67    
    Test::EOL                                         0       2.00    
    Test::Kwalitee                                    1.21    1.28    
    Test::Memory::Cycle                               0       1.06    
    Test::More                                        0.92    1.302171
    Test::NoTabs                                      0       2.02    
    Test::PAUSE::Permissions                          0       0.07    
    Test::Pod                                         1.41    1.52    
    Test::Pod::Coverage                               1.08    1.10    
    Test::WWW::Mechanize                              1.16    1.52    
    Test::WWW::Mechanize::Catalyst                    0       0.62    

configure_requires:

    Module                                            Need    Have    
    ------------------------------------------------- ------- --------
    ExtUtils::MakeMaker                               0       7.34    


------------------------------
ENVIRONMENT AND OTHER CONTEXT
------------------------------

Environment variables:

    AUTOMATED_TESTING = 1
    LANG = en_US.UTF-8
    NONINTERACTIVE_TESTING = 1
    PATH = /usr/local/bin:/usr/bin:/bin:/usr/local/games:/usr/games
    PERL = 5.14.4
    PERL5LIB = 
    PERL5OPT = 
    PERL5_CPANPLUS_IS_RUNNING = 27340
    PERL5_CPAN_IS_RUNNING = 27340
    PERLVER = 5.14.4
    PERL_INLINE_DIRECTORY = /home/david/.Inline-5.14.4
    PERL_MM_USE_DEFAULT = 1
    PERL_USE_UNSAFE_INC = 0
    SHELL = /bin/bash
    TERM = screen

Perl special variables (and OS-specific diagnostics, for MSWin32):

    $^X = /home/david/cpantesting/perl-5.14.4/bin/perl
    $UID/$EUID = 1000 / 1000
    $GID = 1000 27 1000
    $EGID = 1000 27 1000

Perl module toolchain versions installed:

    Module              Have     
    ------------------- ---------
    CPAN                1.9600_01
    CPAN::Meta          2.150010 
    Cwd                 3.36     
    ExtUtils::CBuilder  0.280203 
    ExtUtils::Command   7.34     
    ExtUtils::Install   2.06     
    ExtUtils::MakeMaker 7.34     
    ExtUtils::Manifest  1.70     
    ExtUtils::ParseXS   3.35     
    File::Spec          3.33     
    JSON                4.02     
    JSON::PP            4.02     
    Module::Build       0.4229   
    Module::Signature   n/a      
    Parse::CPAN::Meta   2.150010 
    Test::Harness       3.42     
    Test::More          1.302171 
    YAML                1.29     
    YAML::Syck          1.31     
    version             0.9924   


--

Summary of my perl5 (revision 5 version 14 subversion 4) configuration:
   
  Platform:
    osname=linux, osvers=4.9.0-8-amd64, archname=x86_64-linux-thread-multi
    uname='linux pigsty 4.9.0-8-amd64 #1 smp debian 4.9.144-3 (2019-02-02) x86_64 gnulinux '
    config_args='-de -Duse64bitall -Dusethreads -Dprefix=/home/david/cpantesting/perl-5.14.4 -A ccflags=-fwrapv'
    hint=previous, useposix=true, d_sigaction=define
    useithreads=define, usemultiplicity=define
    useperlio=define, d_sfio=undef, uselargefiles=define, usesocks=undef
    use64bitint=define, use64bitall=define, uselongdouble=undef
    usemymalloc=n, bincompat5005=undef
  Compiler:
    cc='cc', ccflags ='-D_REENTRANT -D_GNU_SOURCE -fwrapv -fno-strict-aliasing -pipe -fstack-protector -I/usr/local/include -D_LARGEFILE_SOURCE -D_FILE_OFFSET_BITS=64 -fwrapv -fwrapv',
    optimize='-O2',
    cppflags='-D_REENTRANT -D_GNU_SOURCE -fwrapv -fno-strict-aliasing -pipe -fstack-protector -I/usr/local/include -D_REENTRANT -D_GNU_SOURCE -fwrapv -fno-strict-aliasing -pipe -fstack-protector -I/usr/local/include -D_LARGEFILE_SOURCE -D_FILE_OFFSET_BITS=64 -fwrapv -D_REENTRANT -D_GNU_SOURCE -fwrapv -fno-strict-aliasing -pipe -fstack-protector -I/usr/local/include -D_LARGEFILE_SOURCE -D_FILE_OFFSET_BITS=64 -fwrapv -fwrapv'
    ccversion='', gccversion='6.3.0 20170516', gccosandvers=''
    intsize=4, longsize=8, ptrsize=8, doublesize=8, byteorder=12345678
    d_longlong=define, longlongsize=8, d_longdbl=define, longdblsize=16
    ivtype='long', ivsize=8, nvtype='double', nvsize=8, Off_t='off_t', lseeksize=8
    alignbytes=8, prototype=define
  Linker and Libraries:
    ld='cc', ldflags =' -fstack-protector -L/usr/local/lib'
    libpth=/usr/local/lib /lib/x86_64-linux-gnu /lib/../lib /usr/lib/x86_64-linux-gnu /usr/lib/../lib /lib /usr/lib
    libs=-lnsl -ldb -ldl -lm -lcrypt -lutil -lpthread -lc
    perllibs=-lnsl -ldl -lm -lcrypt -lutil -lpthread -lc
    libc=libc-2.24.so, so=so, useshrplib=false, libperl=libperl.a
    gnulibc_version='2.24'
  Dynamic Linking:
    dlsrc=dl_dlopen.xs, dlext=so, d_dlsymun=undef, ccdlflags='-Wl,-E'
    cccdlflags='-fPIC', lddlflags='-shared -O2 -L/usr/local/lib -fstack-protector'


Characteristics of this binary (from libperl): 
  Compile-time options: MULTIPLICITY PERL_DONT_CREATE_GVSV
                        PERL_IMPLICIT_CONTEXT PERL_MALLOC_WRAP
                        PERL_PRESERVE_IVUV USE_64_BIT_ALL USE_64_BIT_INT
                        USE_ITHREADS USE_LARGE_FILES USE_PERLIO USE_PERL_ATOF
                        USE_REENTRANT_API
  Locally applied patches:
	Devel::PatchPerl 1.56
  Built under linux
  Compiled at Apr 25 2019 22:16:53
  %ENV:
    PERL="5.14.4"
    PERL5LIB=""
    PERL5OPT=""
    PERL5_CPANPLUS_IS_RUNNING="27340"
    PERL5_CPAN_IS_RUNNING="27340"
    PERLVER="5.14.4"
    PERL_INLINE_DIRECTORY="/home/david/.Inline-5.14.4"
    PERL_MM_USE_DEFAULT="1"
    PERL_USE_UNSAFE_INC="0"
  @INC:
    /home/david/cpantesting/perl-5.14.4/lib/site_perl/5.14.4/x86_64-linux-thread-multi
    /home/david/cpantesting/perl-5.14.4/lib/site_perl/5.14.4
    /home/david/cpantesting/perl-5.14.4/lib/5.14.4/x86_64-linux-thread-multi
    /home/david/cpantesting/perl-5.14.4/lib/5.14.4
    .