App-Dochazka-CLI v0.240 Perl 5 v5.26.1 armv6l-linux

Status
Pass
From
gregor herrmann
Dist
App-Dochazka-CLI v0.240
Platform
Perl 5 v5.26.1 armv6l-linux
Date
2017-10-20 16:39:14
ID
34f5ec62-b5b5-11e7-b0f8-7baf755d48d3
This distribution has been tested as part of the CPAN Testers
project, supporting the Perl programming language.  See
http://wiki.cpantesters.org/ for more information or email
questions to cpan-testers-discuss@perl.org


--
Dear Nathan Cutler,

This is a computer-generated report for App-Dochazka-CLI-0.240
on perl 5.26.1, created by CPAN-Reporter-1.2018.

Thank you for uploading your work to CPAN.  Congratulations!
All tests were successful.

Sections of this report:

    * Tester comments
    * Program output
    * Prerequisites
    * Environment and other context

------------------------------
TESTER COMMENTS
------------------------------

Additional comments from tester:

this report is from an automated smoke testing program
and was not reviewed by a human for accuracy

------------------------------
PROGRAM OUTPUT
------------------------------

Output from './Build test':

t/001-init.t ................. skipped: Can't connect to server
t/cmd_active/activity.t ...... skipped: Can't connect to server
t/cmd_active/employee.t ...... skipped: Can't connect to server
t/cmd_active/interval.t ...... skipped: Can't connect to server
t/cmd_admin/activity.t ....... skipped: Can't connect to server
t/cmd_admin/employee-utf8.t .. skipped: Can't connect to server
t/cmd_admin/employee.t ....... skipped: Can't connect to server
t/cmd_admin/history.t ........ skipped: Can't connect to server
t/cmd_inactive/activity.t .... skipped: Can't connect to server
t/cmd_inactive/employee.t .... skipped: Can't connect to server
t/cmd_passerby/activity.t .... skipped: Can't connect to server
t/cmd_passerby/employee.t .... skipped: Can't connect to server
t/cmd_passerby/schedule.t .... skipped: Can't connect to server
t/parser/completion.t ........ ok
t/parser/parse_test.t ........ ok
t/parser/possible_words.t .... ok
t/parser/rest_test.t ......... ok
t/parser/semantic_tree.t ..... ok
t/util/auth.t ................ skipped: Can't connect to server
t/util/datelist.t ............ ok
t/util/determine_employee.t .. skipped: Can't connect to server
t/util/truncate.t ............ ok
t/util/ts.t .................. ok
All tests successful.
Files=23, Tests=1831, 203 wallclock secs ( 5.05 usr  0.63 sys + 182.64 cusr 10.58 csys = 198.90 CPU)
Result: PASS

------------------------------
PREREQUISITES
------------------------------

Prerequisite modules loaded:

requires:

    Module                Need  Have    
    --------------------- ----- --------
    App::CELL             0.209 0.222   
    App::Dochazka::Common 0.199 0.208   
    Date::Calc            0     6.4     
    File::HomeDir         0     1.002   
    File::ShareDir        1.00  1.104   
    File::Slurp           0     9999.19 
    File::Temp            0     0.2304  
    Getopt::Long          2.32  2.5     
    HTTP::Cookies         0     6.04    
    HTTP::Request         0     6.13    
    JSON                  0     2.94    
    LWP::UserAgent        0     6.27    
    Params::Validate      1.06  1.29    
    perl                  5.012 5.026001
    Term::ReadKey         0     2.37    
    Term::ReadLine::Gnu   0     1.35    
    Text::Table           0     1.133   
    Web::MREST::CLI       0.281 0.283   

build_requires:

    Module                Need  Have    
    --------------------- ----- --------
    App::CELL             0.209 0.222   
    App::Dochazka::Common 0.199 0.208   
    Date::Calc            0     6.4     
    Params::Validate      1.06  1.29    
    Test::Deep            0     1.127   
    Test::Fatal           0     0.014   
    Test::Warnings        0     0.026   
    Web::MREST::CLI       0.28  0.283   

configure_requires:

    Module                Need  Have    
    --------------------- ----- --------
    Module::Build         0.37  0.4224  
    Software::License     0     0.103012


------------------------------
ENVIRONMENT AND OTHER CONTEXT
------------------------------

Environment variables:

    AUTOMATED_TESTING = 1
    LC_CTYPE = de_AT.utf8
    LD_LIBRARY_PATH = /usr/lib/libeatmydata
    NONINTERACTIVE_TESTING = 1
    PATH = /srv/smoker/bin:/usr/lib/ccache:/srv/smoker/perl5/perlbrew/bin:/srv/smoker/perl5/perlbrew/perls/perl-5.26.1/bin:/usr/local/bin:/usr/bin:/bin:/usr/local/games:/usr/games
    PERL5LIB = /srv/smoker/cpan/build/Web-MREST-CLI-0.283-0/blib/arch:/srv/smoker/cpan/build/Web-MREST-CLI-0.283-0/blib/lib:/srv/smoker/cpan/build/Text-Table-1.133-0/blib/arch:/srv/smoker/cpan/build/Text-Table-1.133-0/blib/lib:/srv/smoker/cpan/build/Text-Aligner-0.13-0/blib/arch:/srv/smoker/cpan/build/Text-Aligner-0.13-0/blib/lib:/srv/smoker/cpan/build/File-Slurp-9999.19-8/blib/arch:/srv/smoker/cpan/build/File-Slurp-9999.19-8/blib/lib:/srv/smoker/cpan/build/App-Dochazka-Common-0.208-0/blib/arch:/srv/smoker/cpan/build/App-Dochazka-Common-0.208-0/blib/lib:/srv/smoker/cpan/build/App-CELL-0.222-5/blib/arch:/srv/smoker/cpan/build/App-CELL-0.222-5/blib/lib:/srv/smoker/cpan/build/Log-Any-1.701-4/blib/arch:/srv/smoker/cpan/build/Log-Any-1.701-4/blib/lib:/srv/smoker/cpan/build/File-Next-1.16-6/blib/arch:/srv/smoker/cpan/build/File-Next-1.16-6/blib/lib
    PERL5OPT = 
    PERL5_CPANPLUS_IS_RUNNING = 3260
    PERL5_CPAN_IS_RUNNING = 3260
    PERL5_CPAN_IS_RUNNING_IN_RECURSION = 8657,3260
    PERLBREW_BASHRC_VERSION = 0.80
    PERLBREW_HOME = /srv/smoker/.perlbrew
    PERLBREW_MANPATH = /srv/smoker/perl5/perlbrew/perls/perl-5.26.1/man
    PERLBREW_PATH = /srv/smoker/perl5/perlbrew/bin:/srv/smoker/perl5/perlbrew/perls/perl-5.26.1/bin
    PERLBREW_PERL = perl-5.26.1
    PERLBREW_ROOT = /srv/smoker/perl5/perlbrew
    PERLBREW_VERSION = 0.80
    PERL_CR_SMOKER_CURRENT = App-Dochazka-CLI-0.240
    PERL_EXTUTILS_AUTOINSTALL = --defaultdeps
    PERL_MM_USE_DEFAULT = 1
    PERL_USE_UNSAFE_INC = 1
    SHELL = /bin/bash
    TERM = screen-256color

Perl special variables (and OS-specific diagnostics, for MSWin32):

    $^X = /srv/smoker/perl5/perlbrew/perls/perl-5.26.1/bin/perl
    $UID/$EUID = 1111 / 1111
    $GID = 65534 65534
    $EGID = 65534 65534

Perl module toolchain versions installed:

    Module              Have    
    ------------------- --------
    CPAN                2.18    
    CPAN::Meta          2.150010
    Cwd                 3.67    
    ExtUtils::CBuilder  0.280226
    ExtUtils::Command   7.30    
    ExtUtils::Install   2.14    
    ExtUtils::MakeMaker 7.30    
    ExtUtils::Manifest  1.70    
    ExtUtils::ParseXS   3.35    
    File::Spec          3.67    
    JSON                2.94    
    JSON::PP            2.94    
    Module::Build       0.4224  
    Module::Signature   n/a     
    Parse::CPAN::Meta   2.150010
    Test::Harness       3.39    
    Test::More          1.302100
    YAML                1.23    
    YAML::Syck          n/a     
    version             0.9918  


--

Summary of my perl5 (revision 5 version 26 subversion 1) configuration:
   
  Platform:
    osname=linux
    osvers=3.18.0-trunk-rpi
    archname=armv6l-linux
    uname='linux smoker 3.18.0-trunk-rpi #1 preempt raspbian 3.18.5-1~exp1+rpi19+stretch (2015-10-14) armv6l gnulinux '
    config_args='-de -Dprefix=/srv/smoker/perl5/perlbrew/perls/perl-5.26.1 -Aeval:scriptdir=/srv/smoker/perl5/perlbrew/perls/perl-5.26.1/bin'
    hint=recommended
    useposix=true
    d_sigaction=define
    useithreads=undef
    usemultiplicity=undef
    use64bitint=undef
    use64bitall=undef
    uselongdouble=undef
    usemymalloc=n
    default_inc_excludes_dot=define
    bincompat5005=undef
  Compiler:
    cc='cc'
    ccflags ='-fwrapv -fno-strict-aliasing -pipe -fstack-protector-strong -I/usr/local/include -D_LARGEFILE_SOURCE -D_FILE_OFFSET_BITS=64 -D_FORTIFY_SOURCE=2'
    optimize='-O2'
    cppflags='-fwrapv -fno-strict-aliasing -pipe -fstack-protector-strong -I/usr/local/include'
    ccversion=''
    gccversion='7.2.0'
    gccosandvers=''
    intsize=4
    longsize=4
    ptrsize=4
    doublesize=8
    byteorder=1234
    doublekind=3
    d_longlong=define
    longlongsize=8
    d_longdbl=define
    longdblsize=8
    longdblkind=0
    ivtype='long'
    ivsize=4
    nvtype='double'
    nvsize=8
    Off_t='off_t'
    lseeksize=8
    alignbytes=8
    prototype=define
  Linker and Libraries:
    ld='cc'
    ldflags =' -fstack-protector-strong -L/usr/local/lib'
    libpth=/usr/local/lib /usr/lib/gcc/arm-linux-gnueabihf/7/include-fixed /usr/include/arm-linux-gnueabihf /usr/lib /lib/arm-linux-gnueabihf /lib /usr/lib/arm-linux-gnueabihf
    libs=-lpthread -lnsl -ldl -lm -lcrypt -lutil -lc
    perllibs=-lpthread -lnsl -ldl -lm -lcrypt -lutil -lc
    libc=libc-2.24.so
    so=so
    useshrplib=false
    libperl=libperl.a
    gnulibc_version='2.24'
  Dynamic Linking:
    dlsrc=dl_dlopen.xs
    dlext=so
    d_dlsymun=undef
    ccdlflags='-Wl,-E'
    cccdlflags='-fPIC'
    lddlflags='-shared -O2 -L/usr/local/lib -fstack-protector-strong'


Characteristics of this binary (from libperl): 
  Compile-time options:
    HAS_TIMES
    PERLIO_LAYERS
    PERL_COPY_ON_WRITE
    PERL_DONT_CREATE_GVSV
    PERL_HASH_FUNC_ONE_AT_A_TIME_HARD
    PERL_MALLOC_WRAP
    PERL_OP_PARENT
    PERL_PRESERVE_IVUV
    USE_LARGE_FILES
    USE_LOCALE
    USE_LOCALE_COLLATE
    USE_LOCALE_CTYPE
    USE_LOCALE_NUMERIC
    USE_LOCALE_TIME
    USE_PERLIO
    USE_PERL_ATOF
  Locally applied patches:
    Devel::PatchPerl 1.38
  Built under linux
  Compiled at Sep 23 2017 15:08:06
  %ENV:
    PERL5LIB="/srv/smoker/cpan/build/Web-MREST-CLI-0.283-0/blib/arch:/srv/smoker/cpan/build/Web-MREST-CLI-0.283-0/blib/lib:/srv/smoker/cpan/build/Text-Table-1.133-0/blib/arch:/srv/smoker/cpan/build/Text-Table-1.133-0/blib/lib:/srv/smoker/cpan/build/Text-Aligner-0.13-0/blib/arch:/srv/smoker/cpan/build/Text-Aligner-0.13-0/blib/lib:/srv/smoker/cpan/build/File-Slurp-9999.19-8/blib/arch:/srv/smoker/cpan/build/File-Slurp-9999.19-8/blib/lib:/srv/smoker/cpan/build/App-Dochazka-Common-0.208-0/blib/arch:/srv/smoker/cpan/build/App-Dochazka-Common-0.208-0/blib/lib:/srv/smoker/cpan/build/App-CELL-0.222-5/blib/arch:/srv/smoker/cpan/build/App-CELL-0.222-5/blib/lib:/srv/smoker/cpan/build/Log-Any-1.701-4/blib/arch:/srv/smoker/cpan/build/Log-Any-1.701-4/blib/lib:/srv/smoker/cpan/build/File-Next-1.16-6/blib/arch:/srv/smoker/cpan/build/File-Next-1.16-6/blib/lib"
    PERL5OPT=""
    PERL5_CPANPLUS_IS_RUNNING="3260"
    PERL5_CPAN_IS_RUNNING="3260"
    PERL5_CPAN_IS_RUNNING_IN_RECURSION="8657,3260"
    PERLBREW_BASHRC_VERSION="0.80"
    PERLBREW_HOME="/srv/smoker/.perlbrew"
    PERLBREW_MANPATH="/srv/smoker/perl5/perlbrew/perls/perl-5.26.1/man"
    PERLBREW_PATH="/srv/smoker/perl5/perlbrew/bin:/srv/smoker/perl5/perlbrew/perls/perl-5.26.1/bin"
    PERLBREW_PERL="perl-5.26.1"
    PERLBREW_ROOT="/srv/smoker/perl5/perlbrew"
    PERLBREW_VERSION="0.80"
    PERL_CR_SMOKER_CURRENT="App-Dochazka-CLI-0.240"
    PERL_EXTUTILS_AUTOINSTALL="--defaultdeps"
    PERL_MM_USE_DEFAULT="1"
    PERL_USE_UNSAFE_INC="1"
  @INC:
    /srv/smoker/cpan/build/Web-MREST-CLI-0.283-0/blib/arch
    /srv/smoker/cpan/build/Web-MREST-CLI-0.283-0/blib/lib
    /srv/smoker/cpan/build/Text-Table-1.133-0/blib/arch
    /srv/smoker/cpan/build/Text-Table-1.133-0/blib/lib
    /srv/smoker/cpan/build/Text-Aligner-0.13-0/blib/arch
    /srv/smoker/cpan/build/Text-Aligner-0.13-0/blib/lib
    /srv/smoker/cpan/build/File-Slurp-9999.19-8/blib/arch
    /srv/smoker/cpan/build/File-Slurp-9999.19-8/blib/lib
    /srv/smoker/cpan/build/App-Dochazka-Common-0.208-0/blib/arch
    /srv/smoker/cpan/build/App-Dochazka-Common-0.208-0/blib/lib
    /srv/smoker/cpan/build/App-CELL-0.222-5/blib/arch
    /srv/smoker/cpan/build/App-CELL-0.222-5/blib/lib
    /srv/smoker/cpan/build/Log-Any-1.701-4/blib/arch
    /srv/smoker/cpan/build/Log-Any-1.701-4/blib/lib
    /srv/smoker/cpan/build/File-Next-1.16-6/blib/arch
    /srv/smoker/cpan/build/File-Next-1.16-6/blib/lib
    /srv/smoker/perl5/perlbrew/perls/perl-5.26.1/lib/site_perl/5.26.1/armv6l-linux
    /srv/smoker/perl5/perlbrew/perls/perl-5.26.1/lib/site_perl/5.26.1
    /srv/smoker/perl5/perlbrew/perls/perl-5.26.1/lib/5.26.1/armv6l-linux
    /srv/smoker/perl5/perlbrew/perls/perl-5.26.1/lib/5.26.1
    .