Report for Text-Balanced-2.02

Back
From: metabase:user:20a45eae-6c1a-1014-abaf-4bc2b30e56df
Subject: PASS Text-Balanced-2.02 v5.8.6 Windows (Cygwin)
Date: 2014-01-25T08:40:11Z

This distribution has been tested as part of the CPAN Testers
project, supporting the Perl programming language.  See
http://wiki.cpantesters.org/ for more information or email
questions to cpan-testers-discuss@perl.org


--
Dear Adam Kennedy,

This is a computer-generated report for Text-Balanced-2.02
on perl 5.8.6, created by CPAN-Reporter-1.2010.

Thank you for uploading your work to CPAN.  Congratulations!
All tests were successful.

Sections of this report:

    * Tester comments
    * Program output
    * Prerequisites
    * Environment and other context

------------------------------
TESTER COMMENTS
------------------------------

Additional comments from tester:

this report is from an automated smoke testing program
and was not reviewed by a human for accuracy

------------------------------
PROGRAM OUTPUT
------------------------------

Output from '/usr/bin/make test':

PERL_DL_NONLAZY=1 /opt/perl5/cygwin_nt-6.1/1.7.27/x86_64/perl/5.8.6/cygwin-thread-multi/bin/perl.exe "-MExtUtils::Command::MM" "-e" "test_harness(0, 'blib/lib', 'blib/arch')" t/*.t
t/01_compile.t .. ok
t/02_extbrk.t ... ok
t/03_extcbk.t ... ok
t/04_extdel.t ... ok
t/05_extmul.t ... ok
t/06_extqlk.t ... ok
t/07_exttag.t ... ok
t/08_extvar.t ... ok
t/09_gentag.t ... ok
t/97_meta.t ..... skipped: Test::CPAN::Meta 0.12 not available for testing
t/98_pod.t ...... ok
t/99_pmv.t ...... skipped: Perl::MinimumVersion 1.20 not available for testing
All tests successful.
Files=12, Tests=561,  2 wallclock secs ( 0.03 usr  0.06 sys +  0.46 cusr  0.67 csys =  1.23 CPU)
Result: PASS

------------------------------
PREREQUISITES
------------------------------

Prerequisite modules loaded:

requires:

    Module              Need Have    
    ------------------- ---- --------
    Test::More          0.47 1.001002

build_requires:

    Module              Need Have    
    ------------------- ---- --------
    ExtUtils::MakeMaker 0    6.68    

configure_requires:

    Module              Need Have    
    ------------------- ---- --------
    ExtUtils::MakeMaker 0    6.68    


------------------------------
ENVIRONMENT AND OTHER CONTEXT
------------------------------

Environment variables:

    AUTOMATED_TESTING = 1
    COMSPEC = C:\Windows\system32\cmd.exe
    NUMBER_OF_PROCESSORS = 4
    PATH = /opt/perl5/cygwin_nt-6.1/1.7.27/x86_64/bin/5.8.6/cygwin-thread-multi:/opt/perl5/cygwin_nt-6.1/1.7.27/x86_64/perl/5.8.6/cygwin-thread-multi/local/bin:/opt/perl5/cygwin_nt-6.1/1.7.27/x86_64/perl/5.8.6/cygwin-thread-multi/bin:/usr/local/bin:/usr/bin
    PERL5LIB = /opt/perl5/cygwin_nt-6.1/1.7.27/x86_64/perl/5.8.6/cygwin-thread-multi/local/lib/site_perl/5.8.6:/opt/perl5/cygwin_nt-6.1/1.7.27/x86_64/perl/5.8.6/cygwin-thread-multi/local/lib/5.8.6:/opt/perl5/cygwin_nt-6.1/1.7.27/x86_64/perl/5.8.6/cygwin-thread-multi/local/lib/perl5
    PERL5OPT = 
    PERL5_CPANPLUS_IS_RUNNING = 6212
    PERL5_CPAN_IS_RUNNING = 6212
    PERL_CPAN_REPORTER_CONFIG = /cygdrive/c/peter/.cpanreporter/config-cygdrive-c-peter.ini
    PERL_EXTUTILS_AUTOINSTALL = 1
    PERL_MM_USE_DEFAULT = 1
    PERL_MY_PREFIX = /opt/perl5
    PERL_MY_SOURCE_DIR = /cygdrive/c/src/perl
    PERL_TEST_CRITIC = 1
    PROCESSOR_IDENTIFIER = Intel64 Family 6 Model 37 Stepping 5, GenuineIntel
    SHELL = /usr/bin/bash
    TEMP = /tmp
    TERM = xterm

Perl special variables (and OS-specific diagnostics, for MSWin32):

    $^X = /opt/perl5/cygwin_nt-6.1/1.7.27/x86_64/perl/5.8.6/cygwin-thread-multi/bin/perl
    $UID/$EUID = 22755 / 22755
    $GID = 10513 67201 31369 49625 30321 56531 45099 51837 51926 51916 65646 65644 23333 50556 74690 49381 20955 20667 57206 55368 43366 51289 17963 61702 51645 11073 51528 20077 42734 12778 12669 12652 56667 18761 43061 30568 43044 72481 59435 18818 51781 10513 45205 44776 10571 1001 545
    $EGID = 10513 67201 31369 49625 30321 56531 45099 51837 51926 51916 65646 65644 23333 50556 74690 49381 20955 20667 57206 55368 43366 51289 17963 61702 51645 11073 51528 20077 42734 12778 12669 12652 56667 18761 43061 30568 43044 72481 59435 18818 51781 10513 45205 44776 10571 1001 545

Perl module toolchain versions installed:

    Module              Have    
    ------------------- --------
    CPAN                2.00    
    CPAN::Meta          2.112621
    Cwd                 3.33    
    ExtUtils::CBuilder  0.280212
    ExtUtils::Command   1.18    
    ExtUtils::Install   1.54    
    ExtUtils::MakeMaker 6.68    
    ExtUtils::Manifest  1.63    
    ExtUtils::ParseXS   3.22    
    File::Spec          3.33    
    JSON                n/a     
    JSON::PP            2.27200 
    Module::Build       0.4204  
    Module::Signature   n/a     
    Parse::CPAN::Meta   1.4409  
    Test::Harness       3.30    
    Test::More          1.001002
    YAML                0.88    
    YAML::Syck          n/a     
    version             0.88    


--

Summary of my perl5 (revision 5 version 8 subversion 6) configuration:
  Platform:
    osname=cygwin, osvers=1.7.27(0.27153), archname=cygwin-thread-multi
    uname='cygwin_nt-6.1 osl069 1.7.27(0.27153) 2013-12-09 11:54 x86_64 cygwin '
    config_args='-de -Dmksymlinks -Dcc=gcc -Uinc_version_list -Uinstallusrbinperl -Dusethreads -Dusemultiplicity -Duse64bitint -Uuselongdouble -Dprefix=/opt/perl5/cygwin_nt-6.1/1.7.27/x86_64/perl/5.8.6/cygwin-thread-multi'
    hint=recommended, useposix=true, d_sigaction=define
    usethreads=define use5005threads=undef useithreads=define usemultiplicity=define
    useperlio=define d_sfio=undef uselargefiles=define usesocks=undef
    use64bitint=define use64bitall=define uselongdouble=undef
    usemymalloc=n, bincompat5005=undef
  Compiler:
    cc='gcc', ccflags ='-DPERL_USE_SAFE_PUTENV -fno-strict-aliasing -pipe',
    optimize='-O2',
    cppflags='-DPERL_USE_SAFE_PUTENV -fno-strict-aliasing -pipe'
    ccversion='', gccversion='4.8.2', gccosandvers=''
    intsize=4, longsize=8, ptrsize=8, doublesize=8, byteorder=12345678
    d_longlong=define, longlongsize=8, d_longdbl=define, longdblsize=16
    ivtype='long', ivsize=8, nvtype='double', nvsize=8, Off_t='off_t', lseeksize=8
    alignbytes=8, prototype=define
  Linker and Libraries:
    ld='ld2', ldflags =' -L/usr/local/lib'
    libpth=/usr/local/lib /usr/lib /lib
    libs=-ldb -ldl -lcrypt
    perllibs=-ldl -lcrypt
    libc=/usr/lib/libc.a, so=dll, useshrplib=true, libperl=libperl.a
    gnulibc_version=''
  Dynamic Linking:
    dlsrc=dl_dlopen.xs, dlext=dll, d_dlsymun=undef, ccdlflags=' '
    cccdlflags=' ', lddlflags=' -L/usr/local/lib'


Characteristics of this binary (from libperl): 
  Compile-time options: MULTIPLICITY USE_ITHREADS USE_64_BIT_INT USE_64_BIT_ALL USE_LARGE_FILES PERL_IMPLICIT_CONTEXT
  Built under cygwin
  Compiled at Jan 17 2014 11:11:03
  %ENV:
    PERL=""
    PERL5LIB="/opt/perl5/cygwin_nt-6.1/1.7.27/x86_64/perl/5.8.6/cygwin-thread-multi/local/lib/site_perl/5.8.6:/opt/perl5/cygwin_nt-6.1/1.7.27/x86_64/perl/5.8.6/cygwin-thread-multi/local/lib/5.8.6:/opt/perl5/cygwin_nt-6.1/1.7.27/x86_64/perl/5.8.6/cygwin-thread-multi/local/lib/perl5"
    PERL5OPT=""
    PERL5_CPANPLUS_IS_RUNNING="6212"
    PERL5_CPAN_IS_EXECUTING="/opt/perl5/cygwin_nt-6.1/1.7.27/x86_64/cpan/5.8.6/cygwin-thread-multi/build/Text-Balanced-2.02-wt78YI/Makefile.PL"
    PERL5_CPAN_IS_RUNNING="6212"
    PERL_AUTOINSTALL="--defaultdeps"
    PERL_CPAN_REPORTER_CONFIG="/cygdrive/c/peter/.cpanreporter/config-cygdrive-c-peter.ini"
    PERL_EXTUTILS_AUTOINSTALL="1"
    PERL_MM_USE_DEFAULT="1"
    PERL_MY_PREFIX="/opt/perl5"
    PERL_MY_SOURCE_DIR="/cygdrive/c/src/perl"
    PERL_TEST_CRITIC="1"
    CYGWIN="codepage:utf8 nodosfilewarning"
  @INC:
    /opt/perl5/cygwin_nt-6.1/1.7.27/x86_64/perl/5.8.6/cygwin-thread-multi/local/lib/site_perl/5.8.6/cygwin-thread-multi
    /opt/perl5/cygwin_nt-6.1/1.7.27/x86_64/perl/5.8.6/cygwin-thread-multi/local/lib/site_perl/5.8.6
    /opt/perl5/cygwin_nt-6.1/1.7.27/x86_64/perl/5.8.6/cygwin-thread-multi/local/lib/5.8.6/cygwin-thread-multi
    /opt/perl5/cygwin_nt-6.1/1.7.27/x86_64/perl/5.8.6/cygwin-thread-multi/local/lib/5.8.6
    /opt/perl5/cygwin_nt-6.1/1.7.27/x86_64/perl/5.8.6/cygwin-thread-multi/local/lib/perl5/cygwin-thread-multi
    /opt/perl5/cygwin_nt-6.1/1.7.27/x86_64/perl/5.8.6/cygwin-thread-multi/local/lib/perl5
    /opt/perl5/cygwin_nt-6.1/1.7.27/x86_64/perl/5.8.6/cygwin-thread-multi/lib/5.8.6/cygwin-thread-multi
    /opt/perl5/cygwin_nt-6.1/1.7.27/x86_64/perl/5.8.6/cygwin-thread-multi/lib/5.8.6
    /opt/perl5/cygwin_nt-6.1/1.7.27/x86_64/perl/5.8.6/cygwin-thread-multi/lib/site_perl/5.8.6/cygwin-thread-multi
    /opt/perl5/cygwin_nt-6.1/1.7.27/x86_64/perl/5.8.6/cygwin-thread-multi/lib/site_perl/5.8.6
    /opt/perl5/cygwin_nt-6.1/1.7.27/x86_64/perl/5.8.6/cygwin-thread-multi/lib/site_perl
    .