Config-JSON-Enhanced v0.10 Perl 5 v5.38.0 x86_64-linux-thread-multi-ld
- Status
- Pass
- From
- Chris Williams (BINGOS)
- Dist
-
Config-JSON-Enhanced v0.10
- Platform
- Perl 5 v5.38.0 x86_64-linux-thread-multi-ld
- Date
- 2025-04-26 01:17:23
- ID
- 352f6c20-223c-11f0-98b0-b3c3213a625c
This distribution has been tested as part of the CPAN Testers
project, supporting the Perl programming language. See
http://wiki.cpantesters.org/ for more information or email
questions to cpan-testers-discuss@perl.org
--
Dear Andreas Hadjiprocopis,
This is a computer-generated error report created automatically by
CPANPLUS, version 0.9916. Testers personal comments may appear
at the end of this report.
Thank you for uploading your work to CPAN. Congratulations!
All tests were successful.
TEST RESULTS:
Below is the error stack from stage 'make test':
PERL_DL_NONLAZY=1 "/home/cpan/pit/thr-ld/perl-5.38.0/bin/perl" "-MExtUtils::Command::MM" "-MTest::Harness" "-e" "undef *Test::Harness::Switches; test_harness(0, 'blib/lib', 'blib/arch')" t/*.t
# Testing Config::JSON::Enhanced 0.10, Perl 5.038000, /home/cpan/pit/thr-ld/perl-5.38.0/bin/perl
t/000-load.t ........................................... ok
t/010-config2perl-simple.t ............................. ok
t/030-config2perl-simple-utf8.t ........................ ok
t/060-config2perl-complex.t ............................ ok
t/070-config2perl-complex-utf8.t ....................... ok
json2perl() : error, call to json2perl() has failed with this exception: malformed JSON string, neither array, object, number, string or atom, at character offset 51 (before "<%begin-verbatim-sec...") at /home/cpan/pit/jail/d4eC4KyIGV/lib/perl5/Data/Roundtrip.pm line 253.
:
{
"long bash script" : ["/usr/bin/bash",
<%begin-verbatim-section%>
pushd . &> /dev/null
echo "My 'appdir' is \"/home/cpan/pit/thr-ld/conf/perl-5.38.0/.cpanplus/5.38.0/build/yNqOJ4uipW/Config-JSON-Enhanced-0.10/t\""
echo "My current dir: " $(echo $PWD) " and bye"
popd &> /dev/null
],
"expected result" : "42"
}
Config::JSON::Enhanced::config2perl() (line 214) : error, call to Data::Roundtrip::json2perl() has failed for above json string and comments style 'C,CPP'. at /home/cpan/pit/thr-ld/conf/perl-5.38.0/.cpanplus/5.38.0/build/yNqOJ4uipW/Config-JSON-Enhanced-0.10/blib/lib/Config/JSON/Enhanced.pm line 214.
t/090-config2perl-failed-verbatim.t .................... ok
# $VAR1 = {
# "b" => "i am a verbatim section:\nhehehe\n</* this must remain */>\nand goodbye from verbatim section.",
# "a" => "hello ***"
# };
# $VAR1 = {
# "a" => "hello hahaha",
# "b" => "i am a verbatim section:\n***\n\\* this must remain *\\\nand goodbye from verbatim section."
# };
# $VAR1 = {
# "b" => "i am a verbatim section:\n+++\n/*/+/? this must remain ?/+/*/\nand goodbye from verbatim section.",
# "a" => "hello hahaha"
# };
# $VAR1 = {
# "b" => "i am a verbatim section:\n{\n--- this must remain +++\nand goodbye from verbatim section.",
# "a" => "hello }"
# };
t/100-tags-for-comments-and-verbatim-and-variables.t ... ok
t/110-config2perl-dont-remove-comments-from-strings.t .. ok
t/130-config2perl-remove-comments-from-strings.t ....... ok
t/150-config2perl-comments-in-verbatim-section.t ....... ok
t/200-commentstyle.t ................................... ok
t/250-custom-tags.t .................................... ok
Config::JSON::Enhanced::configfile2perl() (line 80) : error, there is a clash (exact match) with verbatim/variable tags ('<:*' and '*:>') and comment tags ('<:*' and '*:>'). at /home/cpan/pit/thr-ld/conf/perl-5.38.0/.cpanplus/5.38.0/build/yNqOJ4uipW/Config-JSON-Enhanced-0.10/blib/lib/Config/JSON/Enhanced.pm line 80.
Config::JSON::Enhanced::configfile2perl() (line 80) : error, there is a clash (exact match) with verbatim/variable tags ('<:*' and '*:>!!') and comment tags ('<:*' and '!!*:>'). at /home/cpan/pit/thr-ld/conf/perl-5.38.0/.cpanplus/5.38.0/build/yNqOJ4uipW/Config-JSON-Enhanced-0.10/blib/lib/Config/JSON/Enhanced.pm line 80.
Config::JSON::Enhanced::configfile2perl() (line 80) : error, there is a clash (exact match) with verbatim/variable tags ('*:>' and 'xxx') and comment tags ('<:*' and '*:>'). at /home/cpan/pit/thr-ld/conf/perl-5.38.0/.cpanplus/5.38.0/build/yNqOJ4uipW/Config-JSON-Enhanced-0.10/blib/lib/Config/JSON/Enhanced.pm line 80.
Config::JSON::Enhanced::configfile2perl() (line 69) : error, input parameter 'tags' must be an ARRAYref of exactly 2 items and not a ''. at /home/cpan/pit/thr-ld/conf/perl-5.38.0/.cpanplus/5.38.0/build/yNqOJ4uipW/Config-JSON-Enhanced-0.10/blib/lib/Config/JSON/Enhanced.pm line 69.
Config::JSON::Enhanced::configfile2perl() (line 84) : error, there is a clash (one contains the other) with verbatim/variable tags ('<<<:*>>' and 'xxx') and comment tags ('<:*' and '*:>'). at /home/cpan/pit/thr-ld/conf/perl-5.38.0/.cpanplus/5.38.0/build/yNqOJ4uipW/Config-JSON-Enhanced-0.10/blib/lib/Config/JSON/Enhanced.pm line 84.
Config::JSON::Enhanced::configfile2perl() (line 84) : error, there is a clash (one contains the other) with verbatim/variable tags ('xxx' and '<<<*:>>>>') and comment tags ('<:*' and '*:>'). at /home/cpan/pit/thr-ld/conf/perl-5.38.0/.cpanplus/5.38.0/build/yNqOJ4uipW/Config-JSON-Enhanced-0.10/blib/lib/Config/JSON/Enhanced.pm line 84.
Config::JSON::Enhanced::configfile2perl() (line 84) : error, there is a clash (one contains the other) with verbatim/variable tags ('<<<:*>>' and 'xxx') and comment tags ('<:*' and '*:>'). at /home/cpan/pit/thr-ld/conf/perl-5.38.0/.cpanplus/5.38.0/build/yNqOJ4uipW/Config-JSON-Enhanced-0.10/blib/lib/Config/JSON/Enhanced.pm line 84.
Config::JSON::Enhanced::configfile2perl() (line 87) : error, there is a clash (one contains the other) with verbatim/variable tags ('<:*' and '*:>') and comment tags ('xxx' and '<<<*:>>>>'). at /home/cpan/pit/thr-ld/conf/perl-5.38.0/.cpanplus/5.38.0/build/yNqOJ4uipW/Config-JSON-Enhanced-0.10/blib/lib/Config/JSON/Enhanced.pm line 87.
t/300-tags-clashing.t .................................. ok
t/800-config2perl-pod-synopsis.t ....................... ok
# $VAR1 = {
# "expected result" => 42,
# "long bash script" => [
# "/usr/bin/bash",
# "# save current dir, this comment remains\npushd . &> /dev/null\n# following quotes will be escaped\necho \"My 'appdir' is \\\"/home/cpan/pit/thr-ld/conf/perl-5.38.0/.cpanplus/5.38.0/build/yNqOJ4uipW/Config-JSON-Enhanced-0.10/t\\\"\"\necho \"My current dir: \" \$(echo \$PWD) \" and bye\"\n# go back to initial dir, this comment remains\npopd &> /dev/null"
# ]
# };
t/810-config2perl-pod.t ................................ ok
t/manifest.t ........................................... skipped: Author tests not required for installation
t/pod-coverage.t ....................................... skipped: Author tests not required for installation
t/pod.t ................................................ skipped: Author tests not required for installation
All tests successful.
Files=18, Tests=7315, 4 wallclock secs ( 0.54 usr 0.06 sys + 2.81 cusr 0.26 csys = 3.67 CPU)
Result: PASS
PREREQUISITES:
Here is a list of prerequisites you specified and versions we
managed to load:
Module Name Have Want
Cwd 3.89 0
Data::Roundtrip 0.29 0.16
ExtUtils::MakeMaker 7.74 0
File::Spec 3.88 0
File::Temp 0.2311 0
FindBin 1.53 0
Test2::Plugin::UTF8 1.302210 0
Test::More 1.302210 0
Perl module toolchain versions installed:
Module Name Have
CPANPLUS 0.9916
CPANPLUS::Dist::Build 0.90
Cwd 3.89
ExtUtils::CBuilder 0.280238
ExtUtils::Command 7.74
ExtUtils::Install 2.22
ExtUtils::MakeMaker 7.74
ExtUtils::Manifest 1.75
ExtUtils::ParseXS 3.51
File::Spec 3.88
Module::Build 0.4234
Pod::Parser 0
Pod::Simple 3.43
Test2 1.302210
Test::Harness 3.50
Test::More 1.302210
version 0.9933
******************************** NOTE ********************************
The comments above are created mechanically, possibly without manual
checking by the sender. As there are many people performing automatic
tests on each upload to CPAN, it is likely that you will receive
identical messages about the same problem.
If you believe that the message is mistaken, please reply to the first
one with correction and/or additional informations, and do not take
it personally. We appreciate your patience. :)
**********************************************************************
Additional comments:
This report was machine-generated by CPANPLUS::Dist::YACSmoke 1.08.
Powered by minismokebox version 0.68
CPANPLUS is prefering Build.PL
------------------------------
ENVIRONMENT AND OTHER CONTEXT
------------------------------
Environment variables:
AUTOMATED_TESTING = 1
LANG = en_GB.UTF-8
LANGUAGE = en_GB:en
NONINTERACTIVE_TESTING = 1
PATH = /home/cpan/pit/thr-ld/conf/perl-5.38.0/.cpanplus/5.38.0/build/yNqOJ4uipW/Config-JSON-Enhanced-0.10/blib/script:/usr/local/sbin:/usr/local/bin:/usr/sbin:/usr/bin:/sbin:/bin:/usr/games:/usr/local/games:/snap/bin
PERL5LIB = /home/cpan/pit/jail/d4eC4KyIGV/lib/perl5:/home/cpan/pit/thr-ld/conf/perl-5.38.0/.cpanplus/5.38.0/build/yNqOJ4uipW/Config-JSON-Enhanced-0.10/blib/lib:/home/cpan/pit/thr-ld/conf/perl-5.38.0/.cpanplus/5.38.0/build/yNqOJ4uipW/Config-JSON-Enhanced-0.10/blib/arch
PERL5_CPANPLUS_IS_RUNNING = 93698
PERL5_CPANPLUS_IS_VERSION = 0.9916
PERL5_MINISMOKEBOX = 0.68
PERL5_YACSMOKE_BASE = /home/cpan/pit/thr-ld/conf/perl-5.38.0
PERL_EXTUTILS_AUTOINSTALL = --defaultdeps
PERL_LOCAL_LIB_ROOT = /home/cpan/pit/jail/d4eC4KyIGV
PERL_MB_OPT = --install_base "/home/cpan/pit/jail/d4eC4KyIGV"
PERL_MM_OPT = INSTALL_BASE=/home/cpan/pit/jail/d4eC4KyIGV
PERL_MM_USE_DEFAULT = 1
PERL_USE_UNSAFE_INC = 1
SHELL = /bin/bash
TERM = screen.xterm-256color
Perl special variables (and OS-specific diagnostics, for MSWin32):
Perl: $^X = /home/cpan/pit/thr-ld/perl-5.38.0/bin/perl
UID: $< = 1001
EUID: $> = 1001
GID: $( = 1001 1001
EGID: $) = 1001 1001
-------------------------------
--
Summary of my perl5 (revision 5 version 38 subversion 0) configuration:
Platform:
osname=linux
osvers=5.15.0-76-generic
archname=x86_64-linux-thread-multi-ld
uname='linux uchder 5.15.0-76-generic #83-ubuntu smp thu jun 15 19:16:32 utc 2023 x86_64 x86_64 x86_64 gnulinux '
config_args='-des -Dprefix=/home/cpan/pit/thr-ld/perl-5.38.0 -Dusethreads -Duselongdouble'
hint=recommended
useposix=true
d_sigaction=define
useithreads=define
usemultiplicity=define
use64bitint=define
use64bitall=define
uselongdouble=define
usemymalloc=n
default_inc_excludes_dot=define
Compiler:
cc='cc'
ccflags ='-D_REENTRANT -D_GNU_SOURCE -fwrapv -fno-strict-aliasing -pipe -fstack-protector-strong -I/usr/local/include -D_LARGEFILE_SOURCE -D_FILE_OFFSET_BITS=64'
optimize='-O2'
cppflags='-D_REENTRANT -D_GNU_SOURCE -fwrapv -fno-strict-aliasing -pipe -fstack-protector-strong -I/usr/local/include'
ccversion=''
gccversion='11.3.0'
gccosandvers=''
intsize=4
longsize=8
ptrsize=8
doublesize=8
byteorder=12345678
doublekind=3
d_longlong=define
longlongsize=8
d_longdbl=define
longdblsize=16
longdblkind=3
ivtype='long'
ivsize=8
nvtype='long double'
nvsize=16
Off_t='off_t'
lseeksize=8
alignbytes=16
prototype=define
Linker and Libraries:
ld='cc'
ldflags =' -fstack-protector-strong -L/usr/local/lib'
libpth=/usr/local/lib /usr/lib/x86_64-linux-gnu /usr/lib /usr/lib64
libs=-lpthread -lgdbm -ldl -lm -lcrypt -lutil -lc
perllibs=-lpthread -ldl -lm -lcrypt -lutil -lc
libc=/lib/x86_64-linux-gnu/libc.so.6
so=so
useshrplib=false
libperl=libperl.a
gnulibc_version='2.35'
Dynamic Linking:
dlsrc=dl_dlopen.xs
dlext=so
d_dlsymun=undef
ccdlflags='-Wl,-E'
cccdlflags='-fPIC'
lddlflags='-shared -O2 -L/usr/local/lib -fstack-protector-strong'
Characteristics of this binary (from libperl):
Compile-time options:
HAS_LONG_DOUBLE
HAS_STRTOLD
HAS_TIMES
MULTIPLICITY
PERLIO_LAYERS
PERL_COPY_ON_WRITE
PERL_DONT_CREATE_GVSV
PERL_HASH_FUNC_SIPHASH13
PERL_HASH_USE_SBOX32
PERL_MALLOC_WRAP
PERL_OP_PARENT
PERL_PRESERVE_IVUV
PERL_USE_SAFE_PUTENV
USE_64_BIT_ALL
USE_64_BIT_INT
USE_ITHREADS
USE_LARGE_FILES
USE_LOCALE
USE_LOCALE_COLLATE
USE_LOCALE_CTYPE
USE_LOCALE_NUMERIC
USE_LOCALE_TIME
USE_LONG_DOUBLE
USE_PERLIO
USE_PERL_ATOF
USE_REENTRANT_API
USE_THREAD_SAFE_LOCALE
Built under linux
Compiled at Jul 4 2023 00:04:35
%ENV:
PERL5LIB="/home/cpan/pit/jail/d4eC4KyIGV/lib/perl5:/home/cpan/pit/thr-ld/conf/perl-5.38.0/.cpanplus/5.38.0/build/yNqOJ4uipW/Config-JSON-Enhanced-0.10/blib/lib:/home/cpan/pit/thr-ld/conf/perl-5.38.0/.cpanplus/5.38.0/build/yNqOJ4uipW/Config-JSON-Enhanced-0.10/blib/arch"
PERL5_CPANPLUS_IS_RUNNING="93698"
PERL5_CPANPLUS_IS_VERSION="0.9916"
PERL5_MINISMOKEBOX="0.68"
PERL5_YACSMOKE_BASE="/home/cpan/pit/thr-ld/conf/perl-5.38.0"
PERL_EXTUTILS_AUTOINSTALL="--defaultdeps"
PERL_LOCAL_LIB_ROOT="/home/cpan/pit/jail/d4eC4KyIGV"
PERL_MB_OPT="--install_base "/home/cpan/pit/jail/d4eC4KyIGV""
PERL_MM_OPT="INSTALL_BASE=/home/cpan/pit/jail/d4eC4KyIGV"
PERL_MM_USE_DEFAULT="1"
PERL_USE_UNSAFE_INC="1"
@INC:
/home/cpan/pit/jail/d4eC4KyIGV/lib/perl5/5.38.0/x86_64-linux-thread-multi-ld
/home/cpan/pit/jail/d4eC4KyIGV/lib/perl5/5.38.0
/home/cpan/pit/jail/d4eC4KyIGV/lib/perl5/x86_64-linux-thread-multi-ld
/home/cpan/pit/jail/d4eC4KyIGV/lib/perl5
/home/cpan/pit/thr-ld/conf/perl-5.38.0/.cpanplus/5.38.0/build/yNqOJ4uipW/Config-JSON-Enhanced-0.10/blib/lib
/home/cpan/pit/thr-ld/conf/perl-5.38.0/.cpanplus/5.38.0/build/yNqOJ4uipW/Config-JSON-Enhanced-0.10/blib/arch
/home/cpan/pit/thr-ld/perl-5.38.0/lib/site_perl/5.38.0/x86_64-linux-thread-multi-ld
/home/cpan/pit/thr-ld/perl-5.38.0/lib/site_perl/5.38.0
/home/cpan/pit/thr-ld/perl-5.38.0/lib/5.38.0/x86_64-linux-thread-multi-ld
/home/cpan/pit/thr-ld/perl-5.38.0/lib/5.38.0
.