WWW-Mechanize-Firefox-Extended v0.03 Perl 5 v5.33.5 x86_64-linux-thread-multi-ld
- Status
- Pass
- From
- Andreas J. König (ANDK)
- Dist
-
WWW-Mechanize-Firefox-Extended v0.03
- Platform
- Perl 5 v5.33.5 x86_64-linux-thread-multi-ld
- Date
- 2020-12-29 02:04:39
- ID
- 353d56fe-497a-11eb-aee7-16fcb664d206
This distribution has been tested as part of the CPAN Testers
project, supporting the Perl programming language. See
http://wiki.cpantesters.org/ for more information or email
questions to cpan-testers-discuss@perl.org
--
Dear Hoe-Kit Chew,
This is a computer-generated report for WWW-Mechanize-Firefox-Extended-0.03
on perl 5.33.5, created by CPAN-Reporter-1.2018.
Thank you for uploading your work to CPAN. Congratulations!
All tests were successful.
Sections of this report:
* Tester comments
* Program output
* Prerequisites
* Environment and other context
------------------------------
TESTER COMMENTS
------------------------------
Additional comments from tester:
this report is from an automated smoke testing program
and was not reviewed by a human for accuracy
------------------------------
PROGRAM OUTPUT
------------------------------
Output from '/usr/bin/make test':
PERL_DL_NONLAZY=1 "/tmp/basesmoker-reloperl-RjsK/bin/perl" "-MExtUtils::Command::MM" "-MTest::Harness" "-e" "undef *Test::Harness::Switches; test_harness(0, 'blib/lib', 'blib/arch')" t/*.t
# Testing WWW::Mechanize::Firefox::Extended 0.03, Perl 5.033005
# AutoLoader 5.74
# Carp 1.51
# Clone 0.45
# Config 5.033005
# DynaLoader 1.49
# Encode 3.08
# Encode::Alias 2.24
# Encode::Config 2.05
# Encode::Encoding 2.08
# Encode::MIME::Name 1.03
# Exporter 5.76
# Exporter::Heavy 5.76
# Fcntl 1.14
# File::Basename 2.85
# Firefox::Application 0.80
# HTML::Selector::XPath 0.25
# HTTP::Cookies 6.09
# HTTP::Cookies::MozRepl 0.80
# HTTP::Cookies::Netscape 6.09
# HTTP::Date 6.05
# HTTP::Headers 6.26
# HTTP::Headers::Util 6.26
# HTTP::Message 6.26
# HTTP::Request 6.26
# HTTP::Request::Common 6.26
# HTTP::Response 6.26
# HTTP::Status 6.26
# JSON 4.02
# JSON::XS 4.03
# List::Util 1.55
# Log::Agent 1.003
# Log::Agent::Formatting <unknown>
# Log::Agent::Message <unknown>
# Log::Agent::Priorities <unknown>
# MIME::Base64 3.16
# MozRepl::RemoteObject 0.40
# MozRepl::RemoteObject::Methods 0.40
# POSIX 1.96
# PerlIO 1.11
# Scalar::Util 1.55
# Storable 3.23
# Test::Builder 1.302183
# Test::Builder::Formatter 1.302183
# Test::Builder::Module 1.302183
# Test::Builder::TodoDiag 1.302183
# Test::More 1.302183
# Test2::API 1.302183
# Test2::API::Context 1.302183
# Test2::API::Instance 1.302183
# Test2::API::Stack 1.302183
# Test2::Event 1.302183
# Test2::Event::Bail 1.302183
# Test2::Event::Diag 1.302183
# Test2::Event::Exception 1.302183
# Test2::Event::Fail 1.302183
# Test2::Event::Note 1.302183
# Test2::Event::Ok 1.302183
# Test2::Event::Pass 1.302183
# Test2::Event::Plan 1.302183
# Test2::Event::Skip 1.302183
# Test2::Event::Subtest 1.302183
# Test2::Event::V2 1.302183
# Test2::Event::Waiting 1.302183
# Test2::EventFacet 1.302183
# Test2::EventFacet::About 1.302183
# Test2::EventFacet::Amnesty 1.302183
# Test2::EventFacet::Assert 1.302183
# Test2::EventFacet::Control 1.302183
# Test2::EventFacet::Error 1.302183
# Test2::EventFacet::Hub 1.302183
# Test2::EventFacet::Info 1.302183
# Test2::EventFacet::Meta 1.302183
# Test2::EventFacet::Parent 1.302183
# Test2::EventFacet::Plan 1.302183
# Test2::EventFacet::Trace 1.302183
# Test2::Formatter 1.302183
# Test2::Formatter::TAP 1.302183
# Test2::Hub 1.302183
# Test2::Hub::Interceptor 1.302183
# Test2::Hub::Interceptor::Terminator 1.302183
# Test2::Hub::Subtest 1.302183
# Test2::Util 1.302183
# Test2::Util::ExternalMeta 1.302183
# Test2::Util::Facets2Legacy 1.302183
# Test2::Util::HashBase 1.302183
# Test2::Util::Trace 1.302183
# Tie::Hash 1.05
# Time::HiRes 1.9766
# Time::Local 1.30
# Types::Serialiser 1.01
# URI 5.05
# URI::Escape 5.05
# WWW::Mechanize::Firefox 0.80
# WWW::Mechanize::Firefox::Extended 0.03
# WWW::Mechanize::Link 2.03
# XSLoader 0.30
# attributes 0.33
# base 2.27
# bytes 1.08
# common::sense 3.75
# constant 1.33
# lib 0.65
# mro 1.25
# overload 1.33
# overloading 0.02
# parent 0.238
# strict 1.12
# vars 1.05
# warnings 1.49
# warnings::register 1.04
t/00-load.t ............. ok
t/10-hasAll-hasAny.t .... skipped: Couldn't connect to MozRepl: Failed to connect to , problem connecting to "localhost", port 4242: Connection refused at /home/sand/src/perl/repoperls/installed-perls/host/k93bionic/v5.33.5/ebf1/lib/site_perl/5.33.5/MozRepl/Client.pm line 144
t/20-waitAll-waitAny.t .. skipped: Couldn't connect to MozRepl: Failed to connect to , problem connecting to "localhost", port 4242: Connection refused at /home/sand/src/perl/repoperls/installed-perls/host/k93bionic/v5.33.5/ebf1/lib/site_perl/5.33.5/MozRepl/Client.pm line 144
t/manifest.t ............ skipped: Author tests not required for installation
t/pod.t ................. ok
All tests successful.
Files=5, Tests=2, 1 wallclock secs ( 0.02 usr 0.03 sys + 0.53 cusr 0.11 csys = 0.69 CPU)
Result: PASS
------------------------------
PREREQUISITES
------------------------------
Prerequisite modules loaded:
requires:
Module Need Have
----------------------- ----- --------
perl 5.006 5.033005
Time::HiRes 0 1.9766
WWW::Mechanize::Firefox 0 0.80
build_requires:
Module Need Have
----------------------- ----- --------
Test::More 0 1.302183
configure_requires:
Module Need Have
----------------------- ----- --------
ExtUtils::MakeMaker 0 7.58
------------------------------
ENVIRONMENT AND OTHER CONTEXT
------------------------------
Environment variables:
AUTOMATED_TESTING = 1
LANG = en_US.utf8
PATH = /home/sand/bin:/usr/local/bin:/usr/local/sbin:/usr/sbin:/usr/bin:/sbin:/bin:/usr/games:/usr/local/games:/snap/bin:/usr/local/perl/bin:/usr/X11/bin
PERL = /tmp/basesmoker-reloperl-RjsK/bin/perl
PERL5LIB = /tmp/loop_over_bdir-24250-eMZ3c2/Dpkg-1.20.5-0/blib/arch:/tmp/loop_over_bdir-24250-eMZ3c2/Dpkg-1.20.5-0/blib/lib:/tmp/loop_over_bdir-24250-eMZ3c2/AllKnowingDNS-1.7-0/blib/arch:/tmp/loop_over_bdir-24250-eMZ3c2/AllKnowingDNS-1.7-0/blib/lib:/tmp/loop_over_bdir-24250-eMZ3c2/Devel-Required-0.16-0/blib/arch:/tmp/loop_over_bdir-24250-eMZ3c2/Devel-Required-0.16-0/blib/lib:/tmp/loop_over_bdir-24250-eMZ3c2/Net-OpenVPN-DDNS-0.1-0/blib/arch:/tmp/loop_over_bdir-24250-eMZ3c2/Net-OpenVPN-DDNS-0.1-0/blib/lib
PERL5OPT =
PERL5_CPANPLUS_IS_RUNNING = 24259
PERL5_CPAN_IS_RUNNING = 24259
PERL_CANARY_STABILITY_NOPROMPT = 1
PERL_MM_USE_DEFAULT = 1
PERL_USE_UNSAFE_INC = 1
SHELL = /usr/bin/zsh
TERM = screen
Perl special variables (and OS-specific diagnostics, for MSWin32):
$^X = /tmp/basesmoker-reloperl-RjsK/bin/perl
$UID/$EUID = 1005 / 1005
$GID = 1005 1005
$EGID = 1005 1005
Perl module toolchain versions installed:
Module Have
------------------- --------
CPAN 2.28
CPAN::Meta 2.150010
Cwd 3.80
ExtUtils::CBuilder 0.280235
ExtUtils::Command 7.58
ExtUtils::Install 2.20
ExtUtils::MakeMaker 7.58
ExtUtils::Manifest 1.72
ExtUtils::ParseXS 3.42
File::Spec 3.80
JSON 4.02
JSON::PP 4.05
Module::Build 0.4231
Module::Signature 0.87
Parse::CPAN::Meta 2.150010
Test::Harness 3.43
Test::More 1.302183
YAML 1.30
YAML::Syck 1.34
version 0.9928
--
Summary of my perl5 (revision 5 version 33 subversion 5) configuration:
Commit id: b0d2479a156520088b5c09de9b5322bb2381c19c
Platform:
osname=linux
osvers=4.15.0-128-generic
archname=x86_64-linux-thread-multi-ld
uname='linux k93bionic 4.15.0-128-generic #131-ubuntu smp wed dec 9 06:57:35 utc 2020 x86_64 x86_64 x86_64 gnulinux '
config_args='-Dprefix=/home/sand/src/perl/repoperls/installed-perls/host/k93bionic/v5.33.5/ebf1 -Dmyhostname=k93bionic -Dinstallusrbinperl=n -Uversiononly -Dusedevel -des -Ui_db -Dlibswanted=cl pthread socket inet nsl gdbm dbm malloc dl ld sun m crypt sec util c cposix posix ucb BSD gdbm_compat -Duseithreads -Duselongdouble -DEBUGGING=-g'
hint=recommended
useposix=true
d_sigaction=define
useithreads=define
usemultiplicity=define
use64bitint=define
use64bitall=define
uselongdouble=define
usemymalloc=n
default_inc_excludes_dot=define
Compiler:
cc='cc'
ccflags ='-D_REENTRANT -D_GNU_SOURCE -fwrapv -fno-strict-aliasing -pipe -fstack-protector-strong -I/usr/local/include -D_LARGEFILE_SOURCE -D_FILE_OFFSET_BITS=64'
optimize='-O2 -g'
cppflags='-D_REENTRANT -D_GNU_SOURCE -fwrapv -fno-strict-aliasing -pipe -fstack-protector-strong -I/usr/local/include'
ccversion=''
gccversion='7.5.0'
gccosandvers=''
intsize=4
longsize=8
ptrsize=8
doublesize=8
byteorder=12345678
doublekind=3
d_longlong=define
longlongsize=8
d_longdbl=define
longdblsize=16
longdblkind=3
ivtype='long'
ivsize=8
nvtype='long double'
nvsize=16
Off_t='off_t'
lseeksize=8
alignbytes=16
prototype=define
Linker and Libraries:
ld='cc'
ldflags =' -fstack-protector-strong -L/usr/local/lib'
libpth=/usr/local/lib /usr/lib/gcc/x86_64-linux-gnu/7/include-fixed /usr/include/x86_64-linux-gnu /usr/lib /lib/x86_64-linux-gnu /lib/../lib /usr/lib/x86_64-linux-gnu /usr/lib/../lib /lib
libs=-lpthread -lnsl -ldl -lm -lcrypt -lutil -lc
perllibs=-lpthread -lnsl -ldl -lm -lcrypt -lutil -lc
libc=libc-2.27.so
so=so
useshrplib=false
libperl=libperl.a
gnulibc_version='2.27'
Dynamic Linking:
dlsrc=dl_dlopen.xs
dlext=so
d_dlsymun=undef
ccdlflags='-Wl,-E'
cccdlflags='-fPIC'
lddlflags='-shared -O2 -g -L/usr/local/lib -fstack-protector-strong'
Characteristics of this binary (from libperl):
Compile-time options:
HAS_TIMES
MULTIPLICITY
PERLIO_LAYERS
PERL_COPY_ON_WRITE
PERL_DONT_CREATE_GVSV
PERL_IMPLICIT_CONTEXT
PERL_MALLOC_WRAP
PERL_OP_PARENT
PERL_PRESERVE_IVUV
PERL_USE_DEVEL
USE_64_BIT_ALL
USE_64_BIT_INT
USE_ITHREADS
USE_LARGE_FILES
USE_LOCALE
USE_LOCALE_COLLATE
USE_LOCALE_CTYPE
USE_LOCALE_NUMERIC
USE_LOCALE_TIME
USE_LONG_DOUBLE
USE_PERLIO
USE_PERL_ATOF
USE_REENTRANT_API
USE_THREAD_SAFE_LOCALE
Built under linux
Compiled at Dec 26 2020 06:51:40
%ENV:
PERL="/tmp/basesmoker-reloperl-RjsK/bin/perl"
PERL5LIB="/tmp/loop_over_bdir-24250-eMZ3c2/Dpkg-1.20.5-0/blib/arch:/tmp/loop_over_bdir-24250-eMZ3c2/Dpkg-1.20.5-0/blib/lib:/tmp/loop_over_bdir-24250-eMZ3c2/AllKnowingDNS-1.7-0/blib/arch:/tmp/loop_over_bdir-24250-eMZ3c2/AllKnowingDNS-1.7-0/blib/lib:/tmp/loop_over_bdir-24250-eMZ3c2/Devel-Required-0.16-0/blib/arch:/tmp/loop_over_bdir-24250-eMZ3c2/Devel-Required-0.16-0/blib/lib:/tmp/loop_over_bdir-24250-eMZ3c2/Net-OpenVPN-DDNS-0.1-0/blib/arch:/tmp/loop_over_bdir-24250-eMZ3c2/Net-OpenVPN-DDNS-0.1-0/blib/lib"
PERL5OPT=""
PERL5_CPANPLUS_IS_RUNNING="24259"
PERL5_CPAN_IS_RUNNING="24259"
PERL_CANARY_STABILITY_NOPROMPT="1"
PERL_MM_USE_DEFAULT="1"
PERL_USE_UNSAFE_INC="1"
@INC:
/tmp/loop_over_bdir-24250-eMZ3c2/Dpkg-1.20.5-0/blib/arch
/tmp/loop_over_bdir-24250-eMZ3c2/Dpkg-1.20.5-0/blib/lib
/tmp/loop_over_bdir-24250-eMZ3c2/AllKnowingDNS-1.7-0/blib/arch
/tmp/loop_over_bdir-24250-eMZ3c2/AllKnowingDNS-1.7-0/blib/lib
/tmp/loop_over_bdir-24250-eMZ3c2/Devel-Required-0.16-0/blib/arch
/tmp/loop_over_bdir-24250-eMZ3c2/Devel-Required-0.16-0/blib/lib
/tmp/loop_over_bdir-24250-eMZ3c2/Net-OpenVPN-DDNS-0.1-0/blib/arch
/tmp/loop_over_bdir-24250-eMZ3c2/Net-OpenVPN-DDNS-0.1-0/blib/lib
/home/sand/src/perl/repoperls/installed-perls/host/k93bionic/v5.33.5/ebf1/lib/site_perl/5.33.5/x86_64-linux-thread-multi-ld
/home/sand/src/perl/repoperls/installed-perls/host/k93bionic/v5.33.5/ebf1/lib/site_perl/5.33.5
/home/sand/src/perl/repoperls/installed-perls/host/k93bionic/v5.33.5/ebf1/lib/5.33.5/x86_64-linux-thread-multi-ld
/home/sand/src/perl/repoperls/installed-perls/host/k93bionic/v5.33.5/ebf1/lib/5.33.5
.