Report for Sort-SQL-0.08

Back
From: metabase:user:cd035d39-6d5b-1014-ab3a-39c0c09612a1
Subject: PASS Sort-SQL-0.08 v5.20.0 GNU/Linux
Date: 2014-07-25T02:34:31Z

This distribution has been tested as part of the CPAN Testers
project, supporting the Perl programming language.  See
http://wiki.cpantesters.org/ for more information or email
questions to cpan-testers-discuss@perl.org


--
Dear Peter Karman,

This is a computer-generated report for Sort-SQL-0.08
on perl 5.20.0, created by CPAN-Reporter-1.2011.

Thank you for uploading your work to CPAN.  Congratulations!
All tests were successful.

Sections of this report:

    * Tester comments
    * Program output
    * Prerequisites
    * Environment and other context

------------------------------
TESTER COMMENTS
------------------------------

Additional comments from tester:

this report is from an automated smoke testing program
and was not reviewed by a human for accuracy

------------------------------
PROGRAM OUTPUT
------------------------------

Output from '/usr/bin/make test':

PERL_DL_NONLAZY=1 /srv/smoker/perl5/perlbrew/perls/perl-5.20.0/bin/perl "-MExtUtils::Command::MM" "-MTest::Harness" "-e" "undef *Test::Harness::Switches; test_harness(0, 'blib/lib', 'blib/arch')" t/*.t
t/01-sort-sql.t ....... ok
t/02-sql-injection.t .. ok
# testing Sort::SQL 0.08
t/Sort-SQL.t .......... ok
All tests successful.
Files=3, Tests=12,  4 wallclock secs ( 0.49 usr  0.07 sys +  1.44 cusr  0.14 csys =  2.14 CPU)
Result: PASS

------------------------------
PREREQUISITES
------------------------------

Prerequisite modules loaded:

build_requires:

    Module              Need Have
    ------------------- ---- ----
    ExtUtils::MakeMaker 0    6.98

configure_requires:

    Module              Need Have
    ------------------- ---- ----
    ExtUtils::MakeMaker 0    6.98


------------------------------
ENVIRONMENT AND OTHER CONTEXT
------------------------------

Environment variables:

    AUTOMATED_TESTING = 1
    LC_CTYPE = de_AT.utf8
    NONINTERACTIVE_TESTING = 1
    PATH = /srv/smoker/bin:/usr/lib/ccache:/srv/smoker/perl5/perlbrew/bin:/srv/smoker/perl5/perlbrew/perls/perl-5.20.0/bin:/usr/local/bin:/usr/bin:/bin:/usr/local/games:/usr/games
    PERL5LIB = /srv/smoker/cpan/build/MooseX-StrictConstructor-0.19-8XRvN7/blib/arch:/srv/smoker/cpan/build/MooseX-StrictConstructor-0.19-8XRvN7/blib/lib:/srv/smoker/cpan/build/Type-Tiny-0.046-ApcP8x/blib/arch:/srv/smoker/cpan/build/Type-Tiny-0.046-ApcP8x/blib/lib
    PERL5OPT = 
    PERL5_CPANPLUS_IS_RUNNING = 17028
    PERL5_CPAN_IS_RUNNING = 17028
    PERL5_CPAN_IS_RUNNING_IN_RECURSION = 9643,17028
    PERLBREW_BASHRC_VERSION = 0.69
    PERLBREW_HOME = /srv/smoker/.perlbrew
    PERLBREW_MANPATH = /srv/smoker/perl5/perlbrew/perls/perl-5.20.0/man
    PERLBREW_PATH = /srv/smoker/perl5/perlbrew/bin:/srv/smoker/perl5/perlbrew/perls/perl-5.20.0/bin
    PERLBREW_PERL = perl-5.20.0
    PERLBREW_ROOT = /srv/smoker/perl5/perlbrew
    PERLBREW_VERSION = 0.69
    PERL_CR_SMOKER_CURRENT = Search-OpenSearch-0.405
    PERL_EXTUTILS_AUTOINSTALL = --defaultdeps
    PERL_MM_USE_DEFAULT = 1
    SHELL = /bin/bash
    TERM = screen-256color
    TMPDIR = /srv/smoker/tmp

Perl special variables (and OS-specific diagnostics, for MSWin32):

    $^X = /srv/smoker/perl5/perlbrew/perls/perl-5.20.0/bin/perl
    $UID/$EUID = 1111 / 1111
    $GID = 65534 65534
    $EGID = 65534 65534

Perl module toolchain versions installed:

    Module              Have    
    ------------------- --------
    CPAN                2.05    
    CPAN::Meta          2.141520
    Cwd                 3.47    
    ExtUtils::CBuilder  0.280216
    ExtUtils::Command   1.18    
    ExtUtils::Install   1.68    
    ExtUtils::MakeMaker 6.98    
    ExtUtils::Manifest  1.64    
    ExtUtils::ParseXS   3.24    
    File::Spec          3.47    
    JSON                2.90    
    JSON::PP            2.27203 
    Module::Build       0.4206  
    Module::Signature   n/a     
    Parse::CPAN::Meta   1.4414  
    Test::Harness       3.32    
    Test::More          1.001003
    YAML                0.97    
    YAML::Syck          n/a     
    version             0.9908  


--

Summary of my perl5 (revision 5 version 20 subversion 0) configuration:
   
  Platform:
    osname=linux, osvers=3.12.18+, archname=armv6l-linux
    uname='linux smoker 3.12.18+ #13 preempt sat may 3 02:09:01 cest 2014 armv6l gnulinux '
    config_args='-de -Dprefix=/srv/smoker/perl5/perlbrew/perls/perl-5.20.0 -Aeval:scriptdir=/srv/smoker/perl5/perlbrew/perls/perl-5.20.0/bin'
    hint=recommended, useposix=true, d_sigaction=define
    useithreads=undef, usemultiplicity=undef
    use64bitint=undef, use64bitall=undef, uselongdouble=undef
    usemymalloc=n, bincompat5005=undef
  Compiler:
    cc='cc', ccflags ='-fwrapv -fno-strict-aliasing -pipe -fstack-protector -I/usr/local/include -D_LARGEFILE_SOURCE -D_FILE_OFFSET_BITS=64',
    optimize='-O2',
    cppflags='-fwrapv -fno-strict-aliasing -pipe -fstack-protector -I/usr/local/include'
    ccversion='', gccversion='4.8.2', gccosandvers=''
    intsize=4, longsize=4, ptrsize=4, doublesize=8, byteorder=1234
    d_longlong=define, longlongsize=8, d_longdbl=define, longdblsize=8
    ivtype='long', ivsize=4, nvtype='double', nvsize=8, Off_t='off_t', lseeksize=8
    alignbytes=8, prototype=define
  Linker and Libraries:
    ld='cc', ldflags =' -fstack-protector -L/usr/local/lib'
    libpth=/usr/local/lib /usr/lib/gcc/arm-linux-gnueabihf/4.8/include-fixed /usr/include/arm-linux-gnueabihf /usr/lib /lib/arm-linux-gnueabihf /lib /usr/lib/arm-linux-gnueabihf
    libs=-lnsl -ldl -lm -lcrypt -lutil -lc
    perllibs=-lnsl -ldl -lm -lcrypt -lutil -lc
    libc=, so=so, useshrplib=false, libperl=libperl.a
    gnulibc_version='2.18'
  Dynamic Linking:
    dlsrc=dl_dlopen.xs, dlext=so, d_dlsymun=undef, ccdlflags='-Wl,-E'
    cccdlflags='-fPIC', lddlflags='-shared -O2 -L/usr/local/lib -fstack-protector'


Characteristics of this binary (from libperl): 
  Compile-time options: HAS_TIMES PERLIO_LAYERS PERL_DONT_CREATE_GVSV
                        PERL_HASH_FUNC_ONE_AT_A_TIME_HARD PERL_MALLOC_WRAP
                        PERL_NEW_COPY_ON_WRITE PERL_PRESERVE_IVUV
                        USE_LARGE_FILES USE_LOCALE USE_LOCALE_COLLATE
                        USE_LOCALE_CTYPE USE_LOCALE_NUMERIC USE_PERLIO
                        USE_PERL_ATOF
  Built under linux
  Compiled at May 27 2014 21:42:35
  %ENV:
    PERL5LIB="/srv/smoker/cpan/build/MooseX-StrictConstructor-0.19-8XRvN7/blib/arch:/srv/smoker/cpan/build/MooseX-StrictConstructor-0.19-8XRvN7/blib/lib:/srv/smoker/cpan/build/Type-Tiny-0.046-ApcP8x/blib/arch:/srv/smoker/cpan/build/Type-Tiny-0.046-ApcP8x/blib/lib"
    PERL5OPT=""
    PERL5_CPANPLUS_IS_RUNNING="17028"
    PERL5_CPAN_IS_RUNNING="17028"
    PERL5_CPAN_IS_RUNNING_IN_RECURSION="9643,17028"
    PERLBREW_BASHRC_VERSION="0.69"
    PERLBREW_HOME="/srv/smoker/.perlbrew"
    PERLBREW_MANPATH="/srv/smoker/perl5/perlbrew/perls/perl-5.20.0/man"
    PERLBREW_PATH="/srv/smoker/perl5/perlbrew/bin:/srv/smoker/perl5/perlbrew/perls/perl-5.20.0/bin"
    PERLBREW_PERL="perl-5.20.0"
    PERLBREW_ROOT="/srv/smoker/perl5/perlbrew"
    PERLBREW_VERSION="0.69"
    PERL_CR_SMOKER_CURRENT="Search-OpenSearch-0.405"
    PERL_EXTUTILS_AUTOINSTALL="--defaultdeps"
    PERL_MM_USE_DEFAULT="1"
  @INC:
    /srv/smoker/cpan/build/MooseX-StrictConstructor-0.19-8XRvN7/blib/arch
    /srv/smoker/cpan/build/MooseX-StrictConstructor-0.19-8XRvN7/blib/lib
    /srv/smoker/cpan/build/Type-Tiny-0.046-ApcP8x/blib/arch
    /srv/smoker/cpan/build/Type-Tiny-0.046-ApcP8x/blib/lib
    /srv/smoker/perl5/perlbrew/perls/perl-5.20.0/lib/site_perl/5.20.0/armv6l-linux
    /srv/smoker/perl5/perlbrew/perls/perl-5.20.0/lib/site_perl/5.20.0
    /srv/smoker/perl5/perlbrew/perls/perl-5.20.0/lib/5.20.0/armv6l-linux
    /srv/smoker/perl5/perlbrew/perls/perl-5.20.0/lib/5.20.0
    .