Devel-REPL v1.003029 Perl 5 v5.26.2 x86_64-linux
- Status
- Pass
- From
- Andreas J. König (ANDK)
- Dist
-
Devel-REPL v1.003029
- Platform
- Perl 5 v5.26.2 x86_64-linux
- Date
- 2022-06-01 18:54:04
- ID
- 356a3f92-e1dc-11ec-bb5c-95a6a1574537
This distribution has been tested as part of the CPAN Testers
project, supporting the Perl programming language. See
http://wiki.cpantesters.org/ for more information or email
questions to cpan-testers-discuss@perl.org
--
Dear Karen Etheridge,
This is a computer-generated report for Devel-REPL-1.003029
on perl 5.26.2, created by CPAN-Reporter-1.2018.
Thank you for uploading your work to CPAN. Congratulations!
All tests were successful.
Sections of this report:
* Tester comments
* Program output
* Prerequisites
* Environment and other context
------------------------------
TESTER COMMENTS
------------------------------
Additional comments from tester:
this report is from an automated smoke testing program
and was not reviewed by a human for accuracy
------------------------------
PROGRAM OUTPUT
------------------------------
Output from '/usr/bin/make test':
PERL_DL_NONLAZY=1 "/home/sand/src/perl/repoperls/installed-perls/host/k93msid/v5.26.2/da1c/bin/perl" "-MExtUtils::Command::MM" "-MTest::Harness" "-e" "undef *Test::Harness::Switches; test_harness(0, 'blib/lib', 'blib/arch')" t/*.t
#
# Versions for all modules listed in MYMETA.json (including optional ones):
#
# === Configure Requires ===
#
# Module Want Have
# ------------------------ -------- --------
# CPAN::Meta::Requirements 2.120620 2.140
# ExtUtils::MakeMaker any 7.64
# Module::Metadata any 1.000033
#
# === Build Requires ===
#
# Module Want Have
# ------------------- ---- ----
# ExtUtils::MakeMaker any 7.64
#
# === Test Requires ===
#
# Module Want Have
# ------------------- ---- --------
# ExtUtils::MakeMaker any 7.64
# File::Spec any 3.75
# Test::Fatal any 0.016
# Test::More 0.88 1.302190
# if any 0.0606
#
# === Test Recommends ===
#
# Module Want Have
# ---------- -------- --------
# CPAN::Meta 2.120900 2.150010
#
# === Runtime Requires ===
#
# Module Want Have
# ------------------------- ------ ------
# B::Concise 0.62 0.999
# B::Keywords any 1.24
# Data::Dump::Streamer 2.39 2.40
# Data::Dumper::Concise any 2.023
# Devel::Peek any 1.26
# File::Next any 1.18
# File::Spec any 3.75
# Lexical::Persistence any 1.020
# Module::Refresh any 0.18
# Module::Runtime any 0.016
# Moose 0.93 2.2201
# Moose::Meta::Role any 2.2201
# Moose::Role any 2.2201
# MooseX::Getopt 0.18 0.75
# MooseX::Object::Pluggable 0.0009 0.0014
# PPI any 1.274
# Scalar::Util any 1.62
# Sys::SigAction any 0.23
# Task::Weaken any 1.06
# Term::ANSIColor any 5.01
# Term::ReadLine any 1.17
# Time::HiRes any 1.9741
# namespace::autoclean any 0.29
# strict any 1.11
# warnings any 1.37
#
# === Runtime Recommends ===
#
# Module Want Have
# --------------------- ----- -----
# App::Nopaste any 1.013
# B::Keywords any 1.24
# Data::Dump::Streamer 2.39 2.40
# Data::Dumper::Concise any 2.023
# File::Next any 1.18
# Lexical::Persistence any 1.020
# Module::Refresh any 0.18
# PPI any 1.274
# PPI::XS 0.902 0.910
# Sys::SigAction any 0.23
#
# === Other Modules ===
#
# Module Have
# --------------- ------
# Encode 3.17
# File::Temp 0.2311
# JSON::PP 4.07
# Module::Runtime 0.016
# Sub::Name 0.26
# YAML 1.30
# autodie 2.29
#
t/00-report-prereqs.t .. ok
t/load_core.t .......... ok
t/load_plugins.t ....... ok
All tests successful.
Files=3, Tests=61, 2 wallclock secs ( 0.03 usr 0.00 sys + 1.14 cusr 0.17 csys = 1.34 CPU)
Result: PASS
------------------------------
PREREQUISITES
------------------------------
Prerequisite modules loaded:
requires:
Module Need Have
------------------------- -------- --------
B::Concise 0.62 0.999
B::Keywords 0 1.24
Data::Dump::Streamer 2.39 2.40
Data::Dumper::Concise 0 2.023
Devel::Peek 0 1.26
File::Next 0 1.18
File::Spec 0 3.75
Lexical::Persistence 0 1.020
Module::Refresh 0 0.18
Module::Runtime 0 0.016
Moose 0.93 2.2201
Moose::Meta::Role 0 2.2201
Moose::Role 0 2.2201
MooseX::Getopt 0.18 0.75
MooseX::Object::Pluggable 0.0009 0.0014
namespace::autoclean 0 0.29
perl 5.008001 5.026002
PPI 0 1.274
Scalar::Util 0 1.62
strict 0 1.11
Sys::SigAction 0 0.23
Task::Weaken 0 1.06
Term::ANSIColor 0 5.01
Term::ReadLine 0 1.17
Time::HiRes 0 1.9741
warnings 0 1.37
build_requires:
Module Need Have
------------------------- -------- --------
ExtUtils::MakeMaker 0 7.64
File::Spec 0 3.75
if 0 0.0606
Test::Fatal 0 0.016
Test::More 0.88 1.302190
configure_requires:
Module Need Have
------------------------- -------- --------
CPAN::Meta::Requirements 2.120620 2.140
ExtUtils::MakeMaker 0 7.64
Module::Metadata 0 1.000033
perl 5.008001 5.026002
opt_requires:
Module Need Have
------------------------- -------- --------
App::Nopaste 0 1.013
B::Keywords 0 1.24
Data::Dump::Streamer 2.39 2.40
Data::Dumper::Concise 0 2.023
File::Next 0 1.18
Lexical::Persistence 0 1.020
Module::Refresh 0 0.18
PPI 0 1.274
PPI::XS 0.902 0.910
Sys::SigAction 0 0.23
------------------------------
ENVIRONMENT AND OTHER CONTEXT
------------------------------
Environment variables:
AUTOMATED_TESTING = 1
LANG = en_US.UTF-8
LANGUAGE = en_US:en
PATH = /home/sand/bin:/usr/local/bin:/usr/bin:/bin:/usr/games:/usr/local/perl/bin:/usr/X11/bin:/sbin:/usr/sbin
PERL5LIB =
PERL5OPT =
PERL5_CPANPLUS_IS_RUNNING = 4123534
PERL5_CPAN_IS_RUNNING = 4123534
PERL_CANARY_STABILITY_NOPROMPT = 1
PERL_MM_USE_DEFAULT = 1
PERL_USE_UNSAFE_INC = 1
SHELL = /usr/bin/zsh
TERM = screen
Perl special variables (and OS-specific diagnostics, for MSWin32):
$^X = /home/sand/src/perl/repoperls/installed-perls/host/k93msid/v5.26.2/da1c/bin/perl
$UID/$EUID = 1005 / 1005
$GID = 1005 1005
$EGID = 1005 1005
Perl module toolchain versions installed:
Module Have
------------------- --------
CPAN 2.34
CPAN::Meta 2.150010
Cwd 3.75
ExtUtils::CBuilder 0.280236
ExtUtils::Command 7.64
ExtUtils::Install 2.06
ExtUtils::MakeMaker 7.64
ExtUtils::Manifest 1.70
ExtUtils::ParseXS 3.44
File::Spec 3.75
JSON 4.05
JSON::PP 4.07
Module::Build 0.4231
Module::Signature 0.88
Parse::CPAN::Meta 2.150010
Test::Harness 3.43_04
Test::More 1.302190
YAML 1.30
YAML::Syck 1.34
version 0.9929
--
Summary of my perl5 (revision 5 version 26 subversion 2) configuration:
Derived from: c5b1997939178730653db9e80f90cd53d722fe8d
Platform:
osname=linux
osvers=5.16.0-5-amd64
archname=x86_64-linux
uname='linux k93msid 5.16.0-5-amd64 #1 smp preempt debian 5.16.14-1 (2022-03-15) x86_64 gnulinux '
config_args='-Dprefix=/home/sand/src/perl/repoperls/installed-perls/host/k93msid/v5.26.2/da1c -Dmyhostname=k93msid -Dinstallusrbinperl=n -Uversiononly -Dusedevel -des -Ui_db -Dlibswanted=cl pthread socket inet nsl gdbm dbm malloc dl ld sun m crypt sec util c cposix posix ucb BSD gdbm_compat -Uuseithreads -Uuselongdouble -DEBUGGING=-g'
hint=recommended
useposix=true
d_sigaction=define
useithreads=undef
usemultiplicity=undef
use64bitint=define
use64bitall=define
uselongdouble=undef
usemymalloc=n
default_inc_excludes_dot=define
bincompat5005=undef
Compiler:
cc='cc'
ccflags ='-fwrapv -fno-strict-aliasing -pipe -fstack-protector-strong -I/usr/local/include -D_LARGEFILE_SOURCE -D_FILE_OFFSET_BITS=64 -D_FORTIFY_SOURCE=2'
optimize='-O2 -g'
cppflags='-fwrapv -fno-strict-aliasing -pipe -fstack-protector-strong -I/usr/local/include'
ccversion=''
gccversion='11.2.0'
gccosandvers=''
intsize=4
longsize=8
ptrsize=8
doublesize=8
byteorder=12345678
doublekind=3
d_longlong=define
longlongsize=8
d_longdbl=define
longdblsize=16
longdblkind=3
ivtype='long'
ivsize=8
nvtype='double'
nvsize=8
Off_t='off_t'
lseeksize=8
alignbytes=8
prototype=define
Linker and Libraries:
ld='cc'
ldflags =' -fstack-protector-strong -L/usr/local/lib'
libpth=/usr/local/lib /usr/include/x86_64-linux-gnu /usr/lib /lib/x86_64-linux-gnu /lib/../lib /usr/lib/x86_64-linux-gnu /usr/lib/../lib /lib
libs=-lpthread -lnsl -ldl -lm -lcrypt -lutil -lc
perllibs=-lpthread -lnsl -ldl -lm -lcrypt -lutil -lc
libc=libc-2.33.so
so=so
useshrplib=false
libperl=libperl.a
gnulibc_version='2.33'
Dynamic Linking:
dlsrc=dl_dlopen.xs
dlext=so
d_dlsymun=undef
ccdlflags='-Wl,-E'
cccdlflags='-fPIC'
lddlflags='-shared -O2 -g -L/usr/local/lib -fstack-protector-strong'
Characteristics of this binary (from libperl):
Compile-time options:
HAS_TIMES
PERLIO_LAYERS
PERL_COPY_ON_WRITE
PERL_DONT_CREATE_GVSV
PERL_MALLOC_WRAP
PERL_OP_PARENT
PERL_PRESERVE_IVUV
PERL_USE_DEVEL
USE_64_BIT_ALL
USE_64_BIT_INT
USE_LARGE_FILES
USE_LOCALE
USE_LOCALE_COLLATE
USE_LOCALE_CTYPE
USE_LOCALE_NUMERIC
USE_LOCALE_TIME
USE_PERLIO
USE_PERL_ATOF
Locally applied patches:
uncommitted-changes
Built under linux
Compiled at Mar 26 2022 12:48:52
%ENV:
PERL5LIB=""
PERL5OPT=""
PERL5_CPANPLUS_IS_RUNNING="4123534"
PERL5_CPAN_IS_RUNNING="4123534"
PERL_CANARY_STABILITY_NOPROMPT="1"
PERL_MM_USE_DEFAULT="1"
PERL_USE_UNSAFE_INC="1"
@INC:
/home/sand/src/perl/repoperls/installed-perls/host/k93msid/v5.26.2/da1c/lib/site_perl/5.26.2/x86_64-linux
/home/sand/src/perl/repoperls/installed-perls/host/k93msid/v5.26.2/da1c/lib/site_perl/5.26.2
/home/sand/src/perl/repoperls/installed-perls/host/k93msid/v5.26.2/da1c/lib/5.26.2/x86_64-linux
/home/sand/src/perl/repoperls/installed-perls/host/k93msid/v5.26.2/da1c/lib/5.26.2
.