Catalyst-Controller-HTML-FormFu v2.04 Perl 5 v5.22.2 amd64-freebsd

Status
Pass
From
Slaven Rezić (SREZIC)
Dist
Catalyst-Controller-HTML-FormFu v2.04
Platform
Perl 5 v5.22.2 amd64-freebsd
Date
2018-04-20 12:13:17
ID
35734734-4494-11e8-9be7-925ae4f53e7a
This distribution has been tested as part of the CPAN Testers
project, supporting the Perl programming language.  See
http://wiki.cpantesters.org/ for more information or email
questions to cpan-testers-discuss@perl.org


--
Dear Nigel Metheringham,

This is a computer-generated report for Catalyst-Controller-HTML-FormFu-2.04
on perl 5.22.2, created by CPAN-Reporter-1.2018.

Thank you for uploading your work to CPAN.  Congratulations!
All tests were successful.

Sections of this report:

    * Tester comments
    * Program output
    * Prerequisites
    * Environment and other context

------------------------------
TESTER COMMENTS
------------------------------

Additional comments from tester:

none provided

------------------------------
PROGRAM OUTPUT
------------------------------

Output from '/usr/bin/make test':

PERL_DL_NONLAZY=1 "/usr/perl5.22.2p/bin/perl5.22.2" "-MExtUtils::Command::MM" "-MTest::Harness" "-e" "undef *Test::Harness::Switches; test_harness(0, 'blib/lib', 'blib/arch')" t/*.t t/elements/*.t
# 
# Versions for all modules listed in MYMETA.json (including optional ones):
# 
# === Configure Requires ===
# 
#     Module              Want Have
#     ------------------- ---- ----
#     ExtUtils::MakeMaker  any 7.32
# 
# === Build Requires ===
# 
#     Module              Want Have
#     ------------------- ---- ----
#     ExtUtils::MakeMaker  any 7.32
# 
# === Test Requires ===
# 
#     Module                                               Want     Have
#     ------------------------------------------------- ------- --------
#     Catalyst                                              any  5.90117
#     Catalyst::Action::RenderView                          any     0.16
#     Catalyst::Plugin::Session                             any     0.40
#     Catalyst::Plugin::Session::State::Cookie              any     0.17
#     Catalyst::Plugin::Session::Store::File                any     0.18
#     Catalyst::Runtime                                 5.71001  5.90117
#     Catalyst::View::TT                                    any     0.44
#     Code::TidyAll::Plugin::Perl::AlignMooseAttributes     any     0.01
#     Data::Dumper                                          any    2.161
#     ExtUtils::MakeMaker                                   any     7.32
#     File::Spec                                            any     3.74
#     FindBin                                               any     1.51
#     HTML::FormFu::MultiForm                              1.02     1.03
#     Pod::Coverage::TrustPod                               any 0.100003
#     Pod::Tidy                                             any  missing
#     Template                                              any     2.26
#     Test::CPAN::Meta                                      any     0.25
#     Test::Differences                                     any     0.64
#     Test::EOL                                             any      1.6
#     Test::Kwalitee                                       1.21     1.27
#     Test::Memory::Cycle                                   any     1.06
#     Test::More                                           0.92 1.302136
#     Test::NoTabs                                          any      1.4
#     Test::PAUSE::Permissions                              any     0.06
#     Test::Pod                                            1.41     1.51
#     Test::Pod::Coverage                                  1.08     1.10
#     Test::WWW::Mechanize                                 1.16     1.48
#     Test::WWW::Mechanize::Catalyst                        any     0.60
#     base                                                  any     2.22
#     lib                                                   any     0.63
# 
# === Test Recommends ===
# 
#     Module         Want     Have
#     ---------- -------- --------
#     CPAN::Meta 2.120900 2.150010
# 
# === Runtime Requires ===
# 
#     Module                                     Want     Have
#     --------------------------------------- ------- --------
#     Carp                                        any     1.38
#     Catalyst::Action                            any    undef
#     Catalyst::Component::InstancePerContext     any 0.001001
#     Catalyst::Controller                        any    undef
#     Catalyst::Runtime                       5.71001  5.90117
#     Config::Any                                 any     0.30
#     File::Spec                                  any     3.74
#     HTML::FormFu                               2.06     2.06
#     HTML::FormFu::Constraint                    any     2.06
#     HTML::FormFu::Deploy                        any     2.06
#     HTML::FormFu::Element::Text                 any     2.06
#     HTML::FormFu::MultiForm                    1.02     1.03
#     HTML::FormFu::Plugin                        any     2.06
#     HTML::FormFu::Util                          any     2.06
#     Moose                                       any   2.2010
#     MooseX::Attribute::Chained                  any    1.0.3
#     Regexp::Assemble                            any     0.37
#     Scalar::Util                                any     1.49
#     Task::Weaken                                any     1.05
#     namespace::autoclean                        any     0.28
#     strict                                      any     1.09
#     warnings                                    any     1.34
# 
# 
# *** WARNING WARNING WARNING WARNING WARNING WARNING WARNING WARNING ***
# 
# The following REQUIRED prerequisites were not satisfied:
# 
# Pod::Tidy is not installed (any version required)
# 
t/00-report-prereqs.t ............ ok
t/01basic-form.t ................. ok
t/01basic-formconfig.t ........... ok
t/01basic-formconfig_conf_ext.t .. ok
t/01basic-formmethod.t ........... ok
t/01basic-token.t ................ ok
t/02multiform-multiformconfig.t .. ok
t/02multiform-multiformmethod.t .. ok
t/02multiform-token.t ............ skipped: no multi form support yet
t/03instancepercontext.t ......... ok
t/elements/requesttoken.t ........ ok
All tests successful.
Files=11, Tests=127, 14 wallclock secs ( 0.01 usr  0.16 sys +  4.61 cusr  8.46 csys = 13.23 CPU)
Result: PASS

------------------------------
PREREQUISITES
------------------------------

Prerequisite modules loaded:

requires:

    Module                                            Need    Have    
    ------------------------------------------------- ------- --------
    Carp                                              0       1.38    
    Catalyst::Action                                  0       0       
    Catalyst::Component::InstancePerContext           0       0.001001
    Catalyst::Controller                              0       0       
    Catalyst::Runtime                                 5.71001 5.90117 
    Config::Any                                       0       0.30    
    File::Spec                                        0       3.74    
    HTML::FormFu                                      2.06    2.06    
    HTML::FormFu::Constraint                          0       2.06    
    HTML::FormFu::Deploy                              0       2.06    
    HTML::FormFu::Element::Text                       0       2.06    
    HTML::FormFu::MultiForm                           1.02    1.03    
    HTML::FormFu::Plugin                              0       2.06    
    HTML::FormFu::Util                                0       2.06    
    Moose                                             0       2.2010  
    MooseX::Attribute::Chained                        0       1.0.3   
    namespace::autoclean                              0       0.28    
    Regexp::Assemble                                  0       0.37    
    Scalar::Util                                      0       1.49    
    strict                                            0       1.09    
    Task::Weaken                                      0       1.05    
    warnings                                          0       1.34    

build_requires:

    Module                                            Need    Have    
    ------------------------------------------------- ------- --------
    base                                              0       2.22    
    Catalyst                                          0       5.90117 
    Catalyst::Action::RenderView                      0       0.16    
    Catalyst::Plugin::Session                         0       0.40    
    Catalyst::Plugin::Session::State::Cookie          0       0.17    
    Catalyst::Plugin::Session::Store::File            0       0.18    
    Catalyst::Runtime                                 5.71001 5.90117 
    Catalyst::View::TT                                0       0.44    
    Code::TidyAll::Plugin::Perl::AlignMooseAttributes 0       0.01    
    Data::Dumper                                      0       2.161   
    ExtUtils::MakeMaker                               0       7.32    
    File::Spec                                        0       3.74    
    FindBin                                           0       1.51    
    HTML::FormFu::MultiForm                           1.02    1.03    
    lib                                               0       0.63    
    Pod::Coverage::TrustPod                           0       0.100003
  ! Pod::Tidy                                         0       n/a     
    Template                                          0       2.26    
    Test::CPAN::Meta                                  0       0.25    
    Test::Differences                                 0       0.64    
    Test::EOL                                         0       1.6     
    Test::Kwalitee                                    1.21    1.27    
    Test::Memory::Cycle                               0       1.06    
    Test::More                                        0.92    1.302136
    Test::NoTabs                                      0       1.4     
    Test::PAUSE::Permissions                          0       0.06    
    Test::Pod                                         1.41    1.51    
    Test::Pod::Coverage                               1.08    1.10    
    Test::WWW::Mechanize                              1.16    1.48    
    Test::WWW::Mechanize::Catalyst                    0       0.60    

configure_requires:

    Module                                            Need    Have    
    ------------------------------------------------- ------- --------
    ExtUtils::MakeMaker                               0       7.32    


------------------------------
ENVIRONMENT AND OTHER CONTEXT
------------------------------

Environment variables:

    LC_ALL = de_DE.ISO8859-1
    PATH = /usr/local/bin:/usr/bin:/bin:/usr/local/sbin:/usr/sbin:/sbin:/home/cpansand/bin/freebsd10.3:/home/cpansand/bin/sh:/home/cpansand/bin:/usr/games:/home/cpansand/devel:/home/eserte/src/srezic-misc/scripts
    PERL5LIB = /home/cpansand/.cpan/build/2018042012/HTML-FormFu-2.06-7/blib/arch:/home/cpansand/.cpan/build/2018042012/HTML-FormFu-2.06-7/blib/lib:/home/cpansand/.cpan/build/2018042012/Pandoc-Elements-0.35-7/blib/arch:/home/cpansand/.cpan/build/2018042012/Pandoc-Elements-0.35-7/blib/lib
    PERL5OPT = 
    PERL5_CPANPLUS_IS_RUNNING = 20291
    PERL5_CPAN_IS_RUNNING = 20291
    PERL5_CPAN_IS_RUNNING_IN_RECURSION = 12518,20291
    PERLDOC = -MPod::Perldoc::ToTextOverstrike
    PERL_BATCH = yes
    PERL_CANARY_STABILITY_NOPROMPT = 1
    PERL_CPAN_REPORTER_CONFIG = /var/tmp/cpansmoker-1023/2018042012/cpanreporter_000_config.ini
    PERL_EXTUTILS_AUTOINSTALL = --defaultdeps
    SHELL = /usr/local/bin/zsh
    TERM = screen
    TMPDIR = /var/tmp/cpansmoker-1023/2018042012

Perl special variables (and OS-specific diagnostics, for MSWin32):

    $^X = /usr/perl5.22.2p/bin/perl5.22.2
    $UID/$EUID = 1023 / 1023
    $GID = 1023 1023
    $EGID = 1023 1023

Perl module toolchain versions installed:

    Module              Have    
    ------------------- --------
    CPAN                2.16    
    CPAN::Meta          2.150010
    Cwd                 3.74    
    ExtUtils::CBuilder  0.280226
    ExtUtils::Command   7.32    
    ExtUtils::Install   2.14    
    ExtUtils::MakeMaker 7.32    
    ExtUtils::Manifest  1.70    
    ExtUtils::ParseXS   3.35    
    File::Spec          3.74    
    JSON                2.97001 
    JSON::PP            2.94    
    Module::Build       0.4224  
    Module::Signature   0.81    
    Parse::CPAN::Meta   2.150010
    Test::Harness       3.42    
    Test::More          1.302136
    YAML                1.24    
    YAML::Syck          1.30    
    version             0.9922  


--

Summary of my perl5 (revision 5 version 22 subversion 2) configuration:
   
  Platform:
    osname=freebsd, osvers=10.1-release, archname=amd64-freebsd
    uname='freebsd cvrsnica-freebsd-101.herceg.de 10.1-release freebsd 10.1-release #0 r274401: tue nov 11 21:02:49 utc 2014 root@releng1.nyi.freebsd.org:usrobjusrsrcsysgeneric amd64 '
    config_args='-ds -e -Dprefix=/usr/perl5.22.2p -Dcf_email=srezic@cpan.org -Doptimize=-O2 -pipe'
    hint=recommended, useposix=true, d_sigaction=define
    useithreads=undef, usemultiplicity=undef
    use64bitint=define, use64bitall=define, uselongdouble=undef
    usemymalloc=n, bincompat5005=undef
  Compiler:
    cc='cc', ccflags ='-DHAS_FPSETMASK -DHAS_FLOATINGPOINT_H -fno-strict-aliasing -pipe -fstack-protector -I/usr/local/include -D_FORTIFY_SOURCE=2',
    optimize='-O2 -pipe',
    cppflags='-DHAS_FPSETMASK -DHAS_FLOATINGPOINT_H -fno-strict-aliasing -pipe -fstack-protector -I/usr/local/include'
    ccversion='', gccversion='4.2.1 Compatible FreeBSD Clang 3.4.1 (tags/RELEASE_34/dot1-final 208032)', gccosandvers=''
    intsize=4, longsize=8, ptrsize=8, doublesize=8, byteorder=12345678, doublekind=3
    d_longlong=define, longlongsize=8, d_longdbl=define, longdblsize=16, longdblkind=3
    ivtype='long', ivsize=8, nvtype='double', nvsize=8, Off_t='off_t', lseeksize=8
    alignbytes=8, prototype=define
  Linker and Libraries:
    ld='cc', ldflags ='-pthread -Wl,-E  -fstack-protector -L/usr/local/lib'
    libpth=/usr/lib /usr/local/lib /usr/include/clang/3.4.1 /usr/lib
    libs=-lpthread -lgdbm -lm -lcrypt -lutil -lc
    perllibs=-lpthread -lm -lcrypt -lutil -lc
    libc=, so=so, useshrplib=false, libperl=libperl.a
    gnulibc_version=''
  Dynamic Linking:
    dlsrc=dl_dlopen.xs, dlext=so, d_dlsymun=undef, ccdlflags=' '
    cccdlflags='-DPIC -fPIC', lddlflags='-shared  -L/usr/local/lib -fstack-protector'


Characteristics of this binary (from libperl): 
  Compile-time options: HAS_TIMES PERLIO_LAYERS PERL_DONT_CREATE_GVSV
                        PERL_HASH_FUNC_ONE_AT_A_TIME_HARD PERL_MALLOC_WRAP
                        PERL_NEW_COPY_ON_WRITE PERL_PRESERVE_IVUV
                        USE_64_BIT_ALL USE_64_BIT_INT USE_LARGE_FILES
                        USE_LOCALE USE_LOCALE_COLLATE USE_LOCALE_CTYPE
                        USE_LOCALE_NUMERIC USE_LOCALE_TIME USE_PERLIO
                        USE_PERL_ATOF
  Built under freebsd
  Compiled at May 29 2016 23:34:36
  %ENV:
    PERL5LIB="/home/cpansand/.cpan/build/2018042012/HTML-FormFu-2.06-7/blib/arch:/home/cpansand/.cpan/build/2018042012/HTML-FormFu-2.06-7/blib/lib:/home/cpansand/.cpan/build/2018042012/Pandoc-Elements-0.35-7/blib/arch:/home/cpansand/.cpan/build/2018042012/Pandoc-Elements-0.35-7/blib/lib"
    PERL5OPT=""
    PERL5_CPANPLUS_IS_RUNNING="20291"
    PERL5_CPAN_IS_RUNNING="20291"
    PERL5_CPAN_IS_RUNNING_IN_RECURSION="12518,20291"
    PERLDOC="-MPod::Perldoc::ToTextOverstrike"
    PERL_BATCH="yes"
    PERL_CANARY_STABILITY_NOPROMPT="1"
    PERL_CPAN_REPORTER_CONFIG="/var/tmp/cpansmoker-1023/2018042012/cpanreporter_000_config.ini"
    PERL_EXTUTILS_AUTOINSTALL="--defaultdeps"
  @INC:
    /home/cpansand/.cpan/build/2018042012/HTML-FormFu-2.06-7/blib/arch
    /home/cpansand/.cpan/build/2018042012/HTML-FormFu-2.06-7/blib/lib
    /home/cpansand/.cpan/build/2018042012/Pandoc-Elements-0.35-7/blib/arch
    /home/cpansand/.cpan/build/2018042012/Pandoc-Elements-0.35-7/blib/lib
    /usr/perl5.22.2p/lib/site_perl/5.22.2/amd64-freebsd
    /usr/perl5.22.2p/lib/site_perl/5.22.2
    /usr/perl5.22.2p/lib/5.22.2/amd64-freebsd
    /usr/perl5.22.2p/lib/5.22.2
    .