Report for Alien-GHTTP-0.005

Back
From: metabase:user:30f4dfbe-2aae-11df-837a-5e0a49663a4f
Subject: PASS Alien-GHTTP-0.005 v5.20.1 Mac OS X
Date: 2016-06-08T06:57:05Z

This distribution has been tested as part of the CPAN Testers
project, supporting the Perl programming language.  See
http://wiki.cpantesters.org/ for more information or email
questions to cpan-testers-discuss@perl.org


--
Dear Chase Whitener,

This is a computer-generated report for Alien-GHTTP-0.005
on perl 5.20.1, created by CPAN-Reporter-1.2017.

Thank you for uploading your work to CPAN.  Congratulations!
All tests were successful.

Sections of this report:

    * Tester comments
    * Program output
    * Prerequisites
    * Environment and other context

------------------------------
TESTER COMMENTS
------------------------------

Additional comments from tester:

this report is from an automated smoke testing program
and was not reviewed by a human for accuracy

------------------------------
PROGRAM OUTPUT
------------------------------

Output from './Build test':

t/00-compile.t ......... ok
# 
# Versions for all modules listed in MYMETA.json (including optional ones):
# 
# === Configure Requires ===
# 
#     Module                    Want  Have
#     ------------------------ ----- -----
#     Alien::Base                any 0.028
#     Alien::Base::ModuleBuild 0.002 0.028
#     File::ShareDir            1.03 1.102
# 
# === Test Requires ===
# 
#     Module              Want     Have
#     ------------------- ---- --------
#     ExtUtils::MakeMaker  any     7.06
#     File::Spec           any     3.48
#     IO::Handle           any     1.35
#     IPC::Open3           any     1.16
#     Test::More          0.88 1.001014
# 
# === Test Recommends ===
# 
#     Module         Want     Have
#     ---------- -------- --------
#     CPAN::Meta 2.120900 2.150005
# 
# === Runtime Requires ===
# 
#     Module          Want   Have
#     -------------- ----- ------
#     Alien::Base    0.002  0.028
#     File::ShareDir  1.03  1.102
#     Module::Build   0.28 0.4214
#     strict           any   1.08
#     warnings         any   1.23
# 
t/00-report-prereqs.t .. ok
t/use.t ................ ok
All tests successful.
Files=3, Tests=3,  0 wallclock secs ( 0.01 usr  0.01 sys +  0.16 cusr  0.07 csys =  0.25 CPU)
Result: PASS
Testing library (if applicable) ... 
+ cd /Users/hornenj/.cpan/build/Alien-GHTTP-0.005-deG2BH/_alien/libghttp-1.0.9.patched
Done

------------------------------
PREREQUISITES
------------------------------

Prerequisite modules loaded:

requires:

    Module                   Need     Have    
    ------------------------ -------- --------
    Alien::Base              0.002    0.028   
    File::ShareDir           1.03     1.102   
    Module::Build            0.28     0.4214  
    perl                     5.008001 5.020001
    strict                   0        1.08    
    warnings                 0        1.23    

build_requires:

    Module                   Need     Have    
    ------------------------ -------- --------
    ExtUtils::MakeMaker      0        7.06    
    File::Spec               0        3.48    
    IO::Handle               0        1.35    
    IPC::Open3               0        1.16    
    Test::More               0.88     1.001014

configure_requires:

    Module                   Need     Have    
    ------------------------ -------- --------
    Alien::Base              0        0.028   
    Alien::Base::ModuleBuild 0.002    0.028   
    File::ShareDir           1.03     1.102   


------------------------------
ENVIRONMENT AND OTHER CONTEXT
------------------------------

Environment variables:

    AUTOMATED_TESTING = 1
    LANG = en_US.UTF-8
    LC_ALL = POSIX
    NO_NETWORK_TESTING = 1
    PATH = /Users/hornenj/perl5/perlbrew/bin:/Users/hornenj/perl5/perlbrew/perls/perl-5.20.1/bin:/Users/hornenj/perl5/perlbrew/bin:/Users/hornenj/bin:/sw/lib/perl5/ExtUtils:/sw/bin:/am/ncbiapdata/bin:/usr/bin:/bin:/usr/X11R6/bin:/netopt/ncbi_tools/bin:/usr/local/ncbi/blast/bin:/net/traces01.be-md.ncbi.nlm.nih.gov/trace_software/vdb/mac/release/x86_64/bin
    PERL5LIB = /Users/hornenj/.cpan/build/Alien-Base-0.028-KzSXA6/blib/arch:/Users/hornenj/.cpan/build/Alien-Base-0.028-KzSXA6/blib/lib:/Users/hornenj/.cpan/build/File-chdir-0.1010-OWGSJb/blib/arch:/Users/hornenj/.cpan/build/File-chdir-0.1010-OWGSJb/blib/lib:/Users/hornenj/.cpan/build/FFI-CheckLib-0.15-wTkVgL/blib/arch:/Users/hornenj/.cpan/build/FFI-CheckLib-0.15-wTkVgL/blib/lib:/Users/hornenj/.cpan/build/Shell-Config-Generate-0.25-7b8yKp/blib/arch:/Users/hornenj/.cpan/build/Shell-Config-Generate-0.25-7b8yKp/blib/lib:/Users/hornenj/.cpan/build/Shell-Guess-0.06-gHOJdD/blib/arch:/Users/hornenj/.cpan/build/Shell-Guess-0.06-gHOJdD/blib/lib:/Users/hornenj/.cpan/build/Unix-Process-1.3101-O6wOlO/blib/arch:/Users/hornenj/.cpan/build/Unix-Process-1.3101-O6wOlO/blib/lib:/Users/hornenj/.cpan/build/IPC-System-Simple-1.25-xGIt7c/blib/arch:/Users/hornenj/.cpan/build/IPC-System-Simple-1.25-xGIt7c/blib/lib:/Users/hornenj/.cpan/build/Archive-Extract-0.76-MGey5G/blib/arch:/Users/hornenj/.cpan/build/Archive-Extract-0.76-MGey5G/blib/lib
    PERL5OPT = 
    PERL5_CPANPLUS_IS_RUNNING = 17739
    PERL5_CPAN_IS_RUNNING = 17739
    PERL5_MINISMOKEBOX = 0.58
    PERLBREW_BASHRC_VERSION = 0.75
    PERLBREW_HOME = /Users/hornenj/.perlbrew
    PERLBREW_LIB = 
    PERLBREW_MANPATH = /Users/hornenj/perl5/perlbrew/perls/perl-5.20.1/man
    PERLBREW_PATH = /Users/hornenj/perl5/perlbrew/bin:/Users/hornenj/perl5/perlbrew/perls/perl-5.20.1/bin
    PERLBREW_PERL = perl-5.20.1
    PERLBREW_ROOT = /Users/hornenj/perl5/perlbrew
    PERLBREW_VERSION = 0.75
    PERL_EXTUTILS_AUTOINSTALL = --defaultdeps
    PERL_LOCAL_LIB_ROOT = 
    PERL_MM_USE_DEFAULT = 1
    SHELL = /bin/bash
    TERM = xterm-256color
    TMPDIR = /var/folders/pz/pd7y1qjs6s3cbk170cw50fjc000c61/T/
    ac_cv_path_INTLTOOL_PERL = /usr/bin/perl

Perl special variables (and OS-specific diagnostics, for MSWin32):

    $^X = /Users/hornenj/perl5/perlbrew/perls/perl-5.20.1/bin/perl
    $UID/$EUID = 12481 / 12481
    $GID = 14 14 5344 37191 527 241
    $EGID = 14 14 5344 37191 527 241

Perl module toolchain versions installed:

    Module              Have    
    ------------------- --------
    CPAN                2.05    
    CPAN::Meta          2.150005
    Cwd                 3.48    
    ExtUtils::CBuilder  0.280223
    ExtUtils::Command   7.06    
    ExtUtils::Install   2.04    
    ExtUtils::MakeMaker 7.06    
    ExtUtils::Manifest  1.70    
    ExtUtils::ParseXS   3.30    
    File::Spec          3.48    
    JSON                2.90    
    JSON::PP            2.27300 
    Module::Build       0.4214  
    Module::Signature   n/a     
    Parse::CPAN::Meta   1.4417  
    Test::Harness       3.35    
    Test::More          1.001014
    YAML                1.15    
    YAML::Syck          1.29    
    version             0.9912  


--

Summary of my perl5 (revision 5 version 20 subversion 1) configuration:
   
  Platform:
    osname=darwin, osvers=12.5.0, archname=darwin-thread-multi-2level
    uname='darwin ncbimac2008.ncbi.nlm.nih.gov 12.5.0 darwin kernel version 12.5.0: sun sep 29 13:33:47 pdt 2013; root:xnu-2050.48.12~1release_x86_64 x86_64 '
    config_args='-de -Dprefix=/Users/hornenj/perl5/perlbrew/perls/perl-5.20.1 -Duseithreads -Dusemultiplicity -Accflags=-O2 -W -Wformat=2 -Wswitch -Wshadow -Wwrite-strings -Wuninitialized -Wall -pipe -mtune=native -march=native -fomit-frame-pointer -msse2 -msse -mmmx -pedantic -D_FORTIFY_SOURCE=2 -Wpointer-arith -Wstrict-prototypes -fstack-protector -Wstack-protector -Wextra -Wbad-function-cast -Wcast-align -Wcast-qual -Wdisabled-optimization -Wendif-labels -Wfloat-equal -Wformat-nonliteral -Winline -Wmissing-declarations -Wmissing-prototypes -Wnested-externs -Wpointer-arith -Wundef -Wformat-security -fassociative-math -Acc=cc -Aeval:scriptdir=/Users/hornenj/perl5/perlbrew/perls/perl-5.20.1/bin'
    hint=recommended, useposix=true, d_sigaction=define
    useithreads=define, usemultiplicity=define
    use64bitint=define, use64bitall=define, uselongdouble=undef
    usemymalloc=n, bincompat5005=undef
  Compiler:
    cc=' cc', ccflags ='-fno-common -DPERL_DARWIN -O2 -W -Wformat=2 -Wswitch -Wshadow -Wwrite-strings -Wuninitialized -Wall -pipe -mtune=native -march=native -fomit-frame-pointer -msse2 -msse -mmmx -pedantic -D_FORTIFY_SOURCE=2 -Wpointer-arith -Wstrict-prototypes -fstack-protector -Wstack-protector -Wextra -Wbad-function-cast -Wcast-align -Wcast-qual -Wdisabled-optimization -Wendif-labels -Wfloat-equal -Wformat-nonliteral -Winline -Wmissing-declarations -Wmissing-prototypes -Wnested-externs -Wpointer-arith -Wundef -Wformat-security -fassociative-math -fno-strict-aliasing -I/usr/local/include',
    optimize='-O3',
    cppflags='-fno-common -DPERL_DARWIN -O2 -W -Wformat=2 -Wswitch -Wshadow -Wwrite-strings -Wuninitialized -Wall -pipe -mtune=native -march=native -fomit-frame-pointer -msse2 -msse -mmmx -pedantic -D_FORTIFY_SOURCE=2 -Wpointer-arith -Wstrict-prototypes -fstack-protector -Wstack-protector -Wextra -Wbad-function-cast -Wcast-align -Wcast-qual -Wdisabled-optimization -Wendif-labels -Wfloat-equal -Wformat-nonliteral -Winline -Wmissing-declarations -Wmissing-prototypes -Wnested-externs -Wpointer-arith -Wundef -Wformat-security -fassociative-math -fno-strict-aliasing -I/usr/local/include'
    ccversion='', gccversion='4.2.1 Compatible Apple LLVM 4.2 (clang-425.0.24)', gccosandvers=''
    intsize=4, longsize=8, ptrsize=8, doublesize=8, byteorder=12345678
    d_longlong=define, longlongsize=8, d_longdbl=define, longdblsize=16
    ivtype='long', ivsize=8, nvtype='double', nvsize=8, Off_t='off_t', lseeksize=8
    alignbytes=8, prototype=define
  Linker and Libraries:
    ld='env MACOSX_DEPLOYMENT_TARGET=10.3 cc', ldflags =' -fstack-protector -L/usr/local/lib'
    libpth=/usr/local/lib /usr/bin/../lib/clang/4.2/lib /usr/lib
    libs=-ldbm -ldl -lm -lutil -lc
    perllibs=-ldl -lm -lutil -lc
    libc=, so=dylib, useshrplib=false, libperl=libperl.a
    gnulibc_version=''
  Dynamic Linking:
    dlsrc=dl_dlopen.xs, dlext=bundle, d_dlsymun=undef, ccdlflags=' '
    cccdlflags=' ', lddlflags=' -bundle -undefined dynamic_lookup -L/usr/local/lib -fstack-protector'


Characteristics of this binary (from libperl): 
  Compile-time options: HAS_TIMES MULTIPLICITY PERLIO_LAYERS
                        PERL_DONT_CREATE_GVSV
                        PERL_HASH_FUNC_ONE_AT_A_TIME_HARD
                        PERL_IMPLICIT_CONTEXT PERL_MALLOC_WRAP
                        PERL_NEW_COPY_ON_WRITE PERL_PRESERVE_IVUV
                        USE_64_BIT_ALL USE_64_BIT_INT USE_ITHREADS
                        USE_LARGE_FILES USE_LOCALE USE_LOCALE_COLLATE
                        USE_LOCALE_CTYPE USE_LOCALE_NUMERIC USE_PERLIO
                        USE_PERL_ATOF USE_REENTRANT_API
  Built under darwin
  Compiled at Sep 15 2014 09:27:45
  %ENV:
    PERL5LIB="/Users/hornenj/.cpan/build/Alien-Base-0.028-KzSXA6/blib/arch:/Users/hornenj/.cpan/build/Alien-Base-0.028-KzSXA6/blib/lib:/Users/hornenj/.cpan/build/File-chdir-0.1010-OWGSJb/blib/arch:/Users/hornenj/.cpan/build/File-chdir-0.1010-OWGSJb/blib/lib:/Users/hornenj/.cpan/build/FFI-CheckLib-0.15-wTkVgL/blib/arch:/Users/hornenj/.cpan/build/FFI-CheckLib-0.15-wTkVgL/blib/lib:/Users/hornenj/.cpan/build/Shell-Config-Generate-0.25-7b8yKp/blib/arch:/Users/hornenj/.cpan/build/Shell-Config-Generate-0.25-7b8yKp/blib/lib:/Users/hornenj/.cpan/build/Shell-Guess-0.06-gHOJdD/blib/arch:/Users/hornenj/.cpan/build/Shell-Guess-0.06-gHOJdD/blib/lib:/Users/hornenj/.cpan/build/Unix-Process-1.3101-O6wOlO/blib/arch:/Users/hornenj/.cpan/build/Unix-Process-1.3101-O6wOlO/blib/lib:/Users/hornenj/.cpan/build/IPC-System-Simple-1.25-xGIt7c/blib/arch:/Users/hornenj/.cpan/build/IPC-System-Simple-1.25-xGIt7c/blib/lib:/Users/hornenj/.cpan/build/Archive-Extract-0.76-MGey5G/blib/arch:/Users/hornenj/.cpan/build/Archive-Extract-0.76-MGey5G/blib/lib"
    PERL5OPT=""
    PERL5_CPANPLUS_IS_RUNNING="17739"
    PERL5_CPAN_IS_RUNNING="17739"
    PERL5_MINISMOKEBOX="0.58"
    PERLBREW_BASHRC_VERSION="0.75"
    PERLBREW_HOME="/Users/hornenj/.perlbrew"
    PERLBREW_LIB=""
    PERLBREW_MANPATH="/Users/hornenj/perl5/perlbrew/perls/perl-5.20.1/man"
    PERLBREW_PATH="/Users/hornenj/perl5/perlbrew/bin:/Users/hornenj/perl5/perlbrew/perls/perl-5.20.1/bin"
    PERLBREW_PERL="perl-5.20.1"
    PERLBREW_ROOT="/Users/hornenj/perl5/perlbrew"
    PERLBREW_VERSION="0.75"
    PERL_EXTUTILS_AUTOINSTALL="--defaultdeps"
    PERL_LOCAL_LIB_ROOT=""
    PERL_MM_USE_DEFAULT="1"
  @INC:
    /Users/hornenj/.cpan/build/Alien-Base-0.028-KzSXA6/blib/arch
    /Users/hornenj/.cpan/build/Alien-Base-0.028-KzSXA6/blib/lib
    /Users/hornenj/.cpan/build/File-chdir-0.1010-OWGSJb/blib/arch
    /Users/hornenj/.cpan/build/File-chdir-0.1010-OWGSJb/blib/lib
    /Users/hornenj/.cpan/build/FFI-CheckLib-0.15-wTkVgL/blib/arch
    /Users/hornenj/.cpan/build/FFI-CheckLib-0.15-wTkVgL/blib/lib
    /Users/hornenj/.cpan/build/Shell-Config-Generate-0.25-7b8yKp/blib/arch
    /Users/hornenj/.cpan/build/Shell-Config-Generate-0.25-7b8yKp/blib/lib
    /Users/hornenj/.cpan/build/Shell-Guess-0.06-gHOJdD/blib/arch
    /Users/hornenj/.cpan/build/Shell-Guess-0.06-gHOJdD/blib/lib
    /Users/hornenj/.cpan/build/Unix-Process-1.3101-O6wOlO/blib/arch
    /Users/hornenj/.cpan/build/Unix-Process-1.3101-O6wOlO/blib/lib
    /Users/hornenj/.cpan/build/IPC-System-Simple-1.25-xGIt7c/blib/arch
    /Users/hornenj/.cpan/build/IPC-System-Simple-1.25-xGIt7c/blib/lib
    /Users/hornenj/.cpan/build/Archive-Extract-0.76-MGey5G/blib/arch
    /Users/hornenj/.cpan/build/Archive-Extract-0.76-MGey5G/blib/lib
    /Users/hornenj/perl5/perlbrew/perls/perl-5.20.1/lib/site_perl/5.20.1/darwin-thread-multi-2level
    /Users/hornenj/perl5/perlbrew/perls/perl-5.20.1/lib/site_perl/5.20.1
    /Users/hornenj/perl5/perlbrew/perls/perl-5.20.1/lib/5.20.1/darwin-thread-multi-2level
    /Users/hornenj/perl5/perlbrew/perls/perl-5.20.1/lib/5.20.1
    .