Command-Template v0.001 Perl 5 v5.28.3 darwin-thread-multi-2level

Status
Pass
From
Roland van Ipenburg (IPENBURG)
Dist
Command-Template v0.001
Platform
Perl 5 v5.28.3 darwin-thread-multi-2level
Date
2021-04-06 18:09:20
ID
359adeba-9703-11eb-ae61-e234de5e4622
This distribution has been tested as part of the CPAN Testers
project, supporting the Perl programming language.  See
http://wiki.cpantesters.org/ for more information or email
questions to cpan-testers-discuss@perl.org


--
Dear Flavio Poletti,

This is a computer-generated report for Command-Template-0.001
on perl 5.28.3, created by CPAN-Reporter-1.2018.

Thank you for uploading your work to CPAN.  Congratulations!
All tests were successful.

Sections of this report:

    * Tester comments
    * Program output
    * Prerequisites
    * Environment and other context

------------------------------
TESTER COMMENTS
------------------------------

Additional comments from tester:

none provided

------------------------------
PROGRAM OUTPUT
------------------------------

Output from './Build test':

# Testing Command::Template 0.001
t/00-load.t ............... ok
t/10-command-template.t ... ok
t/20-command-runner.t ..... ok
t/author-pod-syntax.t ..... skipped: these tests are for testing by the author
t/author-pod-version.t .... skipped: these tests are for testing by the author
t/release-pod-coverage.t .. skipped: these tests are for release candidate testing
All tests successful.
Files=6, Tests=49,  1 wallclock secs ( 0.04 usr  0.02 sys +  0.35 cusr  0.12 csys =  0.53 CPU)
Result: PASS

------------------------------
PREREQUISITES
------------------------------

Prerequisite modules loaded:

requires:

    Module              Need       Have      
    ------------------- ---------- ----------
    IPC::Run            20200505.0 20200505.0
    perl                5.024000   5.028003  

build_requires:

    Module              Need       Have      
    ------------------- ---------- ----------
    Path::Tiny          0.084      0.118     

configure_requires:

    Module              Need       Have      
    ------------------- ---------- ----------
    Module::Build::Tiny 0.034      0.039     


------------------------------
ENVIRONMENT AND OTHER CONTEXT
------------------------------

Environment variables:

    LANG = en_US.UTF-8
    LC_ALL = en_US.UTF-8
    LC_CTYPE = UTF-8
    PATH = /opt/local/bin:/opt/local/sbin:/opt/local/bin:/opt/local/sbin:/opt/local/bin:/opt/local/sbin:/Users/roliep/pebble-dev/PebbleSDK-current/bin:/Users/roliep/.nvm/versions/node/v15.3.0/bin:/usr/local/bin/:/usr/local/bin:/opt/local/sbin:/opt/local/bin:/Users/roliep/.composer/vendor/bin:/usr/local/sbin:/usr/bin:/usr/sbin:/bin:/sbin:/usr/local/bin:/usr/bin:/bin:/usr/sbin:/sbin:/usr/local/MacGPG2/bin:/opt/X11/bin:/Library/Apple/usr/bin:/Users/roliep/bin/FDK/Tools/osx
    PERL5LIB = 
    PERL5OPT = 
    PERL5_CPANPLUS_IS_RUNNING = 19828
    PERL5_CPAN_IS_RUNNING = 19828
    PERL_USE_UNSAFE_INC = 1
    SHELL = /bin/sh
    TERM = xterm-256color

Perl special variables (and OS-specific diagnostics, for MSWin32):

    $^X = /opt/local/bin/perl5.28
    $UID/$EUID = 0 / 0
    $GID = 0 0 1 2 3 4 5 8 9 12 20 29 61 80 701 702 703
    $EGID = 0 0 1 2 3 4 5 8 9 12 20 29 61 80 701 702 703

Perl module toolchain versions installed:

    Module              Have    
    ------------------- --------
    CPAN                2.28    
    CPAN::Meta          2.150010
    Cwd                 3.75    
    ExtUtils::CBuilder  0.280236
    ExtUtils::Command   7.60    
    ExtUtils::Install   2.20    
    ExtUtils::MakeMaker 7.60    
    ExtUtils::Manifest  1.73    
    ExtUtils::ParseXS   3.39    
    File::Spec          3.75    
    JSON                4.03    
    JSON::PP            4.06    
    Module::Build       0.4231  
    Module::Signature   0.87    
    Parse::CPAN::Meta   2.150010
    Test::Harness       3.42    
    Test::More          1.302183
    YAML                1.30    
    YAML::Syck          n/a     
    version             0.9928  


--

Summary of my perl5 (revision 5 version 28 subversion 3) configuration:
   
  Platform:
    osname=darwin
    osvers=20.1.0
    archname=darwin-thread-multi-2level
    uname='darwin bigsurx.internal.macports.net 20.1.0 darwin kernel version 20.1.0: sat oct 31 00:07:11 pdt 2020; root:xnu-7195.50.7~2release_x86_64 x86_64 '
    config_args='-des -Dprefix=/opt/local -Dscriptdir=/opt/local/bin -Dvendorprefix=/opt/local -Dusemultiplicity=y -Dusethreads -Duseshrplib -Dcc=/usr/bin/clang -Dman1ext=1pm -Dman3ext=3pm -Dinstallstyle=lib/perl5 -Dman1dir=/opt/local/share/man/man1p -Dman3dir=/opt/local/share/man/man3p -Dsitebin=/opt/local/libexec/perl5.28/sitebin -Dsiteman1dir=/opt/local/share/perl5.28/siteman/man1 -Dsiteman3dir=/opt/local/share/perl5.28/siteman/man3 -Dvendorbin=/opt/local/libexec/perl5.28 -Dvendorman1dir=/opt/local/share/perl5.28/man/man1 -Dvendorman3dir=/opt/local/share/perl5.28/man/man3 -Dpager=/usr/bin/less -sR -Dperlpath=/opt/local/bin/perl5.28 -Dstartperl=#!/opt/local/bin/perl5.28 -Acppflags=-I/opt/local/include -isysroot/Library/Developer/CommandLineTools/SDKs/MacOSX11.0.sdk -Accflags=-pipe -Os -isysroot/Library/Developer/CommandLineTools/SDKs/MacOSX11.0.sdk  -Alddlflags=-L/opt/local/lib -Wl,-headerpad_max_install_names -Wl,-syslibroot,/Library/Developer/CommandLineTools/SDKs/MacOSX11.0.sdk  -Aldflags=-L/opt/local/lib -Wl,-headerpad_max_install_names -Wl,-syslibroot,/Library/Developer/CommandLineTools/SDKs/MacOSX11.0.sdk '
    hint=recommended
    useposix=true
    d_sigaction=define
    useithreads=define
    usemultiplicity=define
    use64bitint=define
    use64bitall=define
    uselongdouble=undef
    usemymalloc=n
    default_inc_excludes_dot=define
    bincompat5005=undef
  Compiler:
    cc='/usr/bin/clang'
    ccflags ='-fno-common -DPERL_DARWIN -mmacosx-version-min=10.16 -pipe -Os -isysroot/Library/Developer/CommandLineTools/SDKs/MacOSX11.0.sdk  -fno-strict-aliasing -fstack-protector-strong -I/opt/local/include -DPERL_USE_SAFE_PUTENV'
    optimize='-O3'
    cppflags='-I/opt/local/include -isysroot/Library/Developer/CommandLineTools/SDKs/MacOSX11.0.sdk -fno-common -DPERL_DARWIN -mmacosx-version-min=10.16 -pipe -Os -isysroot/Library/Developer/CommandLineTools/SDKs/MacOSX11.0.sdk  -fno-strict-aliasing -fstack-protector-strong -I/opt/local/include'
    ccversion=''
    gccversion='Apple LLVM 12.0.0 (clang-1200.0.32.27)'
    gccosandvers=''
    intsize=4
    longsize=8
    ptrsize=8
    doublesize=8
    byteorder=12345678
    doublekind=3
    d_longlong=define
    longlongsize=8
    d_longdbl=define
    longdblsize=16
    longdblkind=3
    ivtype='long'
    ivsize=8
    nvtype='double'
    nvsize=8
    Off_t='off_t'
    lseeksize=8
    alignbytes=8
    prototype=define
  Linker and Libraries:
    ld='/usr/bin/clang'
    ldflags =' -mmacosx-version-min=10.16 -L/opt/local/lib -Wl,-headerpad_max_install_names -Wl,-syslibroot,/Library/Developer/CommandLineTools/SDKs/MacOSX11.0.sdk  -fstack-protector-strong'
    libpth=/opt/local/lib /Library/Developer/CommandLineTools/usr/lib/clang/12.0.0/lib /Library/Developer/CommandLineTools/SDKs/MacOSX11.0.sdk/usr/lib /Library/Developer/CommandLineTools/usr/lib /usr/lib
    libs=-lgdbm
    perllibs=
    libc=
    so=dylib
    useshrplib=true
    libperl=libperl.dylib
    gnulibc_version=''
  Dynamic Linking:
    dlsrc=dl_dlopen.xs
    dlext=bundle
    d_dlsymun=undef
    ccdlflags=' '
    cccdlflags=' '
    lddlflags=' -mmacosx-version-min=10.16 -bundle -undefined dynamic_lookup -L/opt/local/lib -Wl,-headerpad_max_install_names -Wl,-syslibroot,/Library/Developer/CommandLineTools/SDKs/MacOSX11.0.sdk  -fstack-protector-strong'


Characteristics of this binary (from libperl): 
  Compile-time options:
    HAS_TIMES
    MULTIPLICITY
    PERLIO_LAYERS
    PERL_COPY_ON_WRITE
    PERL_DONT_CREATE_GVSV
    PERL_IMPLICIT_CONTEXT
    PERL_MALLOC_WRAP
    PERL_OP_PARENT
    PERL_PRESERVE_IVUV
    PERL_USE_SAFE_PUTENV
    USE_64_BIT_ALL
    USE_64_BIT_INT
    USE_ITHREADS
    USE_LARGE_FILES
    USE_LOCALE
    USE_LOCALE_COLLATE
    USE_LOCALE_CTYPE
    USE_LOCALE_NUMERIC
    USE_LOCALE_TIME
    USE_PERLIO
    USE_PERL_ATOF
    USE_REENTRANT_API
  Built under darwin
  Compiled at Nov 21 2020 23:54:30
  %ENV:
    PERL5LIB=""
    PERL5OPT=""
    PERL5_CPANPLUS_IS_RUNNING="19828"
    PERL5_CPAN_IS_RUNNING="19828"
    PERL_USE_UNSAFE_INC="1"
  @INC:
    /opt/local/lib/perl5/site_perl/5.28/darwin-thread-multi-2level
    /opt/local/lib/perl5/site_perl/5.28
    /opt/local/lib/perl5/vendor_perl/5.28/darwin-thread-multi-2level
    /opt/local/lib/perl5/vendor_perl/5.28
    /opt/local/lib/perl5/5.28/darwin-thread-multi-2level
    /opt/local/lib/perl5/5.28
    .