Back
From: metabase:user:a0e144f2-373b-11e6-8edd-c6848980b093
Subject: PASS OAuth-Consumer-0.03 v5.26.0 GNU/Linux
Date: 2017-04-10T06:09:08Z
This distribution has been tested as part of the CPAN Testers
project, supporting the Perl programming language. See
http://wiki.cpantesters.org/ for more information or email
questions to cpan-testers-discuss@perl.org
--
Dear Mathias Kende,
This is a computer-generated report for OAuth-Consumer-0.03
on perl 5.26.0, created by CPAN-Reporter-1.2018.
Thank you for uploading your work to CPAN. Congratulations!
All tests were successful.
Sections of this report:
* Tester comments
* Program output
* Prerequisites
* Environment and other context
------------------------------
TESTER COMMENTS
------------------------------
Additional comments from tester:
this report is from an automated smoke testing program
and was not reviewed by a human for accuracy
------------------------------
PROGRAM OUTPUT
------------------------------
Output from '/usr/bin/make test':
PERL_DL_NONLAZY=1 "/home/cpan3/install/bin/perl" "-MExtUtils::Command::MM" "-MTest::Harness" "-e" "undef *Test::Harness::Switches; test_harness(0, 'blib/lib', 'blib/arch')" t/*.t
given is experimental at /home/cpan3/install/lib/perl5/site_perl/5.26.0/Test/Subs.pm line 324.
when is experimental at /home/cpan3/install/lib/perl5/site_perl/5.26.0/Test/Subs.pm line 325.
when is experimental at /home/cpan3/install/lib/perl5/site_perl/5.26.0/Test/Subs.pm line 329.
when is experimental at /home/cpan3/install/lib/perl5/site_perl/5.26.0/Test/Subs.pm line 333.
given is experimental at /home/cpan3/.cpan/build/OAuth-Consumer-0.03-0/blib/lib/OAuth/Consumer.pm line 326.
when is experimental at /home/cpan3/.cpan/build/OAuth-Consumer-0.03-0/blib/lib/OAuth/Consumer.pm line 327.
when is experimental at /home/cpan3/.cpan/build/OAuth-Consumer-0.03-0/blib/lib/OAuth/Consumer.pm line 328.
given is experimental at /home/cpan3/.cpan/build/OAuth-Consumer-0.03-0/blib/lib/OAuth/Consumer.pm line 471.
when is experimental at /home/cpan3/.cpan/build/OAuth-Consumer-0.03-0/blib/lib/OAuth/Consumer.pm line 472.
when is experimental at /home/cpan3/.cpan/build/OAuth-Consumer-0.03-0/blib/lib/OAuth/Consumer.pm line 476.
when is experimental at /home/cpan3/.cpan/build/OAuth-Consumer-0.03-0/blib/lib/OAuth/Consumer.pm line 480.
given is experimental at /home/cpan3/.cpan/build/OAuth-Consumer-0.03-0/blib/lib/OAuth/Consumer.pm line 519.
when is experimental at /home/cpan3/.cpan/build/OAuth-Consumer-0.03-0/blib/lib/OAuth/Consumer.pm line 520.
when is experimental at /home/cpan3/.cpan/build/OAuth-Consumer-0.03-0/blib/lib/OAuth/Consumer.pm line 523.
when is experimental at /home/cpan3/.cpan/build/OAuth-Consumer-0.03-0/blib/lib/OAuth/Consumer.pm line 526.
Running tests in DEBUG mode
given is experimental at /home/cpan3/install/lib/perl5/site_perl/5.26.0/Test/Subs.pm line 324.
when is experimental at /home/cpan3/install/lib/perl5/site_perl/5.26.0/Test/Subs.pm line 325.
when is experimental at /home/cpan3/install/lib/perl5/site_perl/5.26.0/Test/Subs.pm line 329.
when is experimental at /home/cpan3/install/lib/perl5/site_perl/5.26.0/Test/Subs.pm line 333.
given is experimental at /home/cpan3/.cpan/build/OAuth-Consumer-0.03-0/blib/lib/OAuth/Consumer.pm line 326.
when is experimental at /home/cpan3/.cpan/build/OAuth-Consumer-0.03-0/blib/lib/OAuth/Consumer.pm line 327.
when is experimental at /home/cpan3/.cpan/build/OAuth-Consumer-0.03-0/blib/lib/OAuth/Consumer.pm line 328.
given is experimental at /home/cpan3/.cpan/build/OAuth-Consumer-0.03-0/blib/lib/OAuth/Consumer.pm line 471.
when is experimental at /home/cpan3/.cpan/build/OAuth-Consumer-0.03-0/blib/lib/OAuth/Consumer.pm line 472.
when is experimental at /home/cpan3/.cpan/build/OAuth-Consumer-0.03-0/blib/lib/OAuth/Consumer.pm line 476.
when is experimental at /home/cpan3/.cpan/build/OAuth-Consumer-0.03-0/blib/lib/OAuth/Consumer.pm line 480.
given is experimental at /home/cpan3/.cpan/build/OAuth-Consumer-0.03-0/blib/lib/OAuth/Consumer.pm line 519.
when is experimental at /home/cpan3/.cpan/build/OAuth-Consumer-0.03-0/blib/lib/OAuth/Consumer.pm line 520.
when is experimental at /home/cpan3/.cpan/build/OAuth-Consumer-0.03-0/blib/lib/OAuth/Consumer.pm line 523.
when is experimental at /home/cpan3/.cpan/build/OAuth-Consumer-0.03-0/blib/lib/OAuth/Consumer.pm line 526.
Running tests in DEBUG mode
Redundant argument in sprintf at /home/cpan3/install/lib/perl5/site_perl/5.26.0/Test/Subs.pm line 275.
Redundant argument in sprintf at /home/cpan3/install/lib/perl5/site_perl/5.26.0/Test/Subs.pm line 275.
Redundant argument in sprintf at /home/cpan3/install/lib/perl5/site_perl/5.26.0/Test/Subs.pm line 275.
Redundant argument in sprintf at /home/cpan3/install/lib/perl5/site_perl/5.26.0/Test/Subs.pm line 275.
Redundant argument in sprintf at /home/cpan3/install/lib/perl5/site_perl/5.26.0/Test/Subs.pm line 275.
Redundant argument in sprintf at /home/cpan3/install/lib/perl5/site_perl/5.26.0/Test/Subs.pm line 275.
Redundant argument in sprintf at /home/cpan3/install/lib/perl5/site_perl/5.26.0/Test/Subs.pm line 275.
Redundant argument in sprintf at /home/cpan3/install/lib/perl5/site_perl/5.26.0/Test/Subs.pm line 275.
given is experimental at /home/cpan3/install/lib/perl5/site_perl/5.26.0/Test/Subs.pm line 324.
when is experimental at /home/cpan3/install/lib/perl5/site_perl/5.26.0/Test/Subs.pm line 325.
when is experimental at /home/cpan3/install/lib/perl5/site_perl/5.26.0/Test/Subs.pm line 329.
when is experimental at /home/cpan3/install/lib/perl5/site_perl/5.26.0/Test/Subs.pm line 333.
given is experimental at /home/cpan3/.cpan/build/OAuth-Consumer-0.03-0/blib/lib/OAuth/Consumer.pm line 326.
when is experimental at /home/cpan3/.cpan/build/OAuth-Consumer-0.03-0/blib/lib/OAuth/Consumer.pm line 327.
when is experimental at /home/cpan3/.cpan/build/OAuth-Consumer-0.03-0/blib/lib/OAuth/Consumer.pm line 328.
given is experimental at /home/cpan3/.cpan/build/OAuth-Consumer-0.03-0/blib/lib/OAuth/Consumer.pm line 471.
when is experimental at /home/cpan3/.cpan/build/OAuth-Consumer-0.03-0/blib/lib/OAuth/Consumer.pm line 472.
when is experimental at /home/cpan3/.cpan/build/OAuth-Consumer-0.03-0/blib/lib/OAuth/Consumer.pm line 476.
when is experimental at /home/cpan3/.cpan/build/OAuth-Consumer-0.03-0/blib/lib/OAuth/Consumer.pm line 480.
given is experimental at /home/cpan3/.cpan/build/OAuth-Consumer-0.03-0/blib/lib/OAuth/Consumer.pm line 519.
when is experimental at /home/cpan3/.cpan/build/OAuth-Consumer-0.03-0/blib/lib/OAuth/Consumer.pm line 520.
when is experimental at /home/cpan3/.cpan/build/OAuth-Consumer-0.03-0/blib/lib/OAuth/Consumer.pm line 523.
when is experimental at /home/cpan3/.cpan/build/OAuth-Consumer-0.03-0/blib/lib/OAuth/Consumer.pm line 526.
Redundant argument in sprintf at /home/cpan3/install/lib/perl5/site_perl/5.26.0/Test/Subs.pm line 275.
Redundant argument in sprintf at /home/cpan3/install/lib/perl5/site_perl/5.26.0/Test/Subs.pm line 275.
Redundant argument in sprintf at /home/cpan3/install/lib/perl5/site_perl/5.26.0/Test/Subs.pm line 275.
Redundant argument in sprintf at /home/cpan3/install/lib/perl5/site_perl/5.26.0/Test/Subs.pm line 275.
Redundant argument in sprintf at /home/cpan3/install/lib/perl5/site_perl/5.26.0/Test/Subs.pm line 275.
Redundant argument in sprintf at /home/cpan3/install/lib/perl5/site_perl/5.26.0/Test/Subs.pm line 275.
Redundant argument in sprintf at /home/cpan3/install/lib/perl5/site_perl/5.26.0/Test/Subs.pm line 275.
Redundant argument in sprintf at /home/cpan3/install/lib/perl5/site_perl/5.26.0/Test/Subs.pm line 275.
t/simple.t .......... ok
Redundant argument in sprintf at /home/cpan3/install/lib/perl5/site_perl/5.26.0/Test/Subs.pm line 275.
Redundant argument in sprintf at /home/cpan3/install/lib/perl5/site_perl/5.26.0/Test/Subs.pm line 275.
Redundant argument in sprintf at /home/cpan3/install/lib/perl5/site_perl/5.26.0/Test/Subs.pm line 275.
Redundant argument in sprintf at /home/cpan3/install/lib/perl5/site_perl/5.26.0/Test/Subs.pm line 275.
Redundant argument in sprintf at /home/cpan3/install/lib/perl5/site_perl/5.26.0/Test/Subs.pm line 275.
given is experimental at /home/cpan3/install/lib/perl5/site_perl/5.26.0/Test/Subs.pm line 324.
when is experimental at /home/cpan3/install/lib/perl5/site_perl/5.26.0/Test/Subs.pm line 325.
when is experimental at /home/cpan3/install/lib/perl5/site_perl/5.26.0/Test/Subs.pm line 329.
when is experimental at /home/cpan3/install/lib/perl5/site_perl/5.26.0/Test/Subs.pm line 333.
given is experimental at /home/cpan3/.cpan/build/OAuth-Consumer-0.03-0/blib/lib/OAuth/Consumer.pm line 326.
when is experimental at /home/cpan3/.cpan/build/OAuth-Consumer-0.03-0/blib/lib/OAuth/Consumer.pm line 327.
when is experimental at /home/cpan3/.cpan/build/OAuth-Consumer-0.03-0/blib/lib/OAuth/Consumer.pm line 328.
given is experimental at /home/cpan3/.cpan/build/OAuth-Consumer-0.03-0/blib/lib/OAuth/Consumer.pm line 471.
when is experimental at /home/cpan3/.cpan/build/OAuth-Consumer-0.03-0/blib/lib/OAuth/Consumer.pm line 472.
when is experimental at /home/cpan3/.cpan/build/OAuth-Consumer-0.03-0/blib/lib/OAuth/Consumer.pm line 476.
when is experimental at /home/cpan3/.cpan/build/OAuth-Consumer-0.03-0/blib/lib/OAuth/Consumer.pm line 480.
given is experimental at /home/cpan3/.cpan/build/OAuth-Consumer-0.03-0/blib/lib/OAuth/Consumer.pm line 519.
when is experimental at /home/cpan3/.cpan/build/OAuth-Consumer-0.03-0/blib/lib/OAuth/Consumer.pm line 520.
when is experimental at /home/cpan3/.cpan/build/OAuth-Consumer-0.03-0/blib/lib/OAuth/Consumer.pm line 523.
when is experimental at /home/cpan3/.cpan/build/OAuth-Consumer-0.03-0/blib/lib/OAuth/Consumer.pm line 526.
Redundant argument in sprintf at /home/cpan3/install/lib/perl5/site_perl/5.26.0/Test/Subs.pm line 275.
Redundant argument in sprintf at /home/cpan3/install/lib/perl5/site_perl/5.26.0/Test/Subs.pm line 275.
Redundant argument in sprintf at /home/cpan3/install/lib/perl5/site_perl/5.26.0/Test/Subs.pm line 275.
Redundant argument in sprintf at /home/cpan3/install/lib/perl5/site_perl/5.26.0/Test/Subs.pm line 275.
Redundant argument in sprintf at /home/cpan3/install/lib/perl5/site_perl/5.26.0/Test/Subs.pm line 275.
t/timeout.t ......... ok
Redundant argument in sprintf at /home/cpan3/install/lib/perl5/site_perl/5.26.0/Test/Subs.pm line 275.
Redundant argument in sprintf at /home/cpan3/install/lib/perl5/site_perl/5.26.0/Test/Subs.pm line 275.
Redundant argument in sprintf at /home/cpan3/install/lib/perl5/site_perl/5.26.0/Test/Subs.pm line 275.
Redundant argument in sprintf at /home/cpan3/install/lib/perl5/site_perl/5.26.0/Test/Subs.pm line 275.
Redundant argument in sprintf at /home/cpan3/install/lib/perl5/site_perl/5.26.0/Test/Subs.pm line 275.
Redundant argument in sprintf at /home/cpan3/install/lib/perl5/site_perl/5.26.0/Test/Subs.pm line 275.
Redundant argument in sprintf at /home/cpan3/install/lib/perl5/site_perl/5.26.0/Test/Subs.pm line 275.
Redundant argument in sprintf at /home/cpan3/install/lib/perl5/site_perl/5.26.0/Test/Subs.pm line 275.
Redundant argument in sprintf at /home/cpan3/install/lib/perl5/site_perl/5.26.0/Test/Subs.pm line 275.
Redundant argument in sprintf at /home/cpan3/install/lib/perl5/site_perl/5.26.0/Test/Subs.pm line 275.
Redundant argument in sprintf at /home/cpan3/install/lib/perl5/site_perl/5.26.0/Test/Subs.pm line 275.
Redundant argument in sprintf at /home/cpan3/install/lib/perl5/site_perl/5.26.0/Test/Subs.pm line 275.
Redundant argument in sprintf at /home/cpan3/install/lib/perl5/site_perl/5.26.0/Test/Subs.pm line 275.
Redundant argument in sprintf at /home/cpan3/install/lib/perl5/site_perl/5.26.0/Test/Subs.pm line 275.
Redundant argument in sprintf at /home/cpan3/install/lib/perl5/site_perl/5.26.0/Test/Subs.pm line 275.
t/sandbox_thread.t .. ok
t/sandbox.t ......... ok
All tests successful.
Files=4, Tests=41, 7 wallclock secs ( 0.04 usr 0.01 sys + 1.53 cusr 0.06 csys = 1.64 CPU)
Result: PASS
------------------------------
PREREQUISITES
------------------------------
Prerequisite modules loaded:
requires:
Module Need Have
------------------- -------- --------
Carp 0 1.38
Encode 0 2.88
HTML::Entities 0 3.69
HTTP::Response 0 6.11
IO::Socket::INET 0 1.35
LWP::Authen::OAuth 0 1.02
perl 5.008000 5.026000
URI::Escape 0 3.31
build_requires:
Module Need Have
------------------- -------- --------
LWP::UserAgent 0 6.25
Test::Subs 0.07 0.08
WWW::Mechanize 0 1.84
configure_requires:
Module Need Have
------------------- -------- --------
ExtUtils::MakeMaker 6.3002 7.24
------------------------------
ENVIRONMENT AND OTHER CONTEXT
------------------------------
Environment variables:
AUTOMATED_TESTING = 1
HARNESS_OPTIONS = j3
LANG = en_US.UTF-8
PATH = /usr/local/bin:/usr/bin:/bin:/usr/local/games:/usr/games
PERL5LIB =
PERL5OPT =
PERL5_CPANPLUS_IS_RUNNING = 15932
PERL5_CPAN_IS_RUNNING = 15932
PERL5_CPAN_IS_RUNNING_IN_RECURSION = 23928,15932
PERL_CR_SMOKER_CURRENT = OAuth-Consumer-0.03
PERL_CR_SMOKER_RUNONCE = 1
PERL_EXTUTILS_AUTOINSTALL = --defaultdeps
PERL_MM_USE_DEFAULT = 1
SHELL = /bin/bash
TERM = putty-256color
Perl special variables (and OS-specific diagnostics, for MSWin32):
$^X = /home/cpan3/install/bin/perl
$UID/$EUID = 1004 / 1004
$GID = 1004 1004
$EGID = 1004 1004
Perl module toolchain versions installed:
Module Have
------------------- --------
CPAN 2.16
CPAN::Meta 2.150010
Cwd 3.62
ExtUtils::CBuilder 0.280224
ExtUtils::Command 7.24
ExtUtils::Install 2.04
ExtUtils::MakeMaker 7.24
ExtUtils::Manifest 1.70
ExtUtils::ParseXS 3.30
File::Spec 3.62
JSON 2.91_04
JSON::PP 2.27400
Module::Build 0.4222
Module::Signature 0.81
Parse::CPAN::Meta 2.150010
Test::Harness 3.38
Test::More 1.302078
YAML 1.23
YAML::Syck 1.29
version 0.9917
--
Summary of my perl5 (revision 5 version 26 subversion 0) configuration:
Commit id: 5fc389563644287b3e5f448616ce62dd0ce4e7a6
Platform:
osname=linux
osvers=3.16.0-4-amd64
archname=x86_64-linux-thread-multi
uname='linux digitalis 3.16.0-4-amd64 #1 smp debian 3.16.36-1+deb8u2 (2016-10-19) x86_64 gnulinux '
config_args='-Dusedevel -DDEBUGGING -Dusethreads -Dprefix=/home/cpan3/install -Uversiononly -des'
hint=recommended
useposix=true
d_sigaction=define
useithreads=define
usemultiplicity=define
use64bitint=define
use64bitall=define
uselongdouble=undef
usemymalloc=n
default_inc_excludes_dot=define
bincompat5005=undef
Compiler:
cc='cc'
ccflags ='-D_REENTRANT -D_GNU_SOURCE -fwrapv -DDEBUGGING -fno-strict-aliasing -pipe -fstack-protector-strong -I/usr/local/include -D_LARGEFILE_SOURCE -D_FILE_OFFSET_BITS=64 -D_FORTIFY_SOURCE=2'
optimize='-O2 -g'
cppflags='-D_REENTRANT -D_GNU_SOURCE -fwrapv -DDEBUGGING -fno-strict-aliasing -pipe -fstack-protector-strong -I/usr/local/include'
ccversion=''
gccversion='4.9.2'
gccosandvers=''
intsize=4
longsize=8
ptrsize=8
doublesize=8
byteorder=12345678
doublekind=3
d_longlong=define
longlongsize=8
d_longdbl=define
longdblsize=16
longdblkind=3
ivtype='long'
ivsize=8
nvtype='double'
nvsize=8
Off_t='off_t'
lseeksize=8
alignbytes=8
prototype=define
Linker and Libraries:
ld='cc'
ldflags =' -fstack-protector-strong -L/usr/local/lib'
libpth=/usr/local/lib /usr/lib/gcc/x86_64-linux-gnu/4.9/include-fixed /usr/include/x86_64-linux-gnu /usr/lib /lib/x86_64-linux-gnu /lib/../lib /usr/lib/x86_64-linux-gnu /usr/lib/../lib /lib /lib64 /usr/lib64
libs=-lpthread -lnsl -ldl -lm -lcrypt -lutil -lc
perllibs=-lpthread -lnsl -ldl -lm -lcrypt -lutil -lc
libc=libc-2.19.so
so=so
useshrplib=false
libperl=libperl.a
gnulibc_version='2.19'
Dynamic Linking:
dlsrc=dl_dlopen.xs
dlext=so
d_dlsymun=undef
ccdlflags='-Wl,-E'
cccdlflags='-fPIC'
lddlflags='-shared -O2 -g -L/usr/local/lib -fstack-protector-strong'
Characteristics of this binary (from libperl):
Compile-time options:
DEBUGGING
HAS_TIMES
MULTIPLICITY
PERLIO_LAYERS
PERL_COPY_ON_WRITE
PERL_DONT_CREATE_GVSV
PERL_IMPLICIT_CONTEXT
PERL_MALLOC_WRAP
PERL_OP_PARENT
PERL_PRESERVE_IVUV
PERL_TRACK_MEMPOOL
PERL_USE_DEVEL
USE_64_BIT_ALL
USE_64_BIT_INT
USE_ITHREADS
USE_LARGE_FILES
USE_LOCALE
USE_LOCALE_COLLATE
USE_LOCALE_CTYPE
USE_LOCALE_NUMERIC
USE_LOCALE_TIME
USE_PERLIO
USE_PERL_ATOF
USE_REENTRANT_API
Built under linux
Compiled at Apr 4 2017 17:17:54
%ENV:
PERL5LIB=""
PERL5OPT=""
PERL5_CPANPLUS_IS_RUNNING="15932"
PERL5_CPAN_IS_RUNNING="15932"
PERL5_CPAN_IS_RUNNING_IN_RECURSION="23928,15932"
PERL_CR_SMOKER_CURRENT="OAuth-Consumer-0.03"
PERL_CR_SMOKER_RUNONCE="1"
PERL_EXTUTILS_AUTOINSTALL="--defaultdeps"
PERL_MM_USE_DEFAULT="1"
@INC:
/home/cpan3/install/lib/perl5/site_perl/5.26.0/x86_64-linux-thread-multi
/home/cpan3/install/lib/perl5/site_perl/5.26.0
/home/cpan3/install/lib/perl5/5.26.0/x86_64-linux-thread-multi
/home/cpan3/install/lib/perl5/5.26.0