Back
From: metabase:user:31dd1d2e-2aae-11df-837a-5e0a49663a4f
Subject: PASS Dist-Zilla-Plugin-CheckBin-0.007 v5.16.3
Date: 2015-02-19T23:26:59Z
This distribution has been tested as part of the CPAN Testers
project, supporting the Perl programming language. See
http://wiki.cpantesters.org/ for more information or email
questions to cpan-testers-discuss@perl.org
--
Dear Karen Etheridge,
This is a computer-generated report for Dist-Zilla-Plugin-CheckBin-0.007
on perl 5.16.3, created by CPAN-Reporter-1.2011.
Thank you for uploading your work to CPAN. Congratulations!
All tests were successful.
Sections of this report:
* Tester comments
* Program output
* Prerequisites
* Environment and other context
------------------------------
TESTER COMMENTS
------------------------------
Additional comments from tester:
none provided
------------------------------
PROGRAM OUTPUT
------------------------------
Output from 'C:\Perl\site\bin\dmake.exe test':
"C:\Perl\bin\perl.exe" "-MExtUtils::Command::MM" "-MTest::Harness" "-e" "undef *Test::Harness::Switches; test_harness(0, 'blib\lib', 'blib\arch')" t/*.t
#
# Versions for all modules listed in MYMETA.json (including optional ones):
#
# === Configure Requires ===
#
# Module Want Have
# ------------------- ---- ----
# ExtUtils::MakeMaker any 7.04
#
# === Build Requires ===
#
# Module Want Have
# ------------------- ---- ----
# ExtUtils::MakeMaker any 7.04
#
# === Test Requires ===
#
# Module Want Have
# ------------------- ---- --------
# ExtUtils::MakeMaker any 7.04
# File::Spec any 3.40
# Path::Tiny any 0.061
# Test::DZil any 5.031
# Test::Deep any 0.115
# Test::Fatal any 0.014
# Test::More any 1.001014
# Test::Requires any 0.08
# if any 0.0602
#
# === Test Recommends ===
#
# Module Want Have
# ---------- -------- --------
# CPAN::Meta 2.120900 2.143240
#
# === Runtime Requires ===
#
# Module Want Have
# ---------------------------------- -------- ------
# Devel::CheckBin any 0.02
# Dist::Zilla::Plugin::MetaResources 4.300039 5.031
# Dist::Zilla::Role::FileMunger any 5.031
# Dist::Zilla::Role::InstallTool any 5.031
# Dist::Zilla::Role::PrereqSource any 5.031
# Moose any 2.1205
# Scalar::Util any 1.39
# namespace::autoclean any 0.15
# strict any 1.07
# warnings any 1.13
#
# === Other Modules ===
#
# Module Want Have
# ---------------------------------------------- ---- --------
# CPAN::Meta::Validator any 2.143240
# Dist::Zilla::Plugin::MakeMaker any 5.031
# Dist::Zilla::Plugin::MakeMaker::Awesome any 0.33
# Dist::Zilla::Plugin::MakeMaker::Fallback any missing
# Dist::Zilla::Plugin::ModuleBuildTiny any missing
# Dist::Zilla::Plugin::ModuleBuildTiny::Fallback any missing
# ExtUtils::MakeMaker any 7.04
# Module::Build any 0.4205
# Module::Build::Tiny any 0.039
#
t/00-report-prereqs.t ............ ok
t/01-basic.t ..................... ok
t/02-module-build.t .............. ok
t/03-module-build-tiny.t ......... skipped: Test requires module 'Dist::Zilla::Plugin::ModuleBuildTiny' but it's not found
t/04-makemaker-awesome.t ......... ok
t/05-makemaker-fallback.t ........ skipped: Test requires module 'Dist::Zilla::Plugin::MakeMaker::Fallback' but it's not found
t/06-modulebuildtiny-fallback.t .. skipped: Test requires module 'Dist::Zilla::Plugin::ModuleBuildTiny::Fallback' but it's not found
All tests successful.
Files=7, Tests=16, 8 wallclock secs ( 0.06 usr + 0.03 sys = 0.09 CPU)
Result: PASS
------------------------------
PREREQUISITES
------------------------------
Prerequisite modules loaded:
requires:
Module Need Have
---------------------------------- -------- --------
Devel::CheckBin 0 0.02
Dist::Zilla::Plugin::MetaResources 4.300039 5.031
Dist::Zilla::Role::FileMunger 0 5.031
Dist::Zilla::Role::InstallTool 0 5.031
Dist::Zilla::Role::PrereqSource 0 5.031
Moose 0 2.1205
namespace::autoclean 0 0.15
perl 5.009005 5.016003
Scalar::Util 0 1.39
strict 0 1.07
warnings 0 1.13
build_requires:
Module Need Have
---------------------------------- -------- --------
ExtUtils::MakeMaker 0 7.04
File::Spec 0 3.40
if 0 0.0602
Path::Tiny 0 0.061
Test::Deep 0 0.115
Test::DZil 0 5.031
Test::Fatal 0 0.014
Test::More 0 1.001014
Test::Requires 0 0.08
configure_requires:
Module Need Have
---------------------------------- -------- --------
ExtUtils::MakeMaker 0 7.04
perl 5.006 5.016003
------------------------------
ENVIRONMENT AND OTHER CONTEXT
------------------------------
Environment variables:
ACTIVEPERL_CONFIG_SILENT = 1
COMSPEC = C:\Windows\system32\cmd.exe
LANG = en_US.utf8
NUMBER_OF_PROCESSORS = 8
PATH = C:\ProgramData\Oracle\Java\javapath;C:\Program Files (x86)\ImageMagick-6.8.9-Q16;C:\Program Files (x86)\ActiveState Komodo IDE 7\;C:\Program Files\Common Files\Microsoft Shared\Windows Live;C:\Perl\site\bin;C:\Perl\bin;C:\Windows\system32;C:\Windows;C:\Windows\System32\Wbem;C:\Program Files\ThinkPad\Bluetooth Software\;C:\Program Files\ThinkPad\Bluetooth Software\syswow64;C:\SWTOOLS\ReadyApps;c:\Program Files (x86)\PuTTY\;c:\cygwin\bin\;C:\Program Files (x86)\GtkSharp\2.12\bin;d:\j\MeCab\bin\;C:\Program Files (x86)\GNU\GnuPG\pub;C:\Windows\System32\WindowsPowerShell\v1.0\;C:\Program Files\Mercurial;c:\Program Files (x86)\Java\jre7\bin;C:\Program Files (x86)\Intel\Services\IPT\;C:\Program Files (x86)\nodejs\;C:\Program Files\TortoiseSVN\bin;C:\Program Files\Btcd Suite\Btcd\;C:\Program Files\OpenVPN\bin;c:\Program Files (x86)\CMake\bin\;C:\Program Files (x86)\QuickTime\QTSystem\;C:\Program Files\TortoiseGit\bin;C:\Program Files (x86)\Git\cmd;C:\KFFirstAide;C:\Users\Mithaldu\AppData\Roaming\npm;c:\Program Files (x86)\ImageMagick-6.8.9-Q16\;d:\android\android-ndk-r10d\
PERL5LIB = C:\Perl\cpan\build\DBIx-Class-0.082810-ujL3An/blib/arch;C:\Perl\cpan\build\DBIx-Class-0.082810-ujL3An/blib/lib
PERL5OPT =
PERL5_CPANPLUS_IS_RUNNING = 32304
PERL5_CPAN_IS_RUNNING = 32304
PERL_STRICTURES_EXTRA = 1
PROCESSOR_IDENTIFIER = Intel64 Family 6 Model 42 Stepping 7, GenuineIntel
TEMP = C:\Users\Mithaldu\AppData\Local\Temp
Perl special variables (and OS-specific diagnostics, for MSWin32):
$^X = C:\Perl\bin\perl.exe
$UID/$EUID = 0 / 0
$GID = 0
$EGID = 0
Win32::GetOSName = Win7
Win32::GetOSVersion = Service Pack 1, 6, 1, 7601, 2, 1, 0, 256, 1
Win32::FsType = NTFS
Win32::IsAdminUser = 0
Perl module toolchain versions installed:
Module Have
------------------- --------
CPAN 2.05
CPAN::Meta 2.143240
Cwd 3.40
ExtUtils::CBuilder 0.280216
ExtUtils::Command 1.18
ExtUtils::Install 2.04
ExtUtils::MakeMaker 7.04
ExtUtils::Manifest 1.70
ExtUtils::ParseXS 3.24
File::Spec 3.40
JSON 2.90
JSON::PP 2.27203
Module::Build 0.4205
Module::Signature n/a
Parse::CPAN::Meta 1.4414
Test::Harness 3.35
Test::More 1.001014
YAML 0.90
YAML::Syck n/a
version 0.9909
--
Summary of my perl5 (revision 5 version 16 subversion 3) configuration:
Platform:
osname=MSWin32, osvers=5.2, archname=MSWin32-x86-multi-thread
uname=''
config_args='undef'
hint=recommended, useposix=true, d_sigaction=undef
useithreads=define, usemultiplicity=define
useperlio=define, d_sfio=undef, uselargefiles=define, usesocks=undef
use64bitint=undef, use64bitall=undef, uselongdouble=undef
usemymalloc=n, bincompat5005=undef
Compiler:
cc='C:\Perl\site\bin\gcc.exe', ccflags ='-DNDEBUG -DWIN32 -D_CONSOLE -DNO_STRICT -DPERL_TEXTMODE_SCRIPTS -DUSE_SITECUSTOMIZE -DPERL_IMPLICIT_CONTEXT -DPERL_IMPLICIT_SYS -DUSE_PERLIO -D_USE_32BIT_TIME_T -DHASATTRIBUTE -fno-strict-aliasing -mms-bitfields',
optimize='-O2',
cppflags='-DWIN32'
ccversion='', gccversion='3.4.5 (mingw-vista special r3)', gccosandvers=''
intsize=4, longsize=4, ptrsize=4, doublesize=8, byteorder=1234
d_longlong=undef, longlongsize=8, d_longdbl=define, longdblsize=8
ivtype='long', ivsize=4, nvtype='double', nvsize=8, Off_t='__int64', lseeksize=8
alignbytes=8, prototype=define
Linker and Libraries:
ld='C:\Perl\site\bin\g++.exe', ldflags ='-L"C:\Perl\lib\CORE"'
libpth=\lib
libs=-lkernel32 -luser32 -lgdi32 -lwinspool -lcomdlg32 -ladvapi32 -lshell32 -lole32 -loleaut32 -lnetapi32 -luuid -lws2_32 -lmpr -lwinmm -lversion -lodbc32 -lodbccp32 -lcomctl32 -lmsvcrt
perllibs=-lkernel32 -luser32 -lgdi32 -lwinspool -lcomdlg32 -ladvapi32 -lshell32 -lole32 -loleaut32 -lnetapi32 -luuid -lws2_32 -lmpr -lwinmm -lversion -lodbc32 -lodbccp32 -lcomctl32 -lmsvcrt
libc=msvcrt.lib, so=dll, useshrplib=true, libperl=perl516.lib
gnulibc_version=''
Dynamic Linking:
dlsrc=dl_win32.xs, dlext=dll, d_dlsymun=undef, ccdlflags=' '
cccdlflags=' ', lddlflags='-mdll -L"C:\Perl\lib\CORE"'
Characteristics of this binary (from libperl):
Compile-time options: HAS_TIMES HAVE_INTERP_INTERN MULTIPLICITY
PERLIO_LAYERS PERL_DONT_CREATE_GVSV
PERL_IMPLICIT_CONTEXT PERL_IMPLICIT_SYS
PERL_MALLOC_WRAP PERL_PRESERVE_IVUV PL_OP_SLAB_ALLOC
USE_ITHREADS USE_LARGE_FILES USE_LOCALE
USE_LOCALE_COLLATE USE_LOCALE_CTYPE
USE_LOCALE_NUMERIC USE_PERLIO USE_PERL_ATOF
USE_SITECUSTOMIZE
Locally applied patches:
ActivePerl Build 1604 [298023]
Built under MSWin32
Compiled at Apr 14 2014 14:32:20
%ENV:
PERL5LIB="C:\Perl\cpan\build\DBIx-Class-0.082810-ujL3An/blib/arch;C:\Perl\cpan\build\DBIx-Class-0.082810-ujL3An/blib/lib"
PERL5_CPANPLUS_IS_RUNNING="32304"
PERL5_CPAN_IS_RUNNING="32304"
PERL_STRICTURES_EXTRA="1"
@INC:
C:\Perl\cpan\build\DBIx-Class-0.082810-ujL3An/blib/arch
C:\Perl\cpan\build\DBIx-Class-0.082810-ujL3An/blib/lib
C:/Perl/site/lib/MSWin32-x86-multi-thread
C:/Perl/site/lib
C:/Perl/lib
.