Back
From: metabase:user:314402c4-2aae-11df-837a-5e0a49663a4f
Subject: PASS Web-Query-0.37 v5.12.5 GNU/Linux
Date: 2016-07-02T16:58:33Z
This distribution has been tested as part of the CPAN Testers
project, supporting the Perl programming language. See
http://wiki.cpantesters.org/ for more information or email
questions to cpan-testers-discuss@perl.org
--
Dear Yanick Champoux,
This is a computer-generated report for Web-Query-0.37
on perl 5.12.5, created by CPAN-Reporter-1.2018.
Thank you for uploading your work to CPAN. Congratulations!
All tests were successful.
Sections of this report:
* Tester comments
* Program output
* Prerequisites
* Environment and other context
------------------------------
TESTER COMMENTS
------------------------------
Additional comments from tester:
none provided
------------------------------
PROGRAM OUTPUT
------------------------------
Output from '/usr/bin/make test':
PERL_DL_NONLAZY=1 "/bbbike/perl-5.12.5/bin/perl5.12.5" "-MExtUtils::Command::MM" "-MTest::Harness" "-e" "undef *Test::Harness::Switches; test_harness(0, 'blib/lib', 'blib/arch')" t/*.t
t/00-compile.t ...................... ok
#
# Versions for all modules listed in MYMETA.json (including optional ones):
#
# === Configure Requires ===
#
# Module Want Have
# ------------------- ---- ----
# ExtUtils::MakeMaker any 7.16
#
# === Build Requires ===
#
# Module Want Have
# ------------------- ---- ----
# ExtUtils::MakeMaker any 7.16
#
# === Test Requires ===
#
# Module Want Have
# ------------------- ---- --------
# Cwd any 3.62
# ExtUtils::MakeMaker any 7.16
# File::Spec any 3.62
# FindBin any 1.50
# IO::Handle any 1.28
# IPC::Open3 any 1.05
# Test::Exception any 0.43
# Test::More any 1.302033
# lib any 0.62
# utf8 any 1.08
#
# === Test Recommends ===
#
# Module Want Have
# ---------- -------- --------
# CPAN::Meta 2.120900 2.143240
#
# === Runtime Requires ===
#
# Module Want Have
# ------------------------- ---- -----
# Exporter any 5.72
# HTML::Entities any 3.69
# HTML::Selector::XPath 0.06 0.20
# HTML::TreeBuilder::LibXML any 0.25
# HTML::TreeBuilder::XPath any 0.14
# LWP::UserAgent any 6.15
# List::Util 1.44 1.45
# Scalar::Util any 1.45
# parent any 0.234
# strict any 1.04
# warnings any 1.09
#
t/00-report-prereqs.t ............... ok
t/00_compile.t ...................... ok
# testing Web::Query
# testing Web::Query::LibXML
t/01_src.t .......................... ok
# testing Web::Query
# testing Web::Query::LibXML
t/02_op.t ........................... ok
# testing Web::Query
# testing Web::Query::LibXML
t/03_traverse.t ..................... ok
# testing Web::Query
# testing Web::Query::LibXML
t/04_element.t ...................... ok
# testing Web::Query
# testing Web::Query::LibXML
t/05_html5.t ........................ ok
t/06_new_from_url_error_handling.t .. ok
# testing Web::Query
# testing Web::Query::LibXML
t/07_remove.t ....................... ok
t/08_indent.t ....................... ok
# testing Web::Query
# testing Web::Query::LibXML
t/09_as_html.t ...................... ok
t/10_subclass.t ..................... ok
# testing Web::Query
# testing Web::Query::LibXML
t/11_get_eq.t ....................... ok
# testing Web::Query
# testing Web::Query::LibXML
t/add.t ............................. ok
# testing Web::Query
# testing Web::Query::LibXML
t/after.t ........................... ok
# testing Web::Query
# testing Web::Query::LibXML
t/append.t .......................... ok
# testing Web::Query
# testing Web::Query::LibXML
t/attr.t ............................ ok
t/bad-url-with-options.t ............ ok
# testing Web::Query
# testing Web::Query::LibXML
t/before.t .......................... ok
t/bug-text-contents.t ............... ok
t/class.t ........................... ok
# testing Web::Query
# testing Web::Query::LibXML
t/clone.t ........................... ok
# testing Web::Query
# testing Web::Query::LibXML
t/contents.t ........................ ok
# testing Web::Query
# testing Web::Query::LibXML
t/detach.t .......................... ok
t/filter.t .......................... ok
# testing Web::Query
# testing Web::Query::LibXML
t/find.t ............................ ok
# testing Web::Query
# testing Web::Query::LibXML
t/has_class.t ....................... ok
# testing Web::Query
# testing Web::Query::LibXML
t/insert_after.t .................... ok
# testing Web::Query
# testing Web::Query::LibXML
t/insert_before.t ................... ok
t/match_and_not.t ................... ok
t/new.t ............................. ok
# testing Web::Query
# testing Web::Query::LibXML
t/next.t ............................ ok
# testing Web::Query
# testing Web::Query::LibXML
t/next_until.t ...................... ok
t/no_space_compacting.t ............. ok
t/node-types.t ...................... ok
# testing Web::Query
# testing Web::Query::LibXML
t/prepend.t ......................... ok
# testing Web::Query
# testing Web::Query::LibXML
t/prev.t ............................ ok
t/processing-instructions.t ......... ok
t/remove.t .......................... ok
# testing Web::Query
# testing Web::Query::LibXML
t/remove_class.t .................... ok
t/replace_with.t .................... ok
t/special-attributes.t .............. ok
t/split.t ........................... ok
# testing Web::Query
# testing Web::Query::LibXML
t/store_comments.t .................. ok
t/tagname.t ......................... ok
t/xpath.t ........................... ok
All tests successful.
Files=47, Tests=207, 5 wallclock secs ( 0.12 usr 0.17 sys + 3.48 cusr 0.74 csys = 4.51 CPU)
Result: PASS
------------------------------
PREREQUISITES
------------------------------
Prerequisite modules loaded:
requires:
Module Need Have
------------------------- -------- --------
Exporter 0 5.72
HTML::Entities 0 3.69
HTML::Selector::XPath 0.06 0.20
HTML::TreeBuilder::LibXML 0 0.25
HTML::TreeBuilder::XPath 0 0.14
List::Util 1.44 1.45
LWP::UserAgent 0 6.15
parent 0 0.234
perl 5.008005 5.012005
Scalar::Util 0 1.45
strict 0 1.04
warnings 0 1.09
build_requires:
Module Need Have
------------------------- -------- --------
Cwd 0 3.62
ExtUtils::MakeMaker 0 7.16
File::Spec 0 3.62
FindBin 0 1.50
IO::Handle 0 1.28
IPC::Open3 0 1.05
lib 0 0.62
Test::Exception 0 0.43
Test::More 0 1.302033
utf8 0 1.08
configure_requires:
Module Need Have
------------------------- -------- --------
ExtUtils::MakeMaker 0 7.16
opt_build_requires:
Module Need Have
------------------------- -------- --------
CPAN::Meta 2.120900 2.143240
------------------------------
ENVIRONMENT AND OTHER CONTEXT
------------------------------
Environment variables:
LANG = C
LC_ALL = de_DE.UTF-8
PATH = /usr/local/bin:/usr/bin:/bin:/usr/local/sbin:/usr/sbin:/sbin:/home/cpansand/bin/linux-gnu:/home/cpansand/bin/sh:/home/cpansand/bin:/usr/games:/home/cpansand/devel:/home/eserte/src/srezic-misc/scripts
PERL5LIB =
PERL5OPT =
PERL5_CPANPLUS_IS_RUNNING = 20356
PERL5_CPAN_IS_RUNNING = 20356
PERL5_CPAN_IS_RUNNING_IN_RECURSION = 20270,20356
PERLDOC = -MPod::Perldoc::ToTextOverstrike
PERL_BATCH = yes
PERL_CANARY_STABILITY_NOPROMPT = 1
PERL_CPAN_REPORTER_CONFIG = /run/user/1023/cpansmoker/2016070215/cpanreporter_000_config.ini
PERL_EXTUTILS_AUTOINSTALL = --defaultdeps
PERL_PARALLEL_SMOKER = yes
SHELL = /bin/zsh
TERM = screen
TMPDIR = /run/user/1023/cpansmoker/2016070215
Perl special variables (and OS-specific diagnostics, for MSWin32):
$^X = /bbbike/perl-5.12.5/bin/perl5.12.5
$UID/$EUID = 1023 / 1023
$GID = 1023 1023
$EGID = 1023 1023
Perl module toolchain versions installed:
Module Have
------------------- --------
CPAN 2.14
CPAN::Meta 2.143240
Cwd 3.62
ExtUtils::CBuilder 0.280224
ExtUtils::Command 7.16
ExtUtils::Install 1.55
ExtUtils::MakeMaker 7.16
ExtUtils::Manifest 1.70
ExtUtils::ParseXS 3.30
File::Spec 3.62
JSON 2.90
JSON::PP 2.27400
Module::Build 0.4218
Module::Signature 0.80
Parse::CPAN::Meta 1.4414
Test::Harness 3.36
Test::More 1.302033
YAML 1.15
YAML::Syck 1.29
version 0.9916
--
Summary of my perl5 (revision 5 version 12 subversion 5) configuration:
Platform:
osname=linux, osvers=3.16.0-4-amd64, archname=x86_64-linux
uname='linux eserte 3.16.0-4-amd64 #1 smp debian 3.16.7-ckt25-2 (2016-04-08) x86_64 gnulinux '
config_args='-ds -e -Dprefix=/opt/perl-5.12.5 -Dcf_email=srezic@cpan.org'
hint=recommended, useposix=true, d_sigaction=define
useithreads=undef, usemultiplicity=undef
useperlio=define, d_sfio=undef, uselargefiles=define, usesocks=undef
use64bitint=define, use64bitall=define, uselongdouble=undef
usemymalloc=n, bincompat5005=undef
Compiler:
cc='cc', ccflags ='-fno-strict-aliasing -pipe -fstack-protector -I/usr/local/include -D_LARGEFILE_SOURCE -D_FILE_OFFSET_BITS=64',
optimize='-O2',
cppflags='-fno-strict-aliasing -pipe -fstack-protector -I/usr/local/include'
ccversion='', gccversion='4.9.2', gccosandvers=''
intsize=4, longsize=8, ptrsize=8, doublesize=8, byteorder=12345678
d_longlong=define, longlongsize=8, d_longdbl=define, longdblsize=16
ivtype='long', ivsize=8, nvtype='double', nvsize=8, Off_t='off_t', lseeksize=8
alignbytes=8, prototype=define
Linker and Libraries:
ld='cc', ldflags =' -fstack-protector -L/usr/local/lib'
libpth=/usr/local/lib /lib/x86_64-linux-gnu /lib/../lib /usr/lib/x86_64-linux-gnu /usr/lib/../lib /lib /usr/lib
libs=-lnsl -lgdbm -ldb -ldl -lm -lcrypt -lutil -lc -lgdbm_compat
perllibs=-lnsl -ldl -lm -lcrypt -lutil -lc
libc=libc-2.19.so, so=so, useshrplib=false, libperl=libperl.a
gnulibc_version='2.19'
Dynamic Linking:
dlsrc=dl_dlopen.xs, dlext=so, d_dlsymun=undef, ccdlflags='-Wl,-E'
cccdlflags='-fPIC', lddlflags='-shared -O2 -L/usr/local/lib -fstack-protector'
Characteristics of this binary (from libperl):
Compile-time options: PERL_DONT_CREATE_GVSV PERL_MALLOC_WRAP USE_64_BIT_ALL
USE_64_BIT_INT USE_LARGE_FILES USE_PERLIO
USE_PERL_ATOF
Locally applied patches:
Devel::PatchPerl 1.42
Built under linux
Compiled at May 7 2016 10:05:30
%ENV:
PERL5LIB=""
PERL5OPT=""
PERL5_CPANPLUS_IS_RUNNING="20356"
PERL5_CPAN_IS_RUNNING="20356"
PERL5_CPAN_IS_RUNNING_IN_RECURSION="20270,20356"
PERLDOC="-MPod::Perldoc::ToTextOverstrike"
PERL_BATCH="yes"
PERL_CANARY_STABILITY_NOPROMPT="1"
PERL_CPAN_REPORTER_CONFIG="/run/user/1023/cpansmoker/2016070215/cpanreporter_000_config.ini"
PERL_EXTUTILS_AUTOINSTALL="--defaultdeps"
PERL_PARALLEL_SMOKER="yes"
@INC:
/opt/perl-5.12.5/lib/site_perl/5.12.5/x86_64-linux
/opt/perl-5.12.5/lib/site_perl/5.12.5
/opt/perl-5.12.5/lib/5.12.5/x86_64-linux
/opt/perl-5.12.5/lib/5.12.5
.