CPAN-Index-API v0.008 Perl 5 v5.22.0 amd64-freebsd

Status
Pass
From
Slaven Rezić (SREZIC)
Dist
CPAN-Index-API v0.008
Platform
Perl 5 v5.22.0 amd64-freebsd
Date
2019-04-18 07:25:58
ID
35ed34ce-61ab-11e9-9f52-13521f24ea8f
This distribution has been tested as part of the CPAN Testers
project, supporting the Perl programming language.  See
http://wiki.cpantesters.org/ for more information or email
questions to cpan-testers-discuss@perl.org


--
Dear Chase Whitener,

This is a computer-generated report for CPAN-Index-API-0.008
on perl 5.22.0, created by CPAN-Reporter-1.2018.

Thank you for uploading your work to CPAN.  Congratulations!
All tests were successful.

Sections of this report:

    * Tester comments
    * Program output
    * Prerequisites
    * Environment and other context

------------------------------
TESTER COMMENTS
------------------------------

Additional comments from tester:

none provided

------------------------------
PROGRAM OUTPUT
------------------------------

Output from '/usr/bin/make test':

PERL_DL_NONLAZY=1 "/usr/perl5.22.0p/bin/perl" "-MExtUtils::Command::MM" "-MTest::Harness" "-e" "undef *Test::Harness::Switches; test_harness(0, 'blib/lib', 'blib/arch')" t/*.t
# 
# Versions for all modules listed in MYMETA.json (including optional ones):
# 
# === Configure Requires ===
# 
#     Module              Want Have
#     ------------------- ---- ----
#     ExtUtils::MakeMaker  any 7.34
# 
# === Build Requires ===
# 
#     Module              Want Have
#     ------------------- ---- ----
#     ExtUtils::MakeMaker  any 7.34
# 
# === Test Requires ===
# 
#     Module              Want     Have
#     ------------------- ---- --------
#     Compress::Zlib       any    2.086
#     ExtUtils::MakeMaker  any     7.34
#     File::Spec           any     3.75
#     File::Temp           any   0.2308
#     Path::Tiny           any    0.108
#     Test::More          0.88 1.302162
#     Test::Most           any     0.35
#     Test::XML            any     0.08
#     strict               any     1.09
#     warnings             any     1.32
# 
# === Test Recommends ===
# 
#     Module         Want     Have
#     ---------- -------- --------
#     CPAN::Meta 2.120900 2.150010
# 
# === Runtime Requires ===
# 
#     Module                       Want   Have
#     ---------------------------- ---- ------
#     Carp                          any   1.50
#     Class::Load                   any   0.23
#     Compress::Zlib                any  2.086
#     File::Basename                any   2.85
#     File::Temp                    any 0.2308
#     LWP::Simple                   any   6.37
#     List::Util                    any   1.50
#     Moose                         any 2.2011
#     Moose::Role                   any 2.2011
#     Moose::Util::TypeConstraints  any 2.2011
#     MooseX::ClassAttribute        any   0.29
#     Path::Class                   any   0.37
#     Path::Tiny                    any  0.108
#     Scalar::Util                  any   1.50
#     Symbol                        any   1.07
#     Text::Template                any   1.55
#     URI                           any   1.76
#     URI::file                     any   4.21
#     XML::Twig                     any   3.52
#     base                          any   2.22
#     namespace::autoclean          any   0.28
#     strict                        any   1.09
#     warnings                      any   1.32
# 
t/00-report-prereqs.t .. ok
t/01-packages.t ........ ok
t/02-modules.t ......... ok
t/03-authors.t ......... ok
t/04-whois.t ........... ok
All tests successful.
Files=5, Tests=70,  2 wallclock secs ( 0.00 usr  0.05 sys +  0.34 cusr  1.30 csys =  1.68 CPU)
Result: PASS

------------------------------
PREREQUISITES
------------------------------

Prerequisite modules loaded:

requires:

    Module                       Need Have    
    ---------------------------- ---- --------
    base                         0    2.22    
    Carp                         0    1.50    
    Class::Load                  0    0.23    
    Compress::Zlib               0    2.086   
    File::Basename               0    2.85    
    File::Temp                   0    0.2308  
    List::Util                   0    1.50    
    LWP::Simple                  0    6.37    
    Moose                        0    2.2011  
    Moose::Role                  0    2.2011  
    Moose::Util::TypeConstraints 0    2.2011  
    MooseX::ClassAttribute       0    0.29    
    namespace::autoclean         0    0.28    
    Path::Class                  0    0.37    
    Path::Tiny                   0    0.108   
    Scalar::Util                 0    1.50    
    strict                       0    1.09    
    Symbol                       0    1.07    
    Text::Template               0    1.55    
    URI                          0    1.76    
    URI::file                    0    4.21    
    warnings                     0    1.32    
    XML::Twig                    0    3.52    

build_requires:

    Module                       Need Have    
    ---------------------------- ---- --------
    Compress::Zlib               0    2.086   
    ExtUtils::MakeMaker          0    7.34    
    File::Spec                   0    3.75    
    File::Temp                   0    0.2308  
    Path::Tiny                   0    0.108   
    strict                       0    1.09    
    Test::More                   0.88 1.302162
    Test::Most                   0    0.35    
    Test::XML                    0    0.08    
    warnings                     0    1.32    

configure_requires:

    Module                       Need Have    
    ---------------------------- ---- --------
    ExtUtils::MakeMaker          0    7.34    


------------------------------
ENVIRONMENT AND OTHER CONTEXT
------------------------------

Environment variables:

    LC_ALL = de_DE.ISO8859-1
    PATH = /usr/local/bin:/usr/bin:/bin:/usr/local/sbin:/usr/sbin:/sbin:/home/cpansand/bin/freebsd10.3:/home/cpansand/bin/sh:/home/cpansand/bin:/usr/games:/home/cpansand/devel:/home/eserte/src/srezic-misc/scripts
    PERL5LIB = 
    PERL5OPT = 
    PERL5_CPANPLUS_IS_RUNNING = 15929
    PERL5_CPAN_IS_RUNNING = 15929
    PERL5_CPAN_IS_RUNNING_IN_RECURSION = 77973,15929
    PERLDOC = -MPod::Perldoc::ToTextOverstrike
    PERL_BATCH = yes
    PERL_CANARY_STABILITY_NOPROMPT = 1
    PERL_CPAN_REPORTER_CONFIG = /var/tmp/cpansmoker-1023/2019041417/cpanreporter_001_config.ini
    PERL_EXTUTILS_AUTOINSTALL = --defaultdeps
    SHELL = /usr/local/bin/zsh
    TERM = screen
    TMPDIR = /var/tmp/cpansmoker-1023/2019041417

Perl special variables (and OS-specific diagnostics, for MSWin32):

    $^X = /usr/perl5.22.0p/bin/perl
    $UID/$EUID = 1023 / 1023
    $GID = 1023 1023
    $EGID = 1023 1023

Perl module toolchain versions installed:

    Module              Have    
    ------------------- --------
    CPAN                2.16    
    CPAN::Meta          2.150010
    Cwd                 3.75    
    ExtUtils::CBuilder  0.280231
    ExtUtils::Command   7.34    
    ExtUtils::Install   2.14    
    ExtUtils::MakeMaker 7.34    
    ExtUtils::Manifest  1.70    
    ExtUtils::ParseXS   3.35    
    File::Spec          3.75    
    JSON                2.97001 
    JSON::PP            2.97001 
    Module::Build       0.4224  
    Module::Signature   0.83    
    Parse::CPAN::Meta   2.150010
    Test::Harness       3.42    
    Test::More          1.302162
    YAML                1.27    
    YAML::Syck          1.30    
    version             0.9924  


--

Summary of my perl5 (revision 5 version 22 subversion 0) configuration:
   
  Platform:
    osname=freebsd, osvers=10.1-release, archname=amd64-freebsd
    uname='freebsd cvrsnica-freebsd-101.herceg.de 10.1-release freebsd 10.1-release #0 r274401: tue nov 11 21:02:49 utc 2014 root@releng1.nyi.freebsd.org:usrobjusrsrcsysgeneric amd64 '
    config_args='-ds -e -Dprefix=/usr/perl5.22.0p -Dcf_email=srezic@cpan.org'
    hint=recommended, useposix=true, d_sigaction=define
    useithreads=undef, usemultiplicity=undef
    use64bitint=define, use64bitall=define, uselongdouble=undef
    usemymalloc=n, bincompat5005=undef
  Compiler:
    cc='cc', ccflags ='-DHAS_FPSETMASK -DHAS_FLOATINGPOINT_H -fno-strict-aliasing -pipe -fstack-protector -I/usr/local/include -D_FORTIFY_SOURCE=2',
    optimize='-O',
    cppflags='-DHAS_FPSETMASK -DHAS_FLOATINGPOINT_H -fno-strict-aliasing -pipe -fstack-protector -I/usr/local/include'
    ccversion='', gccversion='4.2.1 Compatible FreeBSD Clang 3.4.1 (tags/RELEASE_34/dot1-final 208032)', gccosandvers=''
    intsize=4, longsize=8, ptrsize=8, doublesize=8, byteorder=12345678, doublekind=3
    d_longlong=define, longlongsize=8, d_longdbl=define, longdblsize=16, longdblkind=3
    ivtype='long', ivsize=8, nvtype='double', nvsize=8, Off_t='off_t', lseeksize=8
    alignbytes=8, prototype=define
  Linker and Libraries:
    ld='cc', ldflags ='-pthread -Wl,-E  -fstack-protector -L/usr/local/lib'
    libpth=/usr/lib /usr/local/lib /usr/include/clang/3.4.1 /usr/lib
    libs=-lpthread -lgdbm -lm -lcrypt -lutil -lc
    perllibs=-lpthread -lm -lcrypt -lutil -lc
    libc=, so=so, useshrplib=false, libperl=libperl.a
    gnulibc_version=''
  Dynamic Linking:
    dlsrc=dl_dlopen.xs, dlext=so, d_dlsymun=undef, ccdlflags=' '
    cccdlflags='-DPIC -fPIC', lddlflags='-shared  -L/usr/local/lib -fstack-protector'


Characteristics of this binary (from libperl): 
  Compile-time options: HAS_TIMES PERLIO_LAYERS PERL_DONT_CREATE_GVSV
                        PERL_HASH_FUNC_ONE_AT_A_TIME_HARD PERL_MALLOC_WRAP
                        PERL_NEW_COPY_ON_WRITE PERL_PRESERVE_IVUV
                        USE_64_BIT_ALL USE_64_BIT_INT USE_LARGE_FILES
                        USE_LOCALE USE_LOCALE_COLLATE USE_LOCALE_CTYPE
                        USE_LOCALE_NUMERIC USE_LOCALE_TIME USE_PERLIO
                        USE_PERL_ATOF
  Built under freebsd
  Compiled at Jun  1 2015 20:19:01
  %ENV:
    PERL5LIB=""
    PERL5OPT=""
    PERL5_CPANPLUS_IS_RUNNING="15929"
    PERL5_CPAN_IS_RUNNING="15929"
    PERL5_CPAN_IS_RUNNING_IN_RECURSION="77973,15929"
    PERLDOC="-MPod::Perldoc::ToTextOverstrike"
    PERL_BATCH="yes"
    PERL_CANARY_STABILITY_NOPROMPT="1"
    PERL_CPAN_REPORTER_CONFIG="/var/tmp/cpansmoker-1023/2019041417/cpanreporter_001_config.ini"
    PERL_EXTUTILS_AUTOINSTALL="--defaultdeps"
  @INC:
    /usr/perl5.22.0p/lib/site_perl/5.22.0/amd64-freebsd
    /usr/perl5.22.0p/lib/site_perl/5.22.0
    /usr/perl5.22.0p/lib/5.22.0/amd64-freebsd
    /usr/perl5.22.0p/lib/5.22.0
    .