Report for MooseX-RemoteHelper-0.001021

Back
From: metabase:user:314402c4-2aae-11df-837a-5e0a49663a4f
Subject: PASS MooseX-RemoteHelper-0.001021 v5.18.2 GNU/Linux
Date: 2015-02-19T18:36:25Z

This distribution has been tested as part of the CPAN Testers
project, supporting the Perl programming language.  See
http://wiki.cpantesters.org/ for more information or email
questions to cpan-testers-discuss@perl.org


--
Dear Caleb Cushing,

This is a computer-generated report for MooseX-RemoteHelper-0.001021
on perl 5.18.2, created by CPAN-Reporter-1.2010.

Thank you for uploading your work to CPAN.  Congratulations!
All tests were successful.

Sections of this report:

    * Tester comments
    * Program output
    * Prerequisites
    * Environment and other context

------------------------------
TESTER COMMENTS
------------------------------

Additional comments from tester:

none provided

------------------------------
PROGRAM OUTPUT
------------------------------

Output from '/usr/bin/make test':

PERL_DL_NONLAZY=1 "/opt/perl-5.18.2/bin/perl5.18.2" "-MExtUtils::Command::MM" "-MTest::Harness" "-e" "undef *Test::Harness::Switches; test_harness(0, 'blib/lib', 'blib/arch')" t/*.t
t/00-compile.t .................. ok
# 
# 
# Generated by Dist::Zilla::Plugin::ReportVersions::Tiny v1.10
# perl: 5.018002 (wanted 5.008) on linux from /opt/perl-5.18.2/bin/perl5.18.2
# 
# ExtUtils::MakeMaker                           => 7.04       (want 6.30)   
# File::Spec                                    => 3.47       (want any version)
# IO::Handle                                    => 1.34       (want any version)
# IPC::Open3                                    => 1.13       (want any version)
# Moose                                         => 2.1403     (want 2)      
# Moose::Exporter                               => 2.1403     (want any version)
# Moose::Role                                   => 2.1403     (want any version)
# MooseX::Aliases                               => 0.11       (want any version)
# MooseX::Types                                 => 0.45       (want any version)
# MooseX::Types::Moose                          => 0.45       (want any version)
# MooseX::UndefTolerant                         => 0.19       (want any version)
# Safe::Isa                                     => 1.000005   (want any version)
# Test::Method                                  => 0.001002   (want any version)
# Test::Moose                                   => 2.1403     (want any version)
# Test::More                                    => 1.001014   (want 0.88)   
# Test::Requires                                => 0.08       (want any version)
# namespace::autoclean                          => 0.24       (want any version)
# strict                                        => 1.07       (want any version)
# warnings                                      => 1.18       (want any version)
# 
# Thanks for using my code.  I hope it works for you.
# If not, please try and include this output in the bug report.
# That will help me reproduce the issue and solve your problem.
# 
t/000-report-versions-tiny.t .... ok
t/apply-trait.t ................. ok
t/author-critic.t ............... skipped: these tests are for testing by the author
t/author-pod-spell.t ............ skipped: these tests are for testing by the author
t/author-test-eol.t ............. skipped: these tests are for testing by the author
t/composite-array-of-objects.t .. ok
t/composite.t ................... ok
t/false_init_arg.t .............. ok
t/immutable.t ................... ok
t/init_args.t ................... ok
t/message-part.t ................ ok
t/mx-aliases.t .................. ok
t/release-cpan-changes.t ........ skipped: these tests are for release candidate testing
t/release-dist-manifest.t ....... skipped: these tests are for release candidate testing
t/release-distmeta.t ............ skipped: these tests are for release candidate testing
t/release-meta-json.t ........... skipped: these tests are for release candidate testing
t/release-minimum-version.t ..... skipped: these tests are for release candidate testing
t/release-mojibake.t ............ skipped: these tests are for release candidate testing
t/release-pod-coverage.t ........ skipped: these tests are for release candidate testing
t/release-pod-linkcheck.t ....... skipped: these tests are for release candidate testing
t/release-pod-syntax.t .......... skipped: these tests are for release candidate testing
t/release-portability.t ......... skipped: these tests are for release candidate testing
t/release-synopsis.t ............ skipped: these tests are for release candidate testing
t/release-test-version.t ........ skipped: these tests are for release candidate testing
t/release-unused-vars.t ......... skipped: these tests are for release candidate testing
t/role.t ........................ ok
t/serializer.t .................. ok
t/types.t ....................... ok
All tests successful.
Files=29, Tests=78, 22 wallclock secs ( 0.20 usr  0.06 sys + 17.67 cusr  0.77 csys = 18.70 CPU)
Result: PASS

------------------------------
PREREQUISITES
------------------------------

Prerequisite modules loaded:

requires:

    Module                Need Have    
    --------------------- ---- --------
    Moose                 2    2.1403  
    Moose::Exporter       0    2.1403  
    Moose::Role           0    2.1403  
    MooseX::Types         0    0.45    
    MooseX::Types::Moose  0    0.45    
    MooseX::UndefTolerant 0    0.19    
    namespace::autoclean  0    0.24    
    Safe::Isa             0    1.000005
    strict                0    1.07    
    warnings              0    1.18    

build_requires:

    Module                Need Have    
    --------------------- ---- --------
    File::Spec            0    3.47    
    IO::Handle            0    1.34    
    IPC::Open3            0    1.13    
    MooseX::Aliases       0    0.11    
    Test::Method          0    0.001002
    Test::Moose           0    2.1403  
    Test::More            0.88 1.001014
    Test::Requires        0    0.08    

configure_requires:

    Module                Need Have    
    --------------------- ---- --------
    ExtUtils::MakeMaker   6.30 7.04    


------------------------------
ENVIRONMENT AND OTHER CONTEXT
------------------------------

Environment variables:

    DBIC_NO_WARN_BAD_PERL = 1
    LANG = en_US.UTF-8
    LANGUAGE = en_US:en
    PATH = /usr/local/bin:/usr/bin:/bin:/usr/local/sbin:/usr/sbin:/sbin:/home/cpansand/bin/linux-gnu:/home/cpansand/bin/sh:/home/cpansand/bin:/usr/games:/home/cpansand/devel:/home/eserte/src/srezic-misc/scripts
    PERL5LIB = 
    PERL5OPT = 
    PERL5_CPANPLUS_IS_RUNNING = 27218
    PERL5_CPAN_IS_RUNNING = 27218
    PERL5_CPAN_IS_RUNNING_IN_RECURSION = 27097,27218
    PERLDOC = -MPod::Perldoc::ToTextOverstrike
    PERL_BATCH = yes
    PERL_CPAN_REPORTER_CONFIG = /run/user/1023/cpansmoker/F4fqhm29ve_config.ini
    PERL_EXTUTILS_AUTOINSTALL = --defaultdeps
    PERL_HTML_DISPLAY_CLASS = HTML::Display::Mozilla
    SHELL = /bin/zsh
    TERM = screen
    TMPDIR = /run/user/1023/cpansmoker

Perl special variables (and OS-specific diagnostics, for MSWin32):

    $^X = /opt/perl-5.18.2/bin/perl5.18.2
    $UID/$EUID = 1023 / 1023
    $GID = 1023 1023
    $EGID = 1023 1023

Perl module toolchain versions installed:

    Module              Have    
    ------------------- --------
    CPAN                2.00    
    CPAN::Meta          2.143240
    Cwd                 3.47    
    ExtUtils::CBuilder  0.280210
    ExtUtils::Command   1.20    
    ExtUtils::Install   1.59    
    ExtUtils::MakeMaker 7.04    
    ExtUtils::Manifest  1.70    
    ExtUtils::ParseXS   3.24    
    File::Spec          3.47    
    JSON                2.90    
    JSON::PP            2.27203 
    Module::Build       0.4211  
    Module::Signature   0.73    
    Parse::CPAN::Meta   1.4414  
    Test::Harness       3.35    
    Test::More          1.001014
    YAML                1.14    
    YAML::Syck          1.29    
    version             0.9912  


--

Summary of my perl5 (revision 5 version 18 subversion 2) configuration:
   
  Platform:
    osname=linux, osvers=3.10-3-amd64, archname=x86_64-linux
    uname='linux cvrsnica-jessie 3.10-3-amd64 #1 smp debian 3.10.11-1 (2013-09-10) x86_64 gnulinux '
    config_args='-ds -e -Dprefix=/opt/perl-5.18.2'
    hint=recommended, useposix=true, d_sigaction=define
    useithreads=undef, usemultiplicity=undef
    useperlio=define, d_sfio=undef, uselargefiles=define, usesocks=undef
    use64bitint=define, use64bitall=define, uselongdouble=undef
    usemymalloc=n, bincompat5005=undef
  Compiler:
    cc='cc', ccflags ='-fno-strict-aliasing -pipe -fstack-protector -I/usr/local/include -D_LARGEFILE_SOURCE -D_FILE_OFFSET_BITS=64',
    optimize='-O2',
    cppflags='-fno-strict-aliasing -pipe -fstack-protector -I/usr/local/include'
    ccversion='', gccversion='4.8.2', gccosandvers=''
    intsize=4, longsize=8, ptrsize=8, doublesize=8, byteorder=12345678
    d_longlong=define, longlongsize=8, d_longdbl=define, longdblsize=16
    ivtype='long', ivsize=8, nvtype='double', nvsize=8, Off_t='off_t', lseeksize=8
    alignbytes=8, prototype=define
  Linker and Libraries:
    ld='cc', ldflags =' -fstack-protector -L/usr/local/lib'
    libpth=/usr/local/lib /lib/x86_64-linux-gnu /lib/../lib /usr/lib/x86_64-linux-gnu /usr/lib/../lib /lib /usr/lib
    libs=-lnsl -lgdbm -ldb -ldl -lm -lcrypt -lutil -lc -lgdbm_compat
    perllibs=-lnsl -ldl -lm -lcrypt -lutil -lc
    libc=, so=so, useshrplib=false, libperl=libperl.a
    gnulibc_version='2.17'
  Dynamic Linking:
    dlsrc=dl_dlopen.xs, dlext=so, d_dlsymun=undef, ccdlflags='-Wl,-E'
    cccdlflags='-fPIC', lddlflags='-shared -O2 -L/usr/local/lib -fstack-protector'


Characteristics of this binary (from libperl): 
  Compile-time options: HAS_TIMES PERLIO_LAYERS PERL_DONT_CREATE_GVSV
                        PERL_HASH_FUNC_ONE_AT_A_TIME_HARD PERL_MALLOC_WRAP
                        PERL_PRESERVE_IVUV PERL_SAWAMPERSAND USE_64_BIT_ALL
                        USE_64_BIT_INT USE_LARGE_FILES USE_LOCALE
                        USE_LOCALE_COLLATE USE_LOCALE_CTYPE
                        USE_LOCALE_NUMERIC USE_PERLIO USE_PERL_ATOF
  Built under linux
  Compiled at Feb 17 2014 21:05:35
  %ENV:
    PERL5LIB=""
    PERL5OPT=""
    PERL5_CPANPLUS_IS_RUNNING="27218"
    PERL5_CPAN_IS_RUNNING="27218"
    PERL5_CPAN_IS_RUNNING_IN_RECURSION="27097,27218"
    PERLDOC="-MPod::Perldoc::ToTextOverstrike"
    PERL_BATCH="yes"
    PERL_CPAN_REPORTER_CONFIG="/run/user/1023/cpansmoker/F4fqhm29ve_config.ini"
    PERL_EXTUTILS_AUTOINSTALL="--defaultdeps"
    PERL_HTML_DISPLAY_CLASS="HTML::Display::Mozilla"
  @INC:
    /opt/perl-5.18.2/lib/site_perl/5.18.2/x86_64-linux
    /opt/perl-5.18.2/lib/site_perl/5.18.2
    /opt/perl-5.18.2/lib/5.18.2/x86_64-linux
    /opt/perl-5.18.2/lib/5.18.2
    .