DateTime-Format-Strptime v1.79 Perl 5 v5.18.3 darwin-2level

Status
Pass
From
Neil Bowers
Dist
DateTime-Format-Strptime v1.79
Platform
Perl 5 v5.18.3 darwin-2level
Date
2021-08-04 15:11:14
ID
35f99ee6-f536-11eb-823c-ab066a69af30
This distribution has been tested as part of the CPAN Testers
project, supporting the Perl programming language.  See
http://wiki.cpantesters.org/ for more information or email
questions to cpan-testers-discuss@perl.org


--
Dear Dave Rolsky,

This is a computer-generated report for DateTime-Format-Strptime-1.79
on perl 5.18.3, created by CPAN-Reporter-1.2018.

Thank you for uploading your work to CPAN.  Congratulations!
All tests were successful.

Sections of this report:

    * Tester comments
    * Program output
    * Prerequisites
    * Environment and other context

------------------------------
TESTER COMMENTS
------------------------------

Additional comments from tester:

none provided

------------------------------
PROGRAM OUTPUT
------------------------------

Output from '/usr/bin/make test':

PERL_DL_NONLAZY=1 "/usr/local/perl/5183/bin/perl" "-MExtUtils::Command::MM" "-MTest::Harness" "-e" "undef *Test::Harness::Switches; test_harness(0, 'blib/lib', 'blib/arch')" t/*.t
# 
# Versions for all modules listed in MYMETA.json (including optional ones):
# 
# === Configure Requires ===
# 
#     Module              Want Have
#     ------------------- ---- ----
#     ExtUtils::MakeMaker  any 7.62
# 
# === Configure Suggests ===
# 
#     Module      Want Have
#     -------- ------- ----
#     JSON::PP 2.27300 4.06
# 
# === Build Requires ===
# 
#     Module              Want Have
#     ------------------- ---- ----
#     ExtUtils::MakeMaker  any 7.62
# 
# === Test Requires ===
# 
#     Module              Want     Have
#     ------------------- ---- --------
#     ExtUtils::MakeMaker  any     7.62
#     File::Spec           any     3.75
#     FindBin              any     1.51
#     Test::Builder        any 1.302186
#     Test::Fatal          any    0.014
#     Test::More          0.96 1.302186
#     Test::Warnings       any    0.031
#     lib                  any     0.63
#     utf8                 any     1.10
# 
# === Test Recommends ===
# 
#     Module         Want     Have
#     ---------- -------- --------
#     CPAN::Meta 2.120900 2.150005
# 
# === Runtime Requires ===
# 
#     Module                     Want  Have
#     -------------------------- ---- -----
#     Carp                        any  1.38
#     DateTime                   1.00  1.54
#     DateTime::Locale           1.30  1.32
#     DateTime::Locale::Base      any  1.32
#     DateTime::Locale::FromData  any  1.32
#     DateTime::TimeZone         2.09  2.47
#     Exporter                    any  5.74
#     Params::ValidationCompiler  any  0.30
#     Specio                     0.33  0.47
#     Specio::Declare             any  0.47
#     Specio::Exporter            any  0.47
#     Specio::Library::Builtins   any  0.47
#     Specio::Library::String     any  0.47
#     Try::Tiny                   any  0.24
#     constant                    any  1.33
#     parent                      any 0.225
#     strict                      any  1.07
#     warnings                    any  1.18
# 
t/00-report-prereqs.t .... ok
t/basic.t ................ ok
Subroutine olson_version redefined at /usr/local/perl/5183/lib/site_perl/5.18.3/DateTime/TimeZone/america/new_york.pm line 2098, <DATA> line 1.
Subroutine has_dst_changes redefined at /usr/local/perl/5183/lib/site_perl/5.18.3/DateTime/TimeZone/america/new_york.pm line 2100, <DATA> line 1.
Subroutine _max_year redefined at /usr/local/perl/5183/lib/site_perl/5.18.3/DateTime/TimeZone/america/new_york.pm line 2102, <DATA> line 1.
Subroutine _new_instance redefined at /usr/local/perl/5183/lib/site_perl/5.18.3/DateTime/TimeZone/america/new_york.pm line 2104, <DATA> line 1.
Subroutine _last_offset redefined at /usr/local/perl/5183/lib/site_perl/5.18.3/DateTime/TimeZone/america/new_york.pm line 2108, <DATA> line 1.
Subroutine _last_observance redefined at /usr/local/perl/5183/lib/site_perl/5.18.3/DateTime/TimeZone/america/new_york.pm line 2146, <DATA> line 1.
Subroutine _rules redefined at /usr/local/perl/5183/lib/site_perl/5.18.3/DateTime/TimeZone/america/new_york.pm line 2173, <DATA> line 1.
Subroutine olson_version redefined at /usr/local/perl/5183/lib/site_perl/5.18.3/DateTime/TimeZone/amERicA/new_YORK.pm line 2098, <DATA> line 1.
Subroutine has_dst_changes redefined at /usr/local/perl/5183/lib/site_perl/5.18.3/DateTime/TimeZone/amERicA/new_YORK.pm line 2100, <DATA> line 1.
Subroutine _max_year redefined at /usr/local/perl/5183/lib/site_perl/5.18.3/DateTime/TimeZone/amERicA/new_YORK.pm line 2102, <DATA> line 1.
Subroutine _new_instance redefined at /usr/local/perl/5183/lib/site_perl/5.18.3/DateTime/TimeZone/amERicA/new_YORK.pm line 2104, <DATA> line 1.
Subroutine _last_offset redefined at /usr/local/perl/5183/lib/site_perl/5.18.3/DateTime/TimeZone/amERicA/new_YORK.pm line 2108, <DATA> line 1.
Subroutine _last_observance redefined at /usr/local/perl/5183/lib/site_perl/5.18.3/DateTime/TimeZone/amERicA/new_YORK.pm line 2146, <DATA> line 1.
Subroutine _rules redefined at /usr/local/perl/5183/lib/site_perl/5.18.3/DateTime/TimeZone/amERicA/new_YORK.pm line 2173, <DATA> line 1.
t/edge.t ................. ok
t/errors.t ............... ok
t/format-datetime.t ...... ok
t/format-with-locale.t ... ok
t/generated-locale-de.t .. ok
t/generated-locale-en.t .. ok
t/generated-locale-ga.t .. ok
t/generated-locale-pt.t .. ok
t/generated-locale-zh.t .. ok
t/import.t ............... ok
t/zones.t ................ ok
All tests successful.
Files=13, Tests=143,  4 wallclock secs ( 0.14 usr  0.04 sys +  3.18 cusr  0.45 csys =  3.81 CPU)
Result: PASS

------------------------------
PREREQUISITES
------------------------------

Prerequisite modules loaded:

requires:

    Module                     Need Have    
    -------------------------- ---- --------
    Carp                       0    1.38    
    constant                   0    1.33    
    DateTime                   1.00 1.54    
    DateTime::Locale           1.30 1.32    
    DateTime::Locale::Base     0    1.32    
    DateTime::Locale::FromData 0    1.32    
    DateTime::TimeZone         2.09 2.47    
    Exporter                   0    5.74    
    Params::ValidationCompiler 0    0.30    
    parent                     0    0.225   
    Specio                     0.33 0.47    
    Specio::Declare            0    0.47    
    Specio::Exporter           0    0.47    
    Specio::Library::Builtins  0    0.47    
    Specio::Library::String    0    0.47    
    strict                     0    1.07    
    Try::Tiny                  0    0.24    
    warnings                   0    1.18    

build_requires:

    Module                     Need Have    
    -------------------------- ---- --------
    ExtUtils::MakeMaker        0    7.62    
    File::Spec                 0    3.75    
    FindBin                    0    1.51    
    lib                        0    0.63    
    Test::Builder              0    1.302186
    Test::Fatal                0    0.014   
    Test::More                 0.96 1.302186
    Test::Warnings             0    0.031   
    utf8                       0    1.10    

configure_requires:

    Module                     Need Have    
    -------------------------- ---- --------
    ExtUtils::MakeMaker        0    7.62    


------------------------------
ENVIRONMENT AND OTHER CONTEXT
------------------------------

Environment variables:

    NONINTERACTIVE_TESTING = 1
    PATH = /usr/local/apache/bin:/usr/local/bin:/opt/local/bin:/usr/local/bin:/usr/bin:/bin:/usr/sbin:/sbin:/Applications/VMware Fusion.app/Contents/Public:/usr/local/go/bin:/opt/X11/bin:/usr/local/git/bin
    PERL5LIB = 
    PERL5OPT = 
    PERL5_CPANPLUS_IS_RUNNING = 49692
    PERL5_CPAN_IS_RUNNING = 49692
    PERL_MM_USE_DEFAULT = 1
    SHELL = /bin/sh
    TERM = xterm

Perl special variables (and OS-specific diagnostics, for MSWin32):

    $^X = /usr/local/perl/5183/bin/perl
    $UID/$EUID = 0 / 0
    $GID = 0 0 1 2 3 4 5 8 9 12 20 29 61 80 701 702 33
    $EGID = 0 0 1 2 3 4 5 8 9 12 20 29 61 80 701 702 33

Perl module toolchain versions installed:

    Module              Have    
    ------------------- --------
    CPAN                2.14    
    CPAN::Meta          2.150005
    Cwd                 3.75    
    ExtUtils::CBuilder  0.280236
    ExtUtils::Command   7.62    
    ExtUtils::Install   2.06    
    ExtUtils::MakeMaker 7.62    
    ExtUtils::Manifest  1.70    
    ExtUtils::ParseXS   3.35    
    File::Spec          3.75    
    JSON                4.03    
    JSON::PP            4.06    
    Module::Build       0.4218  
    Module::Signature   n/a     
    Parse::CPAN::Meta   1.4422  
    Test::Harness       3.36    
    Test::More          1.302186
    YAML                1.18    
    YAML::Syck          n/a     
    version             0.9929  


--

Summary of my perl5 (revision 5 version 18 subversion 3) configuration:
   
  Platform:
    osname=darwin, osvers=15.6.0, archname=darwin-2level
    uname='darwin tucumcari.local 15.6.0 darwin kernel version 15.6.0: thu jun 23 18:25:34 pdt 2016; root:xnu-3248.60.10~1release_x86_64 x86_64 '
    config_args=''
    hint=recommended, useposix=true, d_sigaction=define
    useithreads=undef, usemultiplicity=undef
    useperlio=define, d_sfio=undef, uselargefiles=define, usesocks=undef
    use64bitint=define, use64bitall=define, uselongdouble=undef
    usemymalloc=n, bincompat5005=undef
  Compiler:
    cc='gcc', ccflags ='-fno-common -DPERL_DARWIN -fno-strict-aliasing -pipe -fstack-protector -I/usr/local/include -I/opt/local/include',
    optimize='-O3',
    cppflags='-fno-common -DPERL_DARWIN -fno-strict-aliasing -pipe -fstack-protector -I/usr/local/include -I/opt/local/include'
    ccversion='', gccversion='4.2.1 Compatible Apple LLVM 7.0.2 (clang-700.1.81)', gccosandvers=''
    intsize=4, longsize=8, ptrsize=8, doublesize=8, byteorder=12345678
    d_longlong=define, longlongsize=8, d_longdbl=define, longdblsize=16
    ivtype='long', ivsize=8, nvtype='double', nvsize=8, Off_t='off_t', lseeksize=8
    alignbytes=8, prototype=define
  Linker and Libraries:
    ld='env MACOSX_DEPLOYMENT_TARGET=10.3 gcc', ldflags =' -fstack-protector -L/usr/local/lib -L/opt/local/lib'
    libpth=/usr/local/lib /opt/local/lib /usr/lib
    libs=-lgdbm -ldbm -ldl -lm -lutil -lc
    perllibs=-ldl -lm -lutil -lc
    libc=, so=dylib, useshrplib=false, libperl=libperl.a
    gnulibc_version=''
  Dynamic Linking:
    dlsrc=dl_dlopen.xs, dlext=bundle, d_dlsymun=undef, ccdlflags=' '
    cccdlflags=' ', lddlflags=' -bundle -undefined dynamic_lookup -L/usr/local/lib -L/opt/local/lib -fstack-protector'


Characteristics of this binary (from libperl): 
  Compile-time options: HAS_TIMES PERLIO_LAYERS PERL_DONT_CREATE_GVSV
                        PERL_HASH_FUNC_ONE_AT_A_TIME_HARD PERL_MALLOC_WRAP
                        PERL_PRESERVE_IVUV PERL_SAWAMPERSAND USE_64_BIT_ALL
                        USE_64_BIT_INT USE_LARGE_FILES USE_LOCALE
                        USE_LOCALE_COLLATE USE_LOCALE_CTYPE
                        USE_LOCALE_NUMERIC USE_PERLIO USE_PERL_ATOF
  Built under darwin
  Compiled at Jul 22 2016 11:27:22
  %ENV:
    PERL5LIB=""
    PERL5OPT=""
    PERL5_CPANPLUS_IS_RUNNING="49692"
    PERL5_CPAN_IS_RUNNING="49692"
    PERL_MM_USE_DEFAULT="1"
  @INC:
    /usr/local/perl/5183/lib/site_perl/5.18.3/darwin-2level
    /usr/local/perl/5183/lib/site_perl/5.18.3
    /usr/local/perl/5183/lib/5.18.3/darwin-2level
    /usr/local/perl/5183/lib/5.18.3
    .