Report for Crypt-DSA-GMP-0.02

Back
From: metabase:user:3198cbe2-2aae-11df-837a-5e0a49663a4f
Subject: PASS Crypt-DSA-GMP-0.02 v5.16.3 GNU/Linux
Date: 2013-11-04T18:52:10Z

This distribution has been tested as part of the CPAN Testers
project, supporting the Perl programming language.  See
http://wiki.cpantesters.org/ for more information or email
questions to cpan-testers-discuss@perl.org


--
Dear Dana Jacobsen,

This is a computer-generated report for Crypt-DSA-GMP-0.02
on perl 5.16.3, created by CPAN-Reporter-1.2010.

Thank you for uploading your work to CPAN.  Congratulations!
All tests were successful.

Sections of this report:

    * Tester comments
    * Program output
    * Prerequisites
    * Environment and other context

------------------------------
TESTER COMMENTS
------------------------------

Additional comments from tester:

this report is from an automated smoke testing program
and was not reviewed by a human for accuracy

------------------------------
PROGRAM OUTPUT
------------------------------

Output from '/usr/bin/make test':

PERL_DL_NONLAZY=1 /home/graham/perls/perl5.16.3-thread/bin/perl "-MExtUtils::Command::MM" "-MTest::Harness" "-e" "undef *Test::Harness::Switches; test_harness(0, 'blib/lib', 'blib/arch')" t/*.t
t/01-load.t .................. ok
t/02-util.t .................. ok
t/10-sign.t .................. ok
t/11-keygen.t ................ ok
t/20-fips.t .................. ok
t/21-fips-186-4.t ............ ok
t/30-pem.t ................... skipped: Requires Convert::PEM
t/31-openid.t ................ skipped: Requires Convert::PEM
t/32-pem-large.t ............. skipped: Requires Convert::PEM
t/33-ssh2.t .................. ok
t/40-interop-openssl.t ....... skipped: tests tests are for release candidate testing
t/41-interop-cryptdsa.t ...... skipped: tests tests are for release candidate testing
t/42-interop-cryptx.t ........ skipped: tests tests are for release candidate testing
t/90-release-perlcritic.t .... skipped: these tests are for release candidate testing
t/91-release-pod-syntax.t .... skipped: these tests are for release candidate testing
t/92-release-pod-coverage.t .. skipped: these tests are for release candidate testing
t/93-release-kwalitee.t ...... skipped: these tests are for release candidate testing
t/94-release-manifest.t ...... skipped: these tests are for release candidate testing
t/95-release-spelling.t ...... skipped: these tests are for release candidate testing
All tests successful.
Files=19, Tests=96,  2 wallclock secs ( 0.09 usr  0.02 sys +  1.37 cusr  0.11 csys =  1.59 CPU)
Result: PASS

------------------------------
PREREQUISITES
------------------------------

Prerequisite modules loaded:

requires:

    Module                 Need     Have        
    ---------------------- -------- ------------
    base                   0        2.18        
    Carp                   0        1.32        
    Crypt::Random::Seed    0        0.03        
    Data::Buffer           0.04     0.04        
    Digest::SHA            5.22     5.85        
    Exporter               5.562    5.68        
    Math::BigInt           1.78     1.998       
    Math::BigInt::GMP      0        1.37        
    Math::Prime::Util::GMP 0.15     0.16        
    MIME::Base64           0        3.14        
    perl                   5.006002 5.016003    

build_requires:

    Module                 Need     Have        
    ---------------------- -------- ------------
    Test::More             0.45     1.001001_001


------------------------------
ENVIRONMENT AND OTHER CONTEXT
------------------------------

Environment variables:

    AUTOMATED_TESTING = 1
    LANG = en_GB.UTF-8
    LC_ADDRESS = en_GB.UTF-8
    LC_COLLATE = en_GB.UTF-8
    LC_CTYPE = en_GB.UTF-8
    LC_IDENTIFICATION = en_GB.UTF-8
    LC_MEASUREMENT = en_GB.UTF-8
    LC_MESSAGES = en_GB.UTF-8
    LC_MONETARY = en_GB.UTF-8
    LC_NAME = en_GB.UTF-8
    LC_NUMERIC = en_GB.UTF-8
    LC_PAPER = en_GB.UTF-8
    LC_TELEPHONE = en_GB.UTF-8
    LC_TIME = en_GB.UTF-8
    PATH = /home/graham/perls/perl5.16.3-thread/bin:/usr/local/sbin:/usr/local/bin:/usr/bin:/usr/bin/core_perl
    PERL5LIB = 
    PERL5OPT = 
    PERL5_CPANPLUS_IS_RUNNING = 14145
    PERL5_CPAN_IS_RUNNING = 14145
    PERL5_CPAN_IS_RUNNING_IN_RECURSION = 495,14145
    PERL_CR_SMOKER_CURRENT = Crypt-DSA-GMP-0.02
    PERL_EXTUTILS_AUTOINSTALL = --defaultdeps
    PERL_MM_USE_DEFAULT = 1
    SHELL = /bin/bash
    TERM = xterm

Perl special variables (and OS-specific diagnostics, for MSWin32):

    $^X = /home/graham/perls/perl5.16.3-thread/bin/perl
    $UID/$EUID = 1000 / 1000
    $GID = 100 10 100
    $EGID = 100 10 100

Perl module toolchain versions installed:

    Module              Have        
    ------------------- ------------
    CPAN                2.00        
    CPAN::Meta          2.132830    
    Cwd                 3.40        
    ExtUtils::CBuilder  0.280212    
    ExtUtils::Command   1.18        
    ExtUtils::Install   1.58        
    ExtUtils::MakeMaker 6.81_05     
    ExtUtils::Manifest  1.63        
    ExtUtils::ParseXS   3.22        
    File::Spec          3.40        
    JSON                2.90        
    JSON::PP            2.27203     
    Module::Build       0.39_01     
    Module::Signature   n/a         
    Parse::CPAN::Meta   1.4409      
    Test::Harness       3.29        
    Test::More          1.001001_001
    YAML                0.84        
    YAML::Syck          1.27        
    version             0.9904      


--

Summary of my perl5 (revision 5 version 16 subversion 3) configuration:
   
  Platform:
    osname=linux, osvers=3.11.6-1-arch, archname=x86_64-linux-thread-multi
    uname='linux arch002 3.11.6-1-arch #1 smp preempt fri oct 18 23:22:36 cest 2013 x86_64 gnulinux '
    config_args=''
    hint=recommended, useposix=true, d_sigaction=define
    useithreads=define, usemultiplicity=define
    useperlio=define, d_sfio=undef, uselargefiles=define, usesocks=undef
    use64bitint=define, use64bitall=define, uselongdouble=undef
    usemymalloc=n, bincompat5005=undef
  Compiler:
    cc='cc', ccflags ='-D_REENTRANT -D_GNU_SOURCE -fno-strict-aliasing -pipe -fstack-protector -I/usr/local/include -D_LARGEFILE_SOURCE -D_FILE_OFFSET_BITS=64',
    optimize='-O2',
    cppflags='-D_REENTRANT -D_GNU_SOURCE -fno-strict-aliasing -pipe -fstack-protector -I/usr/local/include'
    ccversion='', gccversion='4.8.2', gccosandvers=''
    intsize=4, longsize=8, ptrsize=8, doublesize=8, byteorder=12345678
    d_longlong=define, longlongsize=8, d_longdbl=define, longdblsize=16
    ivtype='long', ivsize=8, nvtype='double', nvsize=8, Off_t='off_t', lseeksize=8
    alignbytes=8, prototype=define
  Linker and Libraries:
    ld='cc', ldflags =' -fstack-protector -L/usr/local/lib'
    libpth=/usr/local/lib /lib/../lib /usr/lib/../lib /lib /usr/lib /lib64 /usr/lib64
    libs=-lnsl -lgdbm -ldb -ldl -lm -lcrypt -lutil -lpthread -lc -lgdbm_compat
    perllibs=-lnsl -ldl -lm -lcrypt -lutil -lpthread -lc
    libc=/lib/libc-2.18.so, so=so, useshrplib=false, libperl=libperl.a
    gnulibc_version='2.18'
  Dynamic Linking:
    dlsrc=dl_dlopen.xs, dlext=so, d_dlsymun=undef, ccdlflags='-Wl,-E'
    cccdlflags='-fPIC', lddlflags='-shared -O2 -L/usr/local/lib -fstack-protector'


Characteristics of this binary (from libperl): 
  Compile-time options: HAS_TIMES MULTIPLICITY PERLIO_LAYERS
                        PERL_DONT_CREATE_GVSV PERL_IMPLICIT_CONTEXT
                        PERL_MALLOC_WRAP PERL_PRESERVE_IVUV USE_64_BIT_ALL
                        USE_64_BIT_INT USE_ITHREADS USE_LARGE_FILES
                        USE_LOCALE USE_LOCALE_COLLATE USE_LOCALE_CTYPE
                        USE_LOCALE_NUMERIC USE_PERLIO USE_PERL_ATOF
                        USE_REENTRANT_API
  Built under linux
  Compiled at Nov  3 2013 12:08:50
  %ENV:
    PERL5LIB=""
    PERL5OPT=""
    PERL5_CPANPLUS_IS_RUNNING="14145"
    PERL5_CPAN_IS_RUNNING="14145"
    PERL5_CPAN_IS_RUNNING_IN_RECURSION="495,14145"
    PERL_CR_SMOKER_CURRENT="Crypt-DSA-GMP-0.02"
    PERL_EXTUTILS_AUTOINSTALL="--defaultdeps"
    PERL_MM_USE_DEFAULT="1"
  @INC:
    /home/graham/perls/perl5.16.3-thread/lib/site_perl/5.16.3/x86_64-linux-thread-multi
    /home/graham/perls/perl5.16.3-thread/lib/site_perl/5.16.3
    /home/graham/perls/perl5.16.3-thread/lib/5.16.3/x86_64-linux-thread-multi
    /home/graham/perls/perl5.16.3-thread/lib/5.16.3
    .