DBIx-QueryLog v0.42 Perl 5 v5.34.1 x86_64-linux-multi-ld

Status
Pass
From
Andreas J. König (ANDK)
Dist
DBIx-QueryLog v0.42
Platform
Perl 5 v5.34.1 x86_64-linux-multi-ld
Date
2022-07-22 09:32:32
ID
361cd872-09a1-11ed-ad19-38f744bf57b8
This distribution has been tested as part of the CPAN Testers
project, supporting the Perl programming language.  See
http://wiki.cpantesters.org/ for more information or email
questions to cpan-testers-discuss@perl.org


--
Dear Yuji Shimada,

This is a computer-generated report for DBIx-QueryLog-0.42
on perl 5.34.1, created by CPAN-Reporter-1.2018.

Thank you for uploading your work to CPAN.  Congratulations!
All tests were successful.

Sections of this report:

    * Tester comments
    * Program output
    * Prerequisites
    * Environment and other context

------------------------------
TESTER COMMENTS
------------------------------

Additional comments from tester:

this report is from an automated smoke testing program
and was not reviewed by a human for accuracy

------------------------------
PROGRAM OUTPUT
------------------------------

Output from './Build test':

t/00_compile.t ................ ok
t/01_accessors.t .............. ok
t/10_simple.t ................. ok
t/11_bind.t ................... ok
t/12_skip_bind.t .............. ok
t/13_threshold.t .............. ok
t/14_probability.t ............ ok
t/15_selectrow_array.t ........ ok
t/16_multi_line.t ............. ok
t/18_bind_param.t ............. ok
t/20_localizetion.t ........... ok
t/21_guard.t .................. ok
t/22_ignore_trace.t ........... ok
t/23_do_explain.t ............. ok
t/30_logger.t ................. ok
t/31_output.t ................. ok
t/32_color.t .................. ok
t/33_useqq.t .................. ok
t/34_compact.t ................ ok
t/35_useqq_and_compact.t ...... ok
t/36_show_data_srouce.t ....... ok
t/90_alias.t .................. ok
t/99_regression_sqlite_148.t .. ok
t/mysql/01_simple.t ........... ok
t/mysql/02_bind.t ............. ok
t/mysql/10_do.t ............... ok
t/mysql/11_do_dind.t .......... ok
t/mysql/12_do_skip_bind.t ..... ok
t/mysql/13_do_probability.t ... ok
t/mysql/14_do_logger.t ........ ok
t/mysql/15_selectrow_array.t .. ok
t/mysql/16_multi_line.t ....... ok
t/mysql/17_limit.t ............ ok
t/mysql/18_bind_param.t ....... ok
t/mysql/19_bind_with_type.t ... ok
t/mysql/20_reuse_sql_type.t ... ok
t/mysql/21_do_explain.t ....... ok
t/pg/01_simple.t .............. skipped: Test requires module 'DBD::Pg' but it's not found
t/pg/02_bind.t ................ skipped: Test requires module 'DBD::Pg' but it's not found
t/pg/10_do.t .................. skipped: Test requires module 'DBD::Pg' but it's not found
t/pg/11_do_dind.t ............. skipped: Test requires module 'DBD::Pg' but it's not found
t/pg/12_do_skip_bind.t ........ skipped: Test requires module 'DBD::Pg' but it's not found
t/pg/13_do_probability.t ...... skipped: Test requires module 'DBD::Pg' but it's not found
t/pg/14_do_logger.t ........... skipped: Test requires module 'DBD::Pg' but it's not found
t/pg/15_selectrow_array.t ..... skipped: Test requires module 'DBD::Pg' but it's not found
t/pg/16_multi_line.t .......... skipped: Test requires module 'DBD::Pg' but it's not found
t/pg/17_limit.t ............... skipped: Test requires module 'DBD::Pg' but it's not found
t/pg/18_bind_param.t .......... skipped: Test requires module 'DBD::Pg' but it's not found
t/pg/19_bind_with_type.t ...... skipped: Test requires module 'DBD::Pg' but it's not found
t/pg/20_reuse_sql_type.t ...... skipped: Test requires module 'DBD::Pg' but it's not found
t/pg/21_do_explain.t .......... skipped: Test requires module 'DBD::Pg' but it's not found
All tests successful.
Files=51, Tests=130, 407 wallclock secs ( 0.20 usr  0.13 sys + 82.10 cusr 35.04 csys = 117.47 CPU)
Result: PASS

------------------------------
PREREQUISITES
------------------------------

Prerequisite modules loaded:

requires:

    Module              Need     Have    
    ------------------- -------- --------
    Data::Dumper        0        2.183   
    DBI                 0        1.643   
    perl                5.008001 5.034001
    Term::ANSIColor     0        5.01    
    Text::ASCIITable    0        0.22    
    Time::HiRes         0        1.9767  

build_requires:

    Module              Need     Have    
    ------------------- -------- --------
    ExtUtils::MakeMaker 6.59     7.65_01 
    Test::More          0.96     1.302191
    Test::Requires      0        0.11    

configure_requires:

    Module              Need     Have    
    ------------------- -------- --------
    Module::Build::Tiny 0.035    0.039   

opt_requires:

    Module              Need     Have    
    ------------------- -------- --------
    DBD::mysql          0        4.050   
  ! DBD::Pg             0        n/a     
    DBD::SQLite         0        1.70    


------------------------------
ENVIRONMENT AND OTHER CONTEXT
------------------------------

Environment variables:

    AUTOMATED_TESTING = 1
    LANG = en_US.UTF-8
    LANGUAGE = en_US:en
    PATH = /home/sand/bin:/usr/local/bin:/usr/bin:/bin:/usr/games:/usr/local/perl/bin:/usr/X11/bin:/sbin:/usr/sbin
    PERL5LIB = /home/sand/.cpan/privbuild/k93msid/ProjectBuilder-0.14.1-22/blib/arch:/home/sand/.cpan/privbuild/k93msid/ProjectBuilder-0.14.1-22/blib/lib
    PERL5OPT = 
    PERL5_CPANPLUS_IS_RUNNING = 1146287
    PERL5_CPAN_IS_RUNNING = 1146287
    PERL_CANARY_STABILITY_NOPROMPT = 1
    PERL_MM_USE_DEFAULT = 1
    PERL_USE_UNSAFE_INC = 1
    SHELL = /usr/bin/zsh
    TERM = screen

Perl special variables (and OS-specific diagnostics, for MSWin32):

    $^X = /tmp/basesmoker-reloperl-b8qe/bin/perl
    $UID/$EUID = 1005 / 1005
    $GID = 1005 1005
    $EGID = 1005 1005

Perl module toolchain versions installed:

    Module              Have    
    ------------------- --------
    CPAN                2.34    
    CPAN::Meta          2.150010
    Cwd                 3.80    
    ExtUtils::CBuilder  0.280236
    ExtUtils::Command   7.65_01 
    ExtUtils::Install   2.20    
    ExtUtils::MakeMaker 7.65_01 
    ExtUtils::Manifest  1.73    
    ExtUtils::ParseXS   3.43    
    File::Spec          3.80    
    JSON                4.07    
    JSON::PP            4.10    
    Module::Build       0.4231  
    Module::Signature   0.88    
    Parse::CPAN::Meta   2.150010
    Test::Harness       3.44    
    Test::More          1.302191
    YAML                1.30    
    YAML::Syck          1.34    
    version             0.9929  


--

Summary of my perl5 (revision 5 version 34 subversion 1) configuration:
  Commit id: 1181cf72936404b890ef41362f533fe2c2626f9b
  Platform:
    osname=linux
    osvers=5.17.0-1-amd64
    archname=x86_64-linux-multi-ld
    uname='linux k93msid 5.17.0-1-amd64 #1 smp preempt debian 5.17.3-1 (2022-04-18) x86_64 gnulinux '
    config_args='-Dprefix=/home/sand/src/perl/repoperls/installed-perls/host/k93msid/v5.34.1/1d53 -Dmyhostname=k93msid -Dinstallusrbinperl=n -Uversiononly -Dusedevel -des -Ui_db -Dlibswanted=cl pthread socket inet nsl gdbm dbm malloc dl ld sun m crypt sec util c cposix posix ucb BSD gdbm_compat -Uuseithreads -Duselongdouble -DEBUGGING=both -Dusemultiplicity'
    hint=recommended
    useposix=true
    d_sigaction=define
    useithreads=undef
    usemultiplicity=define
    use64bitint=define
    use64bitall=define
    uselongdouble=define
    usemymalloc=n
    default_inc_excludes_dot=define
  Compiler:
    cc='cc'
    ccflags ='-fwrapv -DDEBUGGING -fno-strict-aliasing -pipe -fstack-protector-strong -I/usr/local/include -D_LARGEFILE_SOURCE -D_FILE_OFFSET_BITS=64 -D_FORTIFY_SOURCE=2'
    optimize='-O2 -g'
    cppflags='-fwrapv -DDEBUGGING -fno-strict-aliasing -pipe -fstack-protector-strong -I/usr/local/include'
    ccversion=''
    gccversion='11.3.0'
    gccosandvers=''
    intsize=4
    longsize=8
    ptrsize=8
    doublesize=8
    byteorder=12345678
    doublekind=3
    d_longlong=define
    longlongsize=8
    d_longdbl=define
    longdblsize=16
    longdblkind=3
    ivtype='long'
    ivsize=8
    nvtype='long double'
    nvsize=16
    Off_t='off_t'
    lseeksize=8
    alignbytes=16
    prototype=define
  Linker and Libraries:
    ld='cc'
    ldflags =' -fstack-protector-strong -L/usr/local/lib'
    libpth=/usr/local/lib /usr/lib/x86_64-linux-gnu /usr/lib /lib/x86_64-linux-gnu /lib
    libs=-lpthread -lnsl -ldl -lm -lcrypt -lutil -lc
    perllibs=-lpthread -lnsl -ldl -lm -lcrypt -lutil -lc
    libc=libc-2.33.so
    so=so
    useshrplib=false
    libperl=libperl.a
    gnulibc_version='2.33'
  Dynamic Linking:
    dlsrc=dl_dlopen.xs
    dlext=so
    d_dlsymun=undef
    ccdlflags='-Wl,-E'
    cccdlflags='-fPIC'
    lddlflags='-shared -O2 -g -L/usr/local/lib -fstack-protector-strong'


Characteristics of this binary (from libperl): 
  Compile-time options:
    DEBUGGING
    HAS_TIMES
    MULTIPLICITY
    PERLIO_LAYERS
    PERL_COPY_ON_WRITE
    PERL_DONT_CREATE_GVSV
    PERL_IMPLICIT_CONTEXT
    PERL_MALLOC_WRAP
    PERL_OP_PARENT
    PERL_PRESERVE_IVUV
    PERL_TRACK_MEMPOOL
    PERL_USE_DEVEL
    USE_64_BIT_ALL
    USE_64_BIT_INT
    USE_LARGE_FILES
    USE_LOCALE
    USE_LOCALE_COLLATE
    USE_LOCALE_CTYPE
    USE_LOCALE_NUMERIC
    USE_LOCALE_TIME
    USE_LONG_DOUBLE
    USE_PERLIO
    USE_PERL_ATOF
  Built under linux
  Compiled at May  7 2022 12:47:19
  %ENV:
    PERL5LIB="/home/sand/.cpan/privbuild/k93msid/ProjectBuilder-0.14.1-22/blib/arch:/home/sand/.cpan/privbuild/k93msid/ProjectBuilder-0.14.1-22/blib/lib"
    PERL5OPT=""
    PERL5_CPANPLUS_IS_RUNNING="1146287"
    PERL5_CPAN_IS_RUNNING="1146287"
    PERL_CANARY_STABILITY_NOPROMPT="1"
    PERL_MM_USE_DEFAULT="1"
    PERL_USE_UNSAFE_INC="1"
  @INC:
    /home/sand/.cpan/privbuild/k93msid/ProjectBuilder-0.14.1-22/blib/arch
    /home/sand/.cpan/privbuild/k93msid/ProjectBuilder-0.14.1-22/blib/lib
    /home/sand/src/perl/repoperls/installed-perls/host/k93msid/v5.34.1/1d53/lib/site_perl/5.34.1/x86_64-linux-multi-ld
    /home/sand/src/perl/repoperls/installed-perls/host/k93msid/v5.34.1/1d53/lib/site_perl/5.34.1
    /home/sand/src/perl/repoperls/installed-perls/host/k93msid/v5.34.1/1d53/lib/5.34.1/x86_64-linux-multi-ld
    /home/sand/src/perl/repoperls/installed-perls/host/k93msid/v5.34.1/1d53/lib/5.34.1
    .