Syntax-Keyword-Try v0.24 Perl 5 v5.32.1 x86_64-linux

Status
Pass
From
Ioan Rogers
Dist
Syntax-Keyword-Try v0.24
Platform
Perl 5 v5.32.1 x86_64-linux
Date
2021-05-26 22:03:32
ID
362451a8-be6e-11eb-adce-a2a2f2f68c2b
This distribution has been tested as part of the CPAN Testers
project, supporting the Perl programming language.  See
http://wiki.cpantesters.org/ for more information or email
questions to cpan-testers-discuss@perl.org


--
Dear PEVANS,

This is a computer-generated report for Syntax-Keyword-Try-0.24
on perl 5.32.1, created by App::cpanminus::reporter 0.17 (1.7044).

Thank you for uploading your work to CPAN.  Congratulations!
All tests were successful.

Sections of this report:

    * Tester comments
    * Program output
    * Prerequisites
    * Environment and other context

------------------------------
TESTER COMMENTS
------------------------------

Additional comments from tester:

none provided

------------------------------
PROGRAM OUTPUT
------------------------------

Output from '':

Building and testing Syntax-Keyword-Try-0.24
Building Syntax-Keyword-Try
clang -I/home/ioan/.plenv/versions/mm-perl/lib/5.32.1/x86_64-linux/CORE -DVERSION="0.24" -DXS_VERSION="0.24" -fPIC -Ihax -c -fno-strict-aliasing -pipe -fstack-protector-strong -I/usr/local/include -D_LARGEFILE_SOURCE -D_FILE_OFFSET_BITS=64 -O2 -o lib/Syntax/Keyword/Try.o lib/Syntax/Keyword/Try.c
In file included from lib/Syntax/Keyword/Try.xs:7:
In file included from /home/ioan/.plenv/versions/mm-perl/lib/5.32.1/x86_64-linux/CORE/perl.h:3921:
In file included from /home/ioan/.plenv/versions/mm-perl/lib/5.32.1/x86_64-linux/CORE/hv.h:663:
In file included from /home/ioan/.plenv/versions/mm-perl/lib/5.32.1/x86_64-linux/CORE/hv_func.h:35:
In file included from /home/ioan/.plenv/versions/mm-perl/lib/5.32.1/x86_64-linux/CORE/sbox32_hash.h:4:
/home/ioan/.plenv/versions/mm-perl/lib/5.32.1/x86_64-linux/CORE/zaphod32_hash.h:150:5: warning: '(' and '{' tokens introducing statement expression appear in different macro expansion contexts [-Wcompound-token-split-by-macro]
    ZAPHOD32_SCRAMBLE32(state[0],0x9fade23b);
    ^~~~~~~~~~~~~~~~~~~~~~~~~~~~~~~~~~~~~~~~
/home/ioan/.plenv/versions/mm-perl/lib/5.32.1/x86_64-linux/CORE/zaphod32_hash.h:80:38: note: expanded from macro 'ZAPHOD32_SCRAMBLE32'
#define ZAPHOD32_SCRAMBLE32(v,prime) STMT_START {  \
                                     ^~~~~~~~~~
/home/ioan/.plenv/versions/mm-perl/lib/5.32.1/x86_64-linux/CORE/perl.h:666:29: note: expanded from macro 'STMT_START'
#   define STMT_START   (void)( /* gcc supports "({ STATEMENTS; })" */
                              ^
/home/ioan/.plenv/versions/mm-perl/lib/5.32.1/x86_64-linux/CORE/zaphod32_hash.h:150:5: note: '{' token is here
    ZAPHOD32_SCRAMBLE32(state[0],0x9fade23b);
    ^~~~~~~~~~~~~~~~~~~~~~~~~~~~~~~~~~~~~~~~
/home/ioan/.plenv/versions/mm-perl/lib/5.32.1/x86_64-linux/CORE/zaphod32_hash.h:80:49: note: expanded from macro 'ZAPHOD32_SCRAMBLE32'
#define ZAPHOD32_SCRAMBLE32(v,prime) STMT_START {  \
                                                ^
/home/ioan/.plenv/versions/mm-perl/lib/5.32.1/x86_64-linux/CORE/zaphod32_hash.h:150:5: warning: '}' and ')' tokens terminating statement expression appear in different macro expansion contexts [-Wcompound-token-split-by-macro]
    ZAPHOD32_SCRAMBLE32(state[0],0x9fade23b);
    ^~~~~~~~~~~~~~~~~~~~~~~~~~~~~~~~~~~~~~~~
/home/ioan/.plenv/versions/mm-perl/lib/5.32.1/x86_64-linux/CORE/zaphod32_hash.h:87:41: note: expanded from macro 'ZAPHOD32_SCRAMBLE32'
    v ^= (v>>23);                       \
                                        ^
/home/ioan/.plenv/versions/mm-perl/lib/5.32.1/x86_64-linux/CORE/zaphod32_hash.h:150:5: note: ')' token is here
    ZAPHOD32_SCRAMBLE32(state[0],0x9fade23b);
    ^~~~~~~~~~~~~~~~~~~~~~~~~~~~~~~~~~~~~~~~
/home/ioan/.plenv/versions/mm-perl/lib/5.32.1/x86_64-linux/CORE/zaphod32_hash.h:88:3: note: expanded from macro 'ZAPHOD32_SCRAMBLE32'
} STMT_END
  ^~~~~~~~
/home/ioan/.plenv/versions/mm-perl/lib/5.32.1/x86_64-linux/CORE/perl.h:667:21: note: expanded from macro 'STMT_END'
#   define STMT_END     )
                        ^
In file included from lib/Syntax/Keyword/Try.xs:7:
In file included from /home/ioan/.plenv/versions/mm-perl/lib/5.32.1/x86_64-linux/CORE/perl.h:3921:
In file included from /home/ioan/.plenv/versions/mm-perl/lib/5.32.1/x86_64-linux/CORE/hv.h:663:
In file included from /home/ioan/.plenv/versions/mm-perl/lib/5.32.1/x86_64-linux/CORE/hv_func.h:35:
In file included from /home/ioan/.plenv/versions/mm-perl/lib/5.32.1/x86_64-linux/CORE/sbox32_hash.h:4:
/home/ioan/.plenv/versions/mm-perl/lib/5.32.1/x86_64-linux/CORE/zaphod32_hash.h:151:5: warning: '(' and '{' tokens introducing statement expression appear in different macro expansion contexts [-Wcompound-token-split-by-macro]
    ZAPHOD32_SCRAMBLE32(state[1],0xaa6f908d);
    ^~~~~~~~~~~~~~~~~~~~~~~~~~~~~~~~~~~~~~~~
/home/ioan/.plenv/versions/mm-perl/lib/5.32.1/x86_64-linux/CORE/zaphod32_hash.h:80:38: note: expanded from macro 'ZAPHOD32_SCRAMBLE32'
#define ZAPHOD32_SCRAMBLE32(v,prime) STMT_START {  \
                                     ^~~~~~~~~~
/home/ioan/.plenv/versions/mm-perl/lib/5.32.1/x86_64-linux/CORE/perl.h:666:29: note: expanded from macro 'STMT_START'
#   define STMT_START   (void)( /* gcc supports "({ STATEMENTS; })" */
                              ^
/home/ioan/.plenv/versions/mm-perl/lib/5.32.1/x86_64-linux/CORE/zaphod32_hash.h:151:5: note: '{' token is here
    ZAPHOD32_SCRAMBLE32(state[1],0xaa6f908d);
    ^~~~~~~~~~~~~~~~~~~~~~~~~~~~~~~~~~~~~~~~
/home/ioan/.plenv/versions/mm-perl/lib/5.32.1/x86_64-linux/CORE/zaphod32_hash.h:80:49: note: expanded from macro 'ZAPHOD32_SCRAMBLE32'
#define ZAPHOD32_SCRAMBLE32(v,prime) STMT_START {  \
                                                ^
/home/ioan/.plenv/versions/mm-perl/lib/5.32.1/x86_64-linux/CORE/zaphod32_hash.h:151:5: warning: '}' and ')' tokens terminating statement expression appear in different macro expansion contexts [-Wcompound-token-split-by-macro]
    ZAPHOD32_SCRAMBLE32(state[1],0xaa6f908d);
    ^~~~~~~~~~~~~~~~~~~~~~~~~~~~~~~~~~~~~~~~
/home/ioan/.plenv/versions/mm-perl/lib/5.32.1/x86_64-linux/CORE/zaphod32_hash.h:87:41: note: expanded from macro 'ZAPHOD32_SCRAMBLE32'
    v ^= (v>>23);                       \
                                        ^
/home/ioan/.plenv/versions/mm-perl/lib/5.32.1/x86_64-linux/CORE/zaphod32_hash.h:151:5: note: ')' token is here
    ZAPHOD32_SCRAMBLE32(state[1],0xaa6f908d);
    ^~~~~~~~~~~~~~~~~~~~~~~~~~~~~~~~~~~~~~~~
/home/ioan/.plenv/versions/mm-perl/lib/5.32.1/x86_64-linux/CORE/zaphod32_hash.h:88:3: note: expanded from macro 'ZAPHOD32_SCRAMBLE32'
} STMT_END
  ^~~~~~~~
/home/ioan/.plenv/versions/mm-perl/lib/5.32.1/x86_64-linux/CORE/perl.h:667:21: note: expanded from macro 'STMT_END'
#   define STMT_END     )
                        ^
In file included from lib/Syntax/Keyword/Try.xs:7:
In file included from /home/ioan/.plenv/versions/mm-perl/lib/5.32.1/x86_64-linux/CORE/perl.h:3921:
In file included from /home/ioan/.plenv/versions/mm-perl/lib/5.32.1/x86_64-linux/CORE/hv.h:663:
In file included from /home/ioan/.plenv/versions/mm-perl/lib/5.32.1/x86_64-linux/CORE/hv_func.h:35:
In file included from /home/ioan/.plenv/versions/mm-perl/lib/5.32.1/x86_64-linux/CORE/sbox32_hash.h:4:
/home/ioan/.plenv/versions/mm-perl/lib/5.32.1/x86_64-linux/CORE/zaphod32_hash.h:152:5: warning: '(' and '{' tokens introducing statement expression appear in different macro expansion contexts [-Wcompound-token-split-by-macro]
    ZAPHOD32_SCRAMBLE32(state[2],0xcdf6b72d);
    ^~~~~~~~~~~~~~~~~~~~~~~~~~~~~~~~~~~~~~~~
/home/ioan/.plenv/versions/mm-perl/lib/5.32.1/x86_64-linux/CORE/zaphod32_hash.h:80:38: note: expanded from macro 'ZAPHOD32_SCRAMBLE32'
#define ZAPHOD32_SCRAMBLE32(v,prime) STMT_START {  \
                                     ^~~~~~~~~~
/home/ioan/.plenv/versions/mm-perl/lib/5.32.1/x86_64-linux/CORE/perl.h:666:29: note: expanded from macro 'STMT_START'
#   define STMT_START   (void)( /* gcc supports "({ STATEMENTS; })" */
                              ^
/home/ioan/.plenv/versions/mm-perl/lib/5.32.1/x86_64-linux/CORE/zaphod32_hash.h:152:5: note: '{' token is here
    ZAPHOD32_SCRAMBLE32(state[2],0xcdf6b72d);
    ^~~~~~~~~~~~~~~~~~~~~~~~~~~~~~~~~~~~~~~~
/home/ioan/.plenv/versions/mm-perl/lib/5.32.1/x86_64-linux/CORE/zaphod32_hash.h:80:49: note: expanded from macro 'ZAPHOD32_SCRAMBLE32'
#define ZAPHOD32_SCRAMBLE32(v,prime) STMT_START {  \
                                                ^
/home/ioan/.plenv/versions/mm-perl/lib/5.32.1/x86_64-linux/CORE/zaphod32_hash.h:152:5: warning: '}' and ')' tokens terminating statement expression appear in different macro expansion contexts [-Wcompound-token-split-by-macro]
    ZAPHOD32_SCRAMBLE32(state[2],0xcdf6b72d);
    ^~~~~~~~~~~~~~~~~~~~~~~~~~~~~~~~~~~~~~~~
/home/ioan/.plenv/versions/mm-perl/lib/5.32.1/x86_64-linux/CORE/zaphod32_hash.h:87:41: note: expanded from macro 'ZAPHOD32_SCRAMBLE32'
    v ^= (v>>23);                       \
                                        ^
/home/ioan/.plenv/versions/mm-perl/lib/5.32.1/x86_64-linux/CORE/zaphod32_hash.h:152:5: note: ')' token is here
    ZAPHOD32_SCRAMBLE32(state[2],0xcdf6b72d);
    ^~~~~~~~~~~~~~~~~~~~~~~~~~~~~~~~~~~~~~~~
/home/ioan/.plenv/versions/mm-perl/lib/5.32.1/x86_64-linux/CORE/zaphod32_hash.h:88:3: note: expanded from macro 'ZAPHOD32_SCRAMBLE32'
} STMT_END
  ^~~~~~~~
/home/ioan/.plenv/versions/mm-perl/lib/5.32.1/x86_64-linux/CORE/perl.h:667:21: note: expanded from macro 'STMT_END'
#   define STMT_END     )
                        ^
In file included from lib/Syntax/Keyword/Try.xs:7:
In file included from /home/ioan/.plenv/versions/mm-perl/lib/5.32.1/x86_64-linux/CORE/perl.h:3921:
In file included from /home/ioan/.plenv/versions/mm-perl/lib/5.32.1/x86_64-linux/CORE/hv.h:663:
In file included from /home/ioan/.plenv/versions/mm-perl/lib/5.32.1/x86_64-linux/CORE/hv_func.h:35:
In file included from /home/ioan/.plenv/versions/mm-perl/lib/5.32.1/x86_64-linux/CORE/sbox32_hash.h:4:
/home/ioan/.plenv/versions/mm-perl/lib/5.32.1/x86_64-linux/CORE/zaphod32_hash.h:156:5: warning: '(' and '{' tokens introducing statement expression appear in different macro expansion contexts [-Wcompound-token-split-by-macro]
    ZAPHOD32_MIX(state[0],state[1],state[2],"ZAPHOD32 SEED-STATE A 1/4");
    ^~~~~~~~~~~~~~~~~~~~~~~~~~~~~~~~~~~~~~~~~~~~~~~~~~~~~~~~~~~~~~~~~~~~
/home/ioan/.plenv/versions/mm-perl/lib/5.32.1/x86_64-linux/CORE/zaphod32_hash.h:116:37: note: expanded from macro 'ZAPHOD32_MIX'
#define ZAPHOD32_MIX(v0,v1,v2,text) STMT_START {                              \
                                    ^~~~~~~~~~
/home/ioan/.plenv/versions/mm-perl/lib/5.32.1/x86_64-linux/CORE/perl.h:666:29: note: expanded from macro 'STMT_START'
#   define STMT_START   (void)( /* gcc supports "({ STATEMENTS; })" */
                              ^
/home/ioan/.plenv/versions/mm-perl/lib/5.32.1/x86_64-linux/CORE/zaphod32_hash.h:156:5: note: '{' token is here
    ZAPHOD32_MIX(state[0],state[1],state[2],"ZAPHOD32 SEED-STATE A 1/4");
    ^~~~~~~~~~~~~~~~~~~~~~~~~~~~~~~~~~~~~~~~~~~~~~~~~~~~~~~~~~~~~~~~~~~~
/home/ioan/.plenv/versions/mm-perl/lib/5.32.1/x86_64-linux/CORE/zaphod32_hash.h:116:48: note: expanded from macro 'ZAPHOD32_MIX'
#define ZAPHOD32_MIX(v0,v1,v2,text) STMT_START {                              \
                                               ^
/home/ioan/.plenv/versions/mm-perl/lib/5.32.1/x86_64-linux/CORE/zaphod32_hash.h:156:5: warning: '}' and ')' tokens terminating statement expression appear in different macro expansion contexts [-Wcompound-token-split-by-macro]
    ZAPHOD32_MIX(state[0],state[1],state[2],"ZAPHOD32 SEED-STATE A 1/4");
    ^~~~~~~~~~~~~~~~~~~~~~~~~~~~~~~~~~~~~~~~~~~~~~~~~~~~~~~~~~~~~~~~~~~~
/home/ioan/.plenv/versions/mm-perl/lib/5.32.1/x86_64-linux/CORE/zaphod32_hash.h:124:32: note: expanded from macro 'ZAPHOD32_MIX'
    v2 = ROTR32(v2, 7) ^ v0;   \
                               ^
/home/ioan/.plenv/versions/mm-perl/lib/5.32.1/x86_64-linux/CORE/zaphod32_hash.h:156:5: note: ')' token is here
    ZAPHOD32_MIX(state[0],state[1],state[2],"ZAPHOD32 SEED-STATE A 1/4");
    ^~~~~~~~~~~~~~~~~~~~~~~~~~~~~~~~~~~~~~~~~~~~~~~~~~~~~~~~~~~~~~~~~~~~
/home/ioan/.plenv/versions/mm-perl/lib/5.32.1/x86_64-linux/CORE/zaphod32_hash.h:125:3: note: expanded from macro 'ZAPHOD32_MIX'
} STMT_END
  ^~~~~~~~
/home/ioan/.plenv/versions/mm-perl/lib/5.32.1/x86_64-linux/CORE/perl.h:667:21: note: expanded from macro 'STMT_END'
#   define STMT_END     )
                        ^
In file included from lib/Syntax/Keyword/Try.xs:7:
In file included from /home/ioan/.plenv/versions/mm-perl/lib/5.32.1/x86_64-linux/CORE/perl.h:3921:
In file included from /home/ioan/.plenv/versions/mm-perl/lib/5.32.1/x86_64-linux/CORE/hv.h:663:
In file included from /home/ioan/.plenv/versions/mm-perl/lib/5.32.1/x86_64-linux/CORE/hv_func.h:35:
In file included from /home/ioan/.plenv/versions/mm-perl/lib/5.32.1/x86_64-linux/CORE/sbox32_hash.h:4:
/home/ioan/.plenv/versions/mm-perl/lib/5.32.1/x86_64-linux/CORE/zaphod32_hash.h:157:5: warning: '(' and '{' tokens introducing statement expression appear in different macro expansion contexts [-Wcompound-token-split-by-macro]
    ZAPHOD32_MIX(state[0],state[1],state[2],"ZAPHOD32 SEED-STATE A 2/4");
    ^~~~~~~~~~~~~~~~~~~~~~~~~~~~~~~~~~~~~~~~~~~~~~~~~~~~~~~~~~~~~~~~~~~~
/home/ioan/.plenv/versions/mm-perl/lib/5.32.1/x86_64-linux/CORE/zaphod32_hash.h:116:37: note: expanded from macro 'ZAPHOD32_MIX'
#define ZAPHOD32_MIX(v0,v1,v2,text) STMT_START {                              \
                                    ^~~~~~~~~~
/home/ioan/.plenv/versions/mm-perl/lib/5.32.1/x86_64-linux/CORE/perl.h:666:29: note: expanded from macro 'STMT_START'
#   define STMT_START   (void)( /* gcc supports "({ STATEMENTS; })" */
                              ^
/home/ioan/.plenv/versions/mm-perl/lib/5.32.1/x86_64-linux/CORE/zaphod32_hash.h:157:5: note: '{' token is here
    ZAPHOD32_MIX(state[0],state[1],state[2],"ZAPHOD32 SEED-STATE A 2/4");
    ^~~~~~~~~~~~~~~~~~~~~~~~~~~~~~~~~~~~~~~~~~~~~~~~~~~~~~~~~~~~~~~~~~~~
/home/ioan/.plenv/versions/mm-perl/lib/5.32.1/x86_64-linux/CORE/zaphod32_hash.h:116:48: note: expanded from macro 'ZAPHOD32_MIX'
#define ZAPHOD32_MIX(v0,v1,v2,text) STMT_START {                              \
                                               ^
/home/ioan/.plenv/versions/mm-perl/lib/5.32.1/x86_64-linux/CORE/zaphod32_hash.h:157:5: warning: '}' and ')' tokens terminating statement expression appear in different macro expansion contexts [-Wcompound-token-split-by-macro]
    ZAPHOD32_MIX(state[0],state[1],state[2],"ZAPHOD32 SEED-STATE A 2/4");
    ^~~~~~~~~~~~~~~~~~~~~~~~~~~~~~~~~~~~~~~~~~~~~~~~~~~~~~~~~~~~~~~~~~~~
/home/ioan/.plenv/versions/mm-perl/lib/5.32.1/x86_64-linux/CORE/zaphod32_hash.h:124:32: note: expanded from macro 'ZAPHOD32_MIX'
    v2 = ROTR32(v2, 7) ^ v0;   \
                               ^
/home/ioan/.plenv/versions/mm-perl/lib/5.32.1/x86_64-linux/CORE/zaphod32_hash.h:157:5: note: ')' token is here
    ZAPHOD32_MIX(state[0],state[1],state[2],"ZAPHOD32 SEED-STATE A 2/4");
    ^~~~~~~~~~~~~~~~~~~~~~~~~~~~~~~~~~~~~~~~~~~~~~~~~~~~~~~~~~~~~~~~~~~~
/home/ioan/.plenv/versions/mm-perl/lib/5.32.1/x86_64-linux/CORE/zaphod32_hash.h:125:3: note: expanded from macro 'ZAPHOD32_MIX'
} STMT_END
  ^~~~~~~~
/home/ioan/.plenv/versions/mm-perl/lib/5.32.1/x86_64-linux/CORE/perl.h:667:21: note: expanded from macro 'STMT_END'
#   define STMT_END     )
                        ^
In file included from lib/Syntax/Keyword/Try.xs:7:
In file included from /home/ioan/.plenv/versions/mm-perl/lib/5.32.1/x86_64-linux/CORE/perl.h:3921:
In file included from /home/ioan/.plenv/versions/mm-perl/lib/5.32.1/x86_64-linux/CORE/hv.h:663:
In file included from /home/ioan/.plenv/versions/mm-perl/lib/5.32.1/x86_64-linux/CORE/hv_func.h:35:
In file included from /home/ioan/.plenv/versions/mm-perl/lib/5.32.1/x86_64-linux/CORE/sbox32_hash.h:4:
/home/ioan/.plenv/versions/mm-perl/lib/5.32.1/x86_64-linux/CORE/zaphod32_hash.h:158:5: warning: '(' and '{' tokens introducing statement expression appear in different macro expansion contexts [-Wcompound-token-split-by-macro]
    ZAPHOD32_MIX(state[0],state[1],state[2],"ZAPHOD32 SEED-STATE A 3/4");
    ^~~~~~~~~~~~~~~~~~~~~~~~~~~~~~~~~~~~~~~~~~~~~~~~~~~~~~~~~~~~~~~~~~~~
/home/ioan/.plenv/versions/mm-perl/lib/5.32.1/x86_64-linux/CORE/zaphod32_hash.h:116:37: note: expanded from macro 'ZAPHOD32_MIX'
#define ZAPHOD32_MIX(v0,v1,v2,text) STMT_START {                              \
                                    ^~~~~~~~~~
/home/ioan/.plenv/versions/mm-perl/lib/5.32.1/x86_64-linux/CORE/perl.h:666:29: note: expanded from macro 'STMT_START'
#   define STMT_START   (void)( /* gcc supports "({ STATEMENTS; })" */
                              ^
/home/ioan/.plenv/versions/mm-perl/lib/5.32.1/x86_64-linux/CORE/zaphod32_hash.h:158:5: note: '{' token is here
    ZAPHOD32_MIX(state[0],state[1],state[2],"ZAPHOD32 SEED-STATE A 3/4");
    ^~~~~~~~~~~~~~~~~~~~~~~~~~~~~~~~~~~~~~~~~~~~~~~~~~~~~~~~~~~~~~~~~~~~
/home/ioan/.plenv/versions/mm-perl/lib/5.32.1/x86_64-linux/CORE/zaphod32_hash.h:116:48: note: expanded from macro 'ZAPHOD32_MIX'
#define ZAPHOD32_MIX(v0,v1,v2,text) STMT_START {                              \
                                               ^
/home/ioan/.plenv/versions/mm-perl/lib/5.32.1/x86_64-linux/CORE/zaphod32_hash.h:158:5: warning: '}' and ')' tokens terminating statement expression appear in different macro expansion contexts [-Wcompound-token-split-by-macro]
    ZAPHOD32_MIX(state[0],state[1],state[2],"ZAPHOD32 SEED-STATE A 3/4");
    ^~~~~~~~~~~~~~~~~~~~~~~~~~~~~~~~~~~~~~~~~~~~~~~~~~~~~~~~~~~~~~~~~~~~
/home/ioan/.plenv/versions/mm-perl/lib/5.32.1/x86_64-linux/CORE/zaphod32_hash.h:124:32: note: expanded from macro 'ZAPHOD32_MIX'
    v2 = ROTR32(v2, 7) ^ v0;   \
                               ^
/home/ioan/.plenv/versions/mm-perl/lib/5.32.1/x86_64-linux/CORE/zaphod32_hash.h:158:5: note: ')' token is here
    ZAPHOD32_MIX(state[0],state[1],state[2],"ZAPHOD32 SEED-STATE A 3/4");
    ^~~~~~~~~~~~~~~~~~~~~~~~~~~~~~~~~~~~~~~~~~~~~~~~~~~~~~~~~~~~~~~~~~~~
/home/ioan/.plenv/versions/mm-perl/lib/5.32.1/x86_64-linux/CORE/zaphod32_hash.h:125:3: note: expanded from macro 'ZAPHOD32_MIX'
} STMT_END
  ^~~~~~~~
/home/ioan/.plenv/versions/mm-perl/lib/5.32.1/x86_64-linux/CORE/perl.h:667:21: note: expanded from macro 'STMT_END'
#   define STMT_END     )
                        ^
In file included from lib/Syntax/Keyword/Try.xs:7:
In file included from /home/ioan/.plenv/versions/mm-perl/lib/5.32.1/x86_64-linux/CORE/perl.h:3921:
In file included from /home/ioan/.plenv/versions/mm-perl/lib/5.32.1/x86_64-linux/CORE/hv.h:663:
In file included from /home/ioan/.plenv/versions/mm-perl/lib/5.32.1/x86_64-linux/CORE/hv_func.h:35:
In file included from /home/ioan/.plenv/versions/mm-perl/lib/5.32.1/x86_64-linux/CORE/sbox32_hash.h:4:
/home/ioan/.plenv/versions/mm-perl/lib/5.32.1/x86_64-linux/CORE/zaphod32_hash.h:159:5: warning: '(' and '{' tokens introducing statement expression appear in different macro expansion contexts [-Wcompound-token-split-by-macro]
    ZAPHOD32_MIX(state[0],state[1],state[2],"ZAPHOD32 SEED-STATE A 4/4");
    ^~~~~~~~~~~~~~~~~~~~~~~~~~~~~~~~~~~~~~~~~~~~~~~~~~~~~~~~~~~~~~~~~~~~
/home/ioan/.plenv/versions/mm-perl/lib/5.32.1/x86_64-linux/CORE/zaphod32_hash.h:116:37: note: expanded from macro 'ZAPHOD32_MIX'
#define ZAPHOD32_MIX(v0,v1,v2,text) STMT_START {                              \
                                    ^~~~~~~~~~
/home/ioan/.plenv/versions/mm-perl/lib/5.32.1/x86_64-linux/CORE/perl.h:666:29: note: expanded from macro 'STMT_START'
#   define STMT_START   (void)( /* gcc supports "({ STATEMENTS; })" */
                              ^
/home/ioan/.plenv/versions/mm-perl/lib/5.32.1/x86_64-linux/CORE/zaphod32_hash.h:159:5: note: '{' token is here
    ZAPHOD32_MIX(state[0],state[1],state[2],"ZAPHOD32 SEED-STATE A 4/4");
    ^~~~~~~~~~~~~~~~~~~~~~~~~~~~~~~~~~~~~~~~~~~~~~~~~~~~~~~~~~~~~~~~~~~~
/home/ioan/.plenv/versions/mm-perl/lib/5.32.1/x86_64-linux/CORE/zaphod32_hash.h:116:48: note: expanded from macro 'ZAPHOD32_MIX'
#define ZAPHOD32_MIX(v0,v1,v2,text) STMT_START {                              \
                                               ^
/home/ioan/.plenv/versions/mm-perl/lib/5.32.1/x86_64-linux/CORE/zaphod32_hash.h:159:5: warning: '}' and ')' tokens terminating statement expression appear in different macro expansion contexts [-Wcompound-token-split-by-macro]
    ZAPHOD32_MIX(state[0],state[1],state[2],"ZAPHOD32 SEED-STATE A 4/4");
    ^~~~~~~~~~~~~~~~~~~~~~~~~~~~~~~~~~~~~~~~~~~~~~~~~~~~~~~~~~~~~~~~~~~~
/home/ioan/.plenv/versions/mm-perl/lib/5.32.1/x86_64-linux/CORE/zaphod32_hash.h:124:32: note: expanded from macro 'ZAPHOD32_MIX'
    v2 = ROTR32(v2, 7) ^ v0;   \
                               ^
/home/ioan/.plenv/versions/mm-perl/lib/5.32.1/x86_64-linux/CORE/zaphod32_hash.h:159:5: note: ')' token is here
    ZAPHOD32_MIX(state[0],state[1],state[2],"ZAPHOD32 SEED-STATE A 4/4");
    ^~~~~~~~~~~~~~~~~~~~~~~~~~~~~~~~~~~~~~~~~~~~~~~~~~~~~~~~~~~~~~~~~~~~
/home/ioan/.plenv/versions/mm-perl/lib/5.32.1/x86_64-linux/CORE/zaphod32_hash.h:125:3: note: expanded from macro 'ZAPHOD32_MIX'
} STMT_END
  ^~~~~~~~
/home/ioan/.plenv/versions/mm-perl/lib/5.32.1/x86_64-linux/CORE/perl.h:667:21: note: expanded from macro 'STMT_END'
#   define STMT_END     )
                        ^
In file included from lib/Syntax/Keyword/Try.xs:7:
In file included from /home/ioan/.plenv/versions/mm-perl/lib/5.32.1/x86_64-linux/CORE/perl.h:3921:
In file included from /home/ioan/.plenv/versions/mm-perl/lib/5.32.1/x86_64-linux/CORE/hv.h:663:
In file included from /home/ioan/.plenv/versions/mm-perl/lib/5.32.1/x86_64-linux/CORE/hv_func.h:35:
In file included from /home/ioan/.plenv/versions/mm-perl/lib/5.32.1/x86_64-linux/CORE/sbox32_hash.h:4:
/home/ioan/.plenv/versions/mm-perl/lib/5.32.1/x86_64-linux/CORE/zaphod32_hash.h:162:5: warning: '(' and '{' tokens introducing statement expression appear in different macro expansion contexts [-Wcompound-token-split-by-macro]
    ZAPHOD32_SCRAMBLE32(state[0],0xc95d22a9);
    ^~~~~~~~~~~~~~~~~~~~~~~~~~~~~~~~~~~~~~~~
/home/ioan/.plenv/versions/mm-perl/lib/5.32.1/x86_64-linux/CORE/zaphod32_hash.h:80:38: note: expanded from macro 'ZAPHOD32_SCRAMBLE32'
#define ZAPHOD32_SCRAMBLE32(v,prime) STMT_START {  \
                                     ^~~~~~~~~~
/home/ioan/.plenv/versions/mm-perl/lib/5.32.1/x86_64-linux/CORE/perl.h:666:29: note: expanded from macro 'STMT_START'
#   define STMT_START   (void)( /* gcc supports "({ STATEMENTS; })" */
                              ^
/home/ioan/.plenv/versions/mm-perl/lib/5.32.1/x86_64-linux/CORE/zaphod32_hash.h:162:5: note: '{' token is here
    ZAPHOD32_SCRAMBLE32(state[0],0xc95d22a9);
    ^~~~~~~~~~~~~~~~~~~~~~~~~~~~~~~~~~~~~~~~
/home/ioan/.plenv/versions/mm-perl/lib/5.32.1/x86_64-linux/CORE/zaphod32_hash.h:80:49: note: expanded from macro 'ZAPHOD32_SCRAMBLE32'
#define ZAPHOD32_SCRAMBLE32(v,prime) STMT_START {  \
                                                ^
/home/ioan/.plenv/versions/mm-perl/lib/5.32.1/x86_64-linux/CORE/zaphod32_hash.h:162:5: warning: '}' and ')' tokens terminating statement expression appear in different macro expansion contexts [-Wcompound-token-split-by-macro]
    ZAPHOD32_SCRAMBLE32(state[0],0xc95d22a9);
    ^~~~~~~~~~~~~~~~~~~~~~~~~~~~~~~~~~~~~~~~
/home/ioan/.plenv/versions/mm-perl/lib/5.32.1/x86_64-linux/CORE/zaphod32_hash.h:87:41: note: expanded from macro 'ZAPHOD32_SCRAMBLE32'
    v ^= (v>>23);                       \
                                        ^
/home/ioan/.plenv/versions/mm-perl/lib/5.32.1/x86_64-linux/CORE/zaphod32_hash.h:162:5: note: ')' token is here
    ZAPHOD32_SCRAMBLE32(state[0],0xc95d22a9);
    ^~~~~~~~~~~~~~~~~~~~~~~~~~~~~~~~~~~~~~~~
/home/ioan/.plenv/versions/mm-perl/lib/5.32.1/x86_64-linux/CORE/zaphod32_hash.h:88:3: note: expanded from macro 'ZAPHOD32_SCRAMBLE32'
} STMT_END
  ^~~~~~~~
/home/ioan/.plenv/versions/mm-perl/lib/5.32.1/x86_64-linux/CORE/perl.h:667:21: note: expanded from macro 'STMT_END'
#   define STMT_END     )
                        ^
In file included from lib/Syntax/Keyword/Try.xs:7:
In file included from /home/ioan/.plenv/versions/mm-perl/lib/5.32.1/x86_64-linux/CORE/perl.h:3921:
In file included from /home/ioan/.plenv/versions/mm-perl/lib/5.32.1/x86_64-linux/CORE/hv.h:663:
In file included from /home/ioan/.plenv/versions/mm-perl/lib/5.32.1/x86_64-linux/CORE/hv_func.h:35:
In file included from /home/ioan/.plenv/versions/mm-perl/lib/5.32.1/x86_64-linux/CORE/sbox32_hash.h:4:
/home/ioan/.plenv/versions/mm-perl/lib/5.32.1/x86_64-linux/CORE/zaphod32_hash.h:163:5: warning: '(' and '{' tokens introducing statement expression appear in different macro expansion contexts [-Wcompound-token-split-by-macro]
    ZAPHOD32_SCRAMBLE32(state[1],0x8497242b);
    ^~~~~~~~~~~~~~~~~~~~~~~~~~~~~~~~~~~~~~~~
/home/ioan/.plenv/versions/mm-perl/lib/5.32.1/x86_64-linux/CORE/zaphod32_hash.h:80:38: note: expanded from macro 'ZAPHOD32_SCRAMBLE32'
#define ZAPHOD32_SCRAMBLE32(v,prime) STMT_START {  \
                                     ^~~~~~~~~~
/home/ioan/.plenv/versions/mm-perl/lib/5.32.1/x86_64-linux/CORE/perl.h:666:29: note: expanded from macro 'STMT_START'
#   define STMT_START   (void)( /* gcc supports "({ STATEMENTS; })" */
                              ^
/home/ioan/.plenv/versions/mm-perl/lib/5.32.1/x86_64-linux/CORE/zaphod32_hash.h:163:5: note: '{' token is here
    ZAPHOD32_SCRAMBLE32(state[1],0x8497242b);
    ^~~~~~~~~~~~~~~~~~~~~~~~~~~~~~~~~~~~~~~~
/home/ioan/.plenv/versions/mm-perl/lib/5.32.1/x86_64-linux/CORE/zaphod32_hash.h:80:49: note: expanded from macro 'ZAPHOD32_SCRAMBLE32'
#define ZAPHOD32_SCRAMBLE32(v,prime) STMT_START {  \
                                                ^
/home/ioan/.plenv/versions/mm-perl/lib/5.32.1/x86_64-linux/CORE/zaphod32_hash.h:163:5: warning: '}' and ')' tokens terminating statement expression appear in different macro expansion contexts [-Wcompound-token-split-by-macro]
    ZAPHOD32_SCRAMBLE32(state[1],0x8497242b);
    ^~~~~~~~~~~~~~~~~~~~~~~~~~~~~~~~~~~~~~~~
/home/ioan/.plenv/versions/mm-perl/lib/5.32.1/x86_64-linux/CORE/zaphod32_hash.h:87:41: note: expanded from macro 'ZAPHOD32_SCRAMBLE32'
    v ^= (v>>23);                       \
                                        ^
/home/ioan/.plenv/versions/mm-perl/lib/5.32.1/x86_64-linux/CORE/zaphod32_hash.h:163:5: note: ')' token is here
    ZAPHOD32_SCRAMBLE32(state[1],0x8497242b);
    ^~~~~~~~~~~~~~~~~~~~~~~~~~~~~~~~~~~~~~~~
/home/ioan/.plenv/versions/mm-perl/lib/5.32.1/x86_64-linux/CORE/zaphod32_hash.h:88:3: note: expanded from macro 'ZAPHOD32_SCRAMBLE32'
} STMT_END
  ^~~~~~~~
/home/ioan/.plenv/versions/mm-perl/lib/5.32.1/x86_64-linux/CORE/perl.h:667:21: note: expanded from macro 'STMT_END'
#   define STMT_END     )
                        ^
In file included from lib/Syntax/Keyword/Try.xs:7:
In file included from /home/ioan/.plenv/versions/mm-perl/lib/5.32.1/x86_64-linux/CORE/perl.h:3921:
In file included from /home/ioan/.plenv/versions/mm-perl/lib/5.32.1/x86_64-linux/CORE/hv.h:663:
In file included from /home/ioan/.plenv/versions/mm-perl/lib/5.32.1/x86_64-linux/CORE/hv_func.h:35:
In file included from /home/ioan/.plenv/versions/mm-perl/lib/5.32.1/x86_64-linux/CORE/sbox32_hash.h:4:
/home/ioan/.plenv/versions/mm-perl/lib/5.32.1/x86_64-linux/CORE/zaphod32_hash.h:164:5: warning: '(' and '{' tokens introducing statement expression appear in different macro expansion contexts [-Wcompound-token-split-by-macro]
    ZAPHOD32_SCRAMBLE32(state[2],0x9c5cc4e9);
    ^~~~~~~~~~~~~~~~~~~~~~~~~~~~~~~~~~~~~~~~
/home/ioan/.plenv/versions/mm-perl/lib/5.32.1/x86_64-linux/CORE/zaphod32_hash.h:80:38: note: expanded from macro 'ZAPHOD32_SCRAMBLE32'
#define ZAPHOD32_SCRAMBLE32(v,prime) STMT_START {  \
                                     ^~~~~~~~~~
/home/ioan/.plenv/versions/mm-perl/lib/5.32.1/x86_64-linux/CORE/perl.h:666:29: note: expanded from macro 'STMT_START'
#   define STMT_START   (void)( /* gcc supports "({ STATEMENTS; })" */
                              ^
/home/ioan/.plenv/versions/mm-perl/lib/5.32.1/x86_64-linux/CORE/zaphod32_hash.h:164:5: note: '{' token is here
    ZAPHOD32_SCRAMBLE32(state[2],0x9c5cc4e9);
    ^~~~~~~~~~~~~~~~~~~~~~~~~~~~~~~~~~~~~~~~
/home/ioan/.plenv/versions/mm-perl/lib/5.32.1/x86_64-linux/CORE/zaphod32_hash.h:80:49: note: expanded from macro 'ZAPHOD32_SCRAMBLE32'
#define ZAPHOD32_SCRAMBLE32(v,prime) STMT_START {  \
                                                ^
/home/ioan/.plenv/versions/mm-perl/lib/5.32.1/x86_64-linux/CORE/zaphod32_hash.h:164:5: warning: '}' and ')' tokens terminating statement expression appear in different macro expansion contexts [-Wcompound-token-split-by-macro]
    ZAPHOD32_SCRAMBLE32(state[2],0x9c5cc4e9);
    ^~~~~~~~~~~~~~~~~~~~~~~~~~~~~~~~~~~~~~~~
/home/ioan/.plenv/versions/mm-perl/lib/5.32.1/x86_64-linux/CORE/zaphod32_hash.h:87:41: note: expanded from macro 'ZAPHOD32_SCRAMBLE32'
    v ^= (v>>23);                       \
                                        ^
/home/ioan/.plenv/versions/mm-perl/lib/5.32.1/x86_64-linux/CORE/zaphod32_hash.h:164:5: note: ')' token is here
    ZAPHOD32_SCRAMBLE32(state[2],0x9c5cc4e9);
    ^~~~~~~~~~~~~~~~~~~~~~~~~~~~~~~~~~~~~~~~
/home/ioan/.plenv/versions/mm-perl/lib/5.32.1/x86_64-linux/CORE/zaphod32_hash.h:88:3: note: expanded from macro 'ZAPHOD32_SCRAMBLE32'
} STMT_END
  ^~~~~~~~
/home/ioan/.plenv/versions/mm-perl/lib/5.32.1/x86_64-linux/CORE/perl.h:667:21: note: expanded from macro 'STMT_END'
#   define STMT_END     )
                        ^
In file included from lib/Syntax/Keyword/Try.xs:7:
In file included from /home/ioan/.plenv/versions/mm-perl/lib/5.32.1/x86_64-linux/CORE/perl.h:3921:
In file included from /home/ioan/.plenv/versions/mm-perl/lib/5.32.1/x86_64-linux/CORE/hv.h:663:
In file included from /home/ioan/.plenv/versions/mm-perl/lib/5.32.1/x86_64-linux/CORE/hv_func.h:35:
In file included from /home/ioan/.plenv/versions/mm-perl/lib/5.32.1/x86_64-linux/CORE/sbox32_hash.h:4:
/home/ioan/.plenv/versions/mm-perl/lib/5.32.1/x86_64-linux/CORE/zaphod32_hash.h:167:5: warning: '(' and '{' tokens introducing statement expression appear in different macro expansion contexts [-Wcompound-token-split-by-macro]
    ZAPHOD32_MIX(state[0],state[1],state[2],"ZAPHOD32 SEED-STATE B 1/5");
    ^~~~~~~~~~~~~~~~~~~~~~~~~~~~~~~~~~~~~~~~~~~~~~~~~~~~~~~~~~~~~~~~~~~~
/home/ioan/.plenv/versions/mm-perl/lib/5.32.1/x86_64-linux/CORE/zaphod32_hash.h:116:37: note: expanded from macro 'ZAPHOD32_MIX'
#define ZAPHOD32_MIX(v0,v1,v2,text) STMT_START {                              \
                                    ^~~~~~~~~~
/home/ioan/.plenv/versions/mm-perl/lib/5.32.1/x86_64-linux/CORE/perl.h:666:29: note: expanded from macro 'STMT_START'
#   define STMT_START   (void)( /* gcc supports "({ STATEMENTS; })" */
                              ^
/home/ioan/.plenv/versions/mm-perl/lib/5.32.1/x86_64-linux/CORE/zaphod32_hash.h:167:5: note: '{' token is here
    ZAPHOD32_MIX(state[0],state[1],state[2],"ZAPHOD32 SEED-STATE B 1/5");
    ^~~~~~~~~~~~~~~~~~~~~~~~~~~~~~~~~~~~~~~~~~~~~~~~~~~~~~~~~~~~~~~~~~~~
/home/ioan/.plenv/versions/mm-perl/lib/5.32.1/x86_64-linux/CORE/zaphod32_hash.h:116:48: note: expanded from macro 'ZAPHOD32_MIX'
#define ZAPHOD32_MIX(v0,v1,v2,text) STMT_START {                              \
                                               ^
/home/ioan/.plenv/versions/mm-perl/lib/5.32.1/x86_64-linux/CORE/zaphod32_hash.h:167:5: warning: '}' and ')' tokens terminating statement expression appear in different macro expansion contexts [-Wcompound-token-split-by-macro]
    ZAPHOD32_MIX(state[0],state[1],state[2],"ZAPHOD32 SEED-STATE B 1/5");
    ^~~~~~~~~~~~~~~~~~~~~~~~~~~~~~~~~~~~~~~~~~~~~~~~~~~~~~~~~~~~~~~~~~~~
/home/ioan/.plenv/versions/mm-perl/lib/5.32.1/x86_64-linux/CORE/zaphod32_hash.h:124:32: note: expanded from macro 'ZAPHOD32_MIX'
    v2 = ROTR32(v2, 7) ^ v0;   \
                               ^
/home/ioan/.plenv/versions/mm-perl/lib/5.32.1/x86_64-linux/CORE/zaphod32_hash.h:167:5: note: ')' token is here
    ZAPHOD32_MIX(state[0],state[1],state[2],"ZAPHOD32 SEED-STATE B 1/5");
    ^~~~~~~~~~~~~~~~~~~~~~~~~~~~~~~~~~~~~~~~~~~~~~~~~~~~~~~~~~~~~~~~~~~~
/home/ioan/.plenv/versions/mm-perl/lib/5.32.1/x86_64-linux/CORE/zaphod32_hash.h:125:3: note: expanded from macro 'ZAPHOD32_MIX'
} STMT_END
  ^~~~~~~~
/home/ioan/.plenv/versions/mm-perl/lib/5.32.1/x86_64-linux/CORE/perl.h:667:21: note: expanded from macro 'STMT_END'
#   define STMT_END     )
                        ^
In file included from lib/Syntax/Keyword/Try.xs:7:
In file included from /home/ioan/.plenv/versions/mm-perl/lib/5.32.1/x86_64-linux/CORE/perl.h:3921:
In file included from /home/ioan/.plenv/versions/mm-perl/lib/5.32.1/x86_64-linux/CORE/hv.h:663:
In file included from /home/ioan/.plenv/versions/mm-perl/lib/5.32.1/x86_64-linux/CORE/hv_func.h:35:
In file included from /home/ioan/.plenv/versions/mm-perl/lib/5.32.1/x86_64-linux/CORE/sbox32_hash.h:4:
/home/ioan/.plenv/versions/mm-perl/lib/5.32.1/x86_64-linux/CORE/zaphod32_hash.h:168:5: warning: '(' and '{' tokens introducing statement expression appear in different macro expansion contexts [-Wcompound-token-split-by-macro]
    ZAPHOD32_MIX(state[0],state[1],state[2],"ZAPHOD32 SEED-STATE B 2/5");
    ^~~~~~~~~~~~~~~~~~~~~~~~~~~~~~~~~~~~~~~~~~~~~~~~~~~~~~~~~~~~~~~~~~~~
/home/ioan/.plenv/versions/mm-perl/lib/5.32.1/x86_64-linux/CORE/zaphod32_hash.h:116:37: note: expanded from macro 'ZAPHOD32_MIX'
#define ZAPHOD32_MIX(v0,v1,v2,text) STMT_START {                              \
                                    ^~~~~~~~~~
/home/ioan/.plenv/versions/mm-perl/lib/5.32.1/x86_64-linux/CORE/perl.h:666:29: note: expanded from macro 'STMT_START'
#   define STMT_START   (void)( /* gcc supports "({ STATEMENTS; })" */
                              ^
/home/ioan/.plenv/versions/mm-perl/lib/5.32.1/x86_64-linux/CORE/zaphod32_hash.h:168:5: note: '{' token is here
    ZAPHOD32_MIX(state[0],state[1],state[2],"ZAPHOD32 SEED-STATE B 2/5");
    ^~~~~~~~~~~~~~~~~~~~~~~~~~~~~~~~~~~~~~~~~~~~~~~~~~~~~~~~~~~~~~~~~~~~
/home/ioan/.plenv/versions/mm-perl/lib/5.32.1/x86_64-linux/CORE/zaphod32_hash.h:116:48: note: expanded from macro 'ZAPHOD32_MIX'
#define ZAPHOD32_MIX(v0,v1,v2,text) STMT_START {                              \
                                               ^
/home/ioan/.plenv/versions/mm-perl/lib/5.32.1/x86_64-linux/CORE/zaphod32_hash.h:168:5: warning: '}' and ')' tokens terminating statement expression appear in different macro expansion contexts [-Wcompound-token-split-by-macro]
    ZAPHOD32_MIX(state[0],state[1],state[2],"ZAPHOD32 SEED-STATE B 2/5");
    ^~~~~~~~~~~~~~~~~~~~~~~~~~~~~~~~~~~~~~~~~~~~~~~~~~~~~~~~~~~~~~~~~~~~
/home/ioan/.plenv/versions/mm-perl/lib/5.32.1/x86_64-linux/CORE/zaphod32_hash.h:124:32: note: expanded from macro 'ZAPHOD32_MIX'
    v2 = ROTR32(v2, 7) ^ v0;   \
                               ^
/home/ioan/.plenv/versions/mm-perl/lib/5.32.1/x86_64-linux/CORE/zaphod32_hash.h:168:5: note: ')' token is here
    ZAPHOD32_MIX(state[0],state[1],state[2],"ZAPHOD32 SEED-STATE B 2/5");
    ^~~~~~~~~~~~~~~~~~~~~~~~~~~~~~~~~~~~~~~~~~~~~~~~~~~~~~~~~~~~~~~~~~~~
/home/ioan/.plenv/versions/mm-perl/lib/5.32.1/x86_64-linux/CORE/zaphod32_hash.h:125:3: note: expanded from macro 'ZAPHOD32_MIX'
} STMT_END
  ^~~~~~~~
/home/ioan/.plenv/versions/mm-perl/lib/5.32.1/x86_64-linux/CORE/perl.h:667:21: note: expanded from macro 'STMT_END'
#   define STMT_END     )
                        ^
In file included from lib/Syntax/Keyword/Try.xs:7:
In file included from /home/ioan/.plenv/versions/mm-perl/lib/5.32.1/x86_64-linux/CORE/perl.h:3921:
In file included from /home/ioan/.plenv/versions/mm-perl/lib/5.32.1/x86_64-linux/CORE/hv.h:663:
In file included from /home/ioan/.plenv/versions/mm-perl/lib/5.32.1/x86_64-linux/CORE/hv_func.h:35:
In file included from /home/ioan/.plenv/versions/mm-perl/lib/5.32.1/x86_64-linux/CORE/sbox32_hash.h:4:
/home/ioan/.plenv/versions/mm-perl/lib/5.32.1/x86_64-linux/CORE/zaphod32_hash.h:169:5: warning: '(' and '{' tokens introducing statement expression appear in different macro expansion contexts [-Wcompound-token-split-by-macro]
    ZAPHOD32_MIX(state[0],state[1],state[2],"ZAPHOD32 SEED-STATE B 3/5");
    ^~~~~~~~~~~~~~~~~~~~~~~~~~~~~~~~~~~~~~~~~~~~~~~~~~~~~~~~~~~~~~~~~~~~
/home/ioan/.plenv/versions/mm-perl/lib/5.32.1/x86_64-linux/CORE/zaphod32_hash.h:116:37: note: expanded from macro 'ZAPHOD32_MIX'
#define ZAPHOD32_MIX(v0,v1,v2,text) STMT_START {                              \
                                    ^~~~~~~~~~
/home/ioan/.plenv/versions/mm-perl/lib/5.32.1/x86_64-linux/CORE/perl.h:666:29: note: expanded from macro 'STMT_START'
#   define STMT_START   (void)( /* gcc supports "({ STATEMENTS; })" */
                              ^
/home/ioan/.plenv/versions/mm-perl/lib/5.32.1/x86_64-linux/CORE/zaphod32_hash.h:169:5: note: '{' token is here
    ZAPHOD32_MIX(state[0],state[1],state[2],"ZAPHOD32 SEED-STATE B 3/5");
    ^~~~~~~~~~~~~~~~~~~~~~~~~~~~~~~~~~~~~~~~~~~~~~~~~~~~~~~~~~~~~~~~~~~~
/home/ioan/.plenv/versions/mm-perl/lib/5.32.1/x86_64-linux/CORE/zaphod32_hash.h:116:48: note: expanded from macro 'ZAPHOD32_MIX'
#define ZAPHOD32_MIX(v0,v1,v2,text) STMT_START {                              \
                                               ^
/home/ioan/.plenv/versions/mm-perl/lib/5.32.1/x86_64-linux/CORE/zaphod32_hash.h:169:5: warning: '}' and ')' tokens terminating statement expression appear in different macro expansion contexts [-Wcompound-token-split-by-macro]
    ZAPHOD32_MIX(state[0],state[1],state[2],"ZAPHOD32 SEED-STATE B 3/5");
    ^~~~~~~~~~~~~~~~~~~~~~~~~~~~~~~~~~~~~~~~~~~~~~~~~~~~~~~~~~~~~~~~~~~~
/home/ioan/.plenv/versions/mm-perl/lib/5.32.1/x86_64-linux/CORE/zaphod32_hash.h:124:32: note: expanded from macro 'ZAPHOD32_MIX'
    v2 = ROTR32(v2, 7) ^ v0;   \
                               ^
/home/ioan/.plenv/versions/mm-perl/lib/5.32.1/x86_64-linux/CORE/zaphod32_hash.h:169:5: note: ')' token is here
    ZAPHOD32_MIX(state[0],state[1],state[2],"ZAPHOD32 SEED-STATE B 3/5");
    ^~~~~~~~~~~~~~~~~~~~~~~~~~~~~~~~~~~~~~~~~~~~~~~~~~~~~~~~~~~~~~~~~~~~
/home/ioan/.plenv/versions/mm-perl/lib/5.32.1/x86_64-linux/CORE/zaphod32_hash.h:125:3: note: expanded from macro 'ZAPHOD32_MIX'
} STMT_END
  ^~~~~~~~
/home/ioan/.plenv/versions/mm-perl/lib/5.32.1/x86_64-linux/CORE/perl.h:667:21: note: expanded from macro 'STMT_END'
#   define STMT_END     )
                        ^
In file included from lib/Syntax/Keyword/Try.xs:7:
In file included from /home/ioan/.plenv/versions/mm-perl/lib/5.32.1/x86_64-linux/CORE/perl.h:3921:
In file included from /home/ioan/.plenv/versions/mm-perl/lib/5.32.1/x86_64-linux/CORE/hv.h:663:
In file included from /home/ioan/.plenv/versions/mm-perl/lib/5.32.1/x86_64-linux/CORE/hv_func.h:35:
In file included from /home/ioan/.plenv/versions/mm-perl/lib/5.32.1/x86_64-linux/CORE/sbox32_hash.h:4:
/home/ioan/.plenv/versions/mm-perl/lib/5.32.1/x86_64-linux/CORE/zaphod32_hash.h:170:5: warning: '(' and '{' tokens introducing statement expression appear in different macro expansion contexts [-Wcompound-token-split-by-macro]
    ZAPHOD32_MIX(state[0],state[1],state[2],"ZAPHOD32 SEED-STATE B 4/5");
    ^~~~~~~~~~~~~~~~~~~~~~~~~~~~~~~~~~~~~~~~~~~~~~~~~~~~~~~~~~~~~~~~~~~~
/home/ioan/.plenv/versions/mm-perl/lib/5.32.1/x86_64-linux/CORE/zaphod32_hash.h:116:37: note: expanded from macro 'ZAPHOD32_MIX'
#define ZAPHOD32_MIX(v0,v1,v2,text) STMT_START {                              \
                                    ^~~~~~~~~~
/home/ioan/.plenv/versions/mm-perl/lib/5.32.1/x86_64-linux/CORE/perl.h:666:29: note: expanded from macro 'STMT_START'
#   define STMT_START   (void)( /* gcc supports "({ STATEMENTS; })" */
                              ^
/home/ioan/.plenv/versions/mm-perl/lib/5.32.1/x86_64-linux/CORE/zaphod32_hash.h:170:5: note: '{' token is here
    ZAPHOD32_MIX(state[0],state[1],state[2],"ZAPHOD32 SEED-STATE B 4/5");
    ^~~~~~~~~~~~~~~~~~~~~~~~~~~~~~~~~~~~~~~~~~~~~~~~~~~~~~~~~~~~~~~~~~~~
/home/ioan/.plenv/versions/mm-perl/lib/5.32.1/x86_64-linux/CORE/zaphod32_hash.h:116:48: note: expanded from macro 'ZAPHOD32_MIX'
#define ZAPHOD32_MIX(v0,v1,v2,text) STMT_START {                              \
                                               ^
/home/ioan/.plenv/versions/mm-perl/lib/5.32.1/x86_64-linux/CORE/zaphod32_hash.h:170:5: warning: '}' and ')' tokens terminating statement expression appear in different macro expansion contexts [-Wcompound-token-split-by-macro]
    ZAPHOD32_MIX(state[0],state[1],state[2],"ZAPHOD32 SEED-STATE B 4/5");
    ^~~~~~~~~~~~~~~~~~~~~~~~~~~~~~~~~~~~~~~~~~~~~~~~~~~~~~~~~~~~~~~~~~~~
/home/ioan/.plenv/versions/mm-perl/lib/5.32.1/x86_64-linux/CORE/zaphod32_hash.h:124:32: note: expanded from macro 'ZAPHOD32_MIX'
    v2 = ROTR32(v2, 7) ^ v0;   \
                               ^
/home/ioan/.plenv/versions/mm-perl/lib/5.32.1/x86_64-linux/CORE/zaphod32_hash.h:170:5: note: ')' token is here
    ZAPHOD32_MIX(state[0],state[1],state[2],"ZAPHOD32 SEED-STATE B 4/5");
    ^~~~~~~~~~~~~~~~~~~~~~~~~~~~~~~~~~~~~~~~~~~~~~~~~~~~~~~~~~~~~~~~~~~~
/home/ioan/.plenv/versions/mm-perl/lib/5.32.1/x86_64-linux/CORE/zaphod32_hash.h:125:3: note: expanded from macro 'ZAPHOD32_MIX'
} STMT_END
  ^~~~~~~~
/home/ioan/.plenv/versions/mm-perl/lib/5.32.1/x86_64-linux/CORE/perl.h:667:21: note: expanded from macro 'STMT_END'
#   define STMT_END     )
                        ^
In file included from lib/Syntax/Keyword/Try.xs:7:
In file included from /home/ioan/.plenv/versions/mm-perl/lib/5.32.1/x86_64-linux/CORE/perl.h:3921:
In file included from /home/ioan/.plenv/versions/mm-perl/lib/5.32.1/x86_64-linux/CORE/hv.h:663:
In file included from /home/ioan/.plenv/versions/mm-perl/lib/5.32.1/x86_64-linux/CORE/hv_func.h:35:
In file included from /home/ioan/.plenv/versions/mm-perl/lib/5.32.1/x86_64-linux/CORE/sbox32_hash.h:4:
/home/ioan/.plenv/versions/mm-perl/lib/5.32.1/x86_64-linux/CORE/zaphod32_hash.h:171:5: warning: '(' and '{' tokens introducing statement expression appear in different macro expansion contexts [-Wcompound-token-split-by-macro]
    ZAPHOD32_MIX(state[0],state[1],state[2],"ZAPHOD32 SEED-STATE B 5/5");
    ^~~~~~~~~~~~~~~~~~~~~~~~~~~~~~~~~~~~~~~~~~~~~~~~~~~~~~~~~~~~~~~~~~~~
/home/ioan/.plenv/versions/mm-perl/lib/5.32.1/x86_64-linux/CORE/zaphod32_hash.h:116:37: note: expanded from macro 'ZAPHOD32_MIX'
#define ZAPHOD32_MIX(v0,v1,v2,text) STMT_START {                              \
                                    ^~~~~~~~~~
/home/ioan/.plenv/versions/mm-perl/lib/5.32.1/x86_64-linux/CORE/perl.h:666:29: note: expanded from macro 'STMT_START'
#   define STMT_START   (void)( /* gcc supports "({ STATEMENTS; })" */
                              ^
/home/ioan/.plenv/versions/mm-perl/lib/5.32.1/x86_64-linux/CORE/zaphod32_hash.h:171:5: note: '{' token is here
    ZAPHOD32_MIX(state[0],state[1],state[2],"ZAPHOD32 SEED-STATE B 5/5");
    ^~~~~~~~~~~~~~~~~~~~~~~~~~~~~~~~~~~~~~~~~~~~~~~~~~~~~~~~~~~~~~~~~~~~
/home/ioan/.plenv/versions/mm-perl/lib/5.32.1/x86_64-linux/CORE/zaphod32_hash.h:116:48: note: expanded from macro 'ZAPHOD32_MIX'
#define ZAPHOD32_MIX(v0,v1,v2,text) STMT_START {                              \
                                               ^
/home/ioan/.plenv/versions/mm-perl/lib/5.32.1/x86_64-linux/CORE/zaphod32_hash.h:171:5: warning: '}' and ')' tokens terminating statement expression appear in different macro expansion contexts [-Wcompound-token-split-by-macro]
    ZAPHOD32_MIX(state[0],state[1],state[2],"ZAPHOD32 SEED-STATE B 5/5");
    ^~~~~~~~~~~~~~~~~~~~~~~~~~~~~~~~~~~~~~~~~~~~~~~~~~~~~~~~~~~~~~~~~~~~
/home/ioan/.plenv/versions/mm-perl/lib/5.32.1/x86_64-linux/CORE/zaphod32_hash.h:124:32: note: expanded from macro 'ZAPHOD32_MIX'
    v2 = ROTR32(v2, 7) ^ v0;   \
                               ^
/home/ioan/.plenv/versions/mm-perl/lib/5.32.1/x86_64-linux/CORE/zaphod32_hash.h:171:5: note: ')' token is here
    ZAPHOD32_MIX(state[0],state[1],state[2],"ZAPHOD32 SEED-STATE B 5/5");
    ^~~~~~~~~~~~~~~~~~~~~~~~~~~~~~~~~~~~~~~~~~~~~~~~~~~~~~~~~~~~~~~~~~~~
/home/ioan/.plenv/versions/mm-perl/lib/5.32.1/x86_64-linux/CORE/zaphod32_hash.h:125:3: note: expanded from macro 'ZAPHOD32_MIX'
} STMT_END
  ^~~~~~~~
/home/ioan/.plenv/versions/mm-perl/lib/5.32.1/x86_64-linux/CORE/perl.h:667:21: note: expanded from macro 'STMT_END'
#   define STMT_END     )
                        ^
In file included from lib/Syntax/Keyword/Try.xs:7:
In file included from /home/ioan/.plenv/versions/mm-perl/lib/5.32.1/x86_64-linux/CORE/perl.h:3921:
In file included from /home/ioan/.plenv/versions/mm-perl/lib/5.32.1/x86_64-linux/CORE/hv.h:663:
In file included from /home/ioan/.plenv/versions/mm-perl/lib/5.32.1/x86_64-linux/CORE/hv_func.h:35:
In file included from /home/ioan/.plenv/versions/mm-perl/lib/5.32.1/x86_64-linux/CORE/sbox32_hash.h:4:
/home/ioan/.plenv/versions/mm-perl/lib/5.32.1/x86_64-linux/CORE/zaphod32_hash.h:247:13: warning: '(' and '{' tokens introducing statement expression appear in different macro expansion contexts [-Wcompound-token-split-by-macro]
            ZAPHOD32_MIX(v0,v1,v2,"MIX 2-WORDS A");
            ^~~~~~~~~~~~~~~~~~~~~~~~~~~~~~~~~~~~~~
/home/ioan/.plenv/versions/mm-perl/lib/5.32.1/x86_64-linux/CORE/zaphod32_hash.h:116:37: note: expanded from macro 'ZAPHOD32_MIX'
#define ZAPHOD32_MIX(v0,v1,v2,text) STMT_START {                              \
                                    ^~~~~~~~~~
/home/ioan/.plenv/versions/mm-perl/lib/5.32.1/x86_64-linux/CORE/perl.h:666:29: note: expanded from macro 'STMT_START'
#   define STMT_START   (void)( /* gcc supports "({ STATEMENTS; })" */
                              ^
/home/ioan/.plenv/versions/mm-perl/lib/5.32.1/x86_64-linux/CORE/zaphod32_hash.h:247:13: note: '{' token is here
            ZAPHOD32_MIX(v0,v1,v2,"MIX 2-WORDS A");
            ^~~~~~~~~~~~~~~~~~~~~~~~~~~~~~~~~~~~~~
/home/ioan/.plenv/versions/mm-perl/lib/5.32.1/x86_64-linux/CORE/zaphod32_hash.h:116:48: note: expanded from macro 'ZAPHOD32_MIX'
#define ZAPHOD32_MIX(v0,v1,v2,text) STMT_START {                              \
                                               ^
/home/ioan/.plenv/versions/mm-perl/lib/5.32.1/x86_64-linux/CORE/zaphod32_hash.h:247:13: warning: '}' and ')' tokens terminating statement expression appear in different macro expansion contexts [-Wcompound-token-split-by-macro]
            ZAPHOD32_MIX(v0,v1,v2,"MIX 2-WORDS A");
            ^~~~~~~~~~~~~~~~~~~~~~~~~~~~~~~~~~~~~~
/home/ioan/.plenv/versions/mm-perl/lib/5.32.1/x86_64-linux/CORE/zaphod32_hash.h:124:32: note: expanded from macro 'ZAPHOD32_MIX'
    v2 = ROTR32(v2, 7) ^ v0;   \
                               ^
/home/ioan/.plenv/versions/mm-perl/lib/5.32.1/x86_64-linux/CORE/zaphod32_hash.h:247:13: note: ')' token is here
            ZAPHOD32_MIX(v0,v1,v2,"MIX 2-WORDS A");
            ^~~~~~~~~~~~~~~~~~~~~~~~~~~~~~~~~~~~~~
/home/ioan/.plenv/versions/mm-perl/lib/5.32.1/x86_64-linux/CORE/zaphod32_hash.h:125:3: note: expanded from macro 'ZAPHOD32_MIX'
} STMT_END
  ^~~~~~~~
/home/ioan/.plenv/versions/mm-perl/lib/5.32.1/x86_64-linux/CORE/perl.h:667:21: note: expanded from macro 'STMT_END'
#   define STMT_END     )
                        ^
In file included from lib/Syntax/Keyword/Try.xs:7:
In file included from /home/ioan/.plenv/versions/mm-perl/lib/5.32.1/x86_64-linux/CORE/perl.h:3921:
In file included from /home/ioan/.plenv/versions/mm-perl/lib/5.32.1/x86_64-linux/CORE/hv.h:663:
In file included from /home/ioan/.plenv/versions/mm-perl/lib/5.32.1/x86_64-linux/CORE/hv_func.h:35:
In file included from /home/ioan/.plenv/versions/mm-perl/lib/5.32.1/x86_64-linux/CORE/sbox32_hash.h:4:
/home/ioan/.plenv/versions/mm-perl/lib/5.32.1/x86_64-linux/CORE/zaphod32_hash.h:268:5: warning: '(' and '{' tokens introducing statement expression appear in different macro expansion contexts [-Wcompound-token-split-by-macro]
    ZAPHOD32_FINALIZE(v0,v1,v2);
    ^~~~~~~~~~~~~~~~~~~~~~~~~~~
/home/ioan/.plenv/versions/mm-perl/lib/5.32.1/x86_64-linux/CORE/zaphod32_hash.h:90:37: note: expanded from macro 'ZAPHOD32_FINALIZE'
#define ZAPHOD32_FINALIZE(v0,v1,v2) STMT_START {          \
                                    ^~~~~~~~~~
/home/ioan/.plenv/versions/mm-perl/lib/5.32.1/x86_64-linux/CORE/perl.h:666:29: note: expanded from macro 'STMT_START'
#   define STMT_START   (void)( /* gcc supports "({ STATEMENTS; })" */
                              ^
/home/ioan/.plenv/versions/mm-perl/lib/5.32.1/x86_64-linux/CORE/zaphod32_hash.h:268:5: note: '{' token is here
    ZAPHOD32_FINALIZE(v0,v1,v2);
    ^~~~~~~~~~~~~~~~~~~~~~~~~~~
/home/ioan/.plenv/versions/mm-perl/lib/5.32.1/x86_64-linux/CORE/zaphod32_hash.h:90:48: note: expanded from macro 'ZAPHOD32_FINALIZE'
#define ZAPHOD32_FINALIZE(v0,v1,v2) STMT_START {          \
                                               ^
/home/ioan/.plenv/versions/mm-perl/lib/5.32.1/x86_64-linux/CORE/zaphod32_hash.h:268:5: warning: '}' and ')' tokens terminating statement expression appear in different macro expansion contexts [-Wcompound-token-split-by-macro]
    ZAPHOD32_FINALIZE(v0,v1,v2);
    ^~~~~~~~~~~~~~~~~~~~~~~~~~~
/home/ioan/.plenv/versions/mm-perl/lib/5.32.1/x86_64-linux/CORE/zaphod32_hash.h:113:36: note: expanded from macro 'ZAPHOD32_FINALIZE'
    v1 = ROTL32(v1, 17);           \
                                   ^
/home/ioan/.plenv/versions/mm-perl/lib/5.32.1/x86_64-linux/CORE/zaphod32_hash.h:268:5: note: ')' token is here
    ZAPHOD32_FINALIZE(v0,v1,v2);
    ^~~~~~~~~~~~~~~~~~~~~~~~~~~
/home/ioan/.plenv/versions/mm-perl/lib/5.32.1/x86_64-linux/CORE/zaphod32_hash.h:114:3: note: expanded from macro 'ZAPHOD32_FINALIZE'
} STMT_END
  ^~~~~~~~
/home/ioan/.plenv/versions/mm-perl/lib/5.32.1/x86_64-linux/CORE/perl.h:667:21: note: expanded from macro 'STMT_END'
#   define STMT_END     )
                        ^
In file included from lib/Syntax/Keyword/Try.xs:7:
In file included from /home/ioan/.plenv/versions/mm-perl/lib/5.32.1/x86_64-linux/CORE/perl.h:3921:
In file included from /home/ioan/.plenv/versions/mm-perl/lib/5.32.1/x86_64-linux/CORE/hv.h:663:
In file included from /home/ioan/.plenv/versions/mm-perl/lib/5.32.1/x86_64-linux/CORE/hv_func.h:35:
/home/ioan/.plenv/versions/mm-perl/lib/5.32.1/x86_64-linux/CORE/sbox32_hash.h:1448:9: warning: '(' and '{' tokens introducing statement expression appear in different macro expansion contexts [-Wcompound-token-split-by-macro]
        SBOX32_MIX3(s0,s1,s2,"SEED STATE");
        ^~~~~~~~~~~~~~~~~~~~~~~~~~~~~~~~~~
/home/ioan/.plenv/versions/mm-perl/lib/5.32.1/x86_64-linux/CORE/sbox32_hash.h:99:36: note: expanded from macro 'SBOX32_MIX3'
#define SBOX32_MIX3(v0,v1,v2,text) STMT_START {                               \
                                   ^~~~~~~~~~
/home/ioan/.plenv/versions/mm-perl/lib/5.32.1/x86_64-linux/CORE/perl.h:666:29: note: expanded from macro 'STMT_START'
#   define STMT_START   (void)( /* gcc supports "({ STATEMENTS; })" */
                              ^
/home/ioan/.plenv/versions/mm-perl/lib/5.32.1/x86_64-linux/CORE/sbox32_hash.h:1448:9: note: '{' token is here
        SBOX32_MIX3(s0,s1,s2,"SEED STATE");
        ^~~~~~~~~~~~~~~~~~~~~~~~~~~~~~~~~~
/home/ioan/.plenv/versions/mm-perl/lib/5.32.1/x86_64-linux/CORE/sbox32_hash.h:99:47: note: expanded from macro 'SBOX32_MIX3'
#define SBOX32_MIX3(v0,v1,v2,text) STMT_START {                               \
                                              ^
/home/ioan/.plenv/versions/mm-perl/lib/5.32.1/x86_64-linux/CORE/sbox32_hash.h:1448:9: warning: '}' and ')' tokens terminating statement expression appear in different macro expansion contexts [-Wcompound-token-split-by-macro]
        SBOX32_MIX3(s0,s1,s2,"SEED STATE");
        ^~~~~~~~~~~~~~~~~~~~~~~~~~~~~~~~~~
/home/ioan/.plenv/versions/mm-perl/lib/5.32.1/x86_64-linux/CORE/sbox32_hash.h:107:32: note: expanded from macro 'SBOX32_MIX3'
    v2 = ROTR32(v2, 7) ^ v0;   \
                               ^
/home/ioan/.plenv/versions/mm-perl/lib/5.32.1/x86_64-linux/CORE/sbox32_hash.h:1448:9: note: ')' token is here
        SBOX32_MIX3(s0,s1,s2,"SEED STATE");
        ^~~~~~~~~~~~~~~~~~~~~~~~~~~~~~~~~~
/home/ioan/.plenv/versions/mm-perl/lib/5.32.1/x86_64-linux/CORE/sbox32_hash.h:108:3: note: expanded from macro 'SBOX32_MIX3'
} STMT_END
  ^~~~~~~~
/home/ioan/.plenv/versions/mm-perl/lib/5.32.1/x86_64-linux/CORE/perl.h:667:21: note: expanded from macro 'STMT_END'
#   define STMT_END     )
                        ^
In file included from lib/Syntax/Keyword/Try.xs:7:
In file included from /home/ioan/.plenv/versions/mm-perl/lib/5.32.1/x86_64-linux/CORE/perl.h:3921:
In file included from /home/ioan/.plenv/versions/mm-perl/lib/5.32.1/x86_64-linux/CORE/hv.h:663:
In file included from /home/ioan/.plenv/versions/mm-perl/lib/5.32.1/x86_64-linux/CORE/hv_func.h:35:
/home/ioan/.plenv/versions/mm-perl/lib/5.32.1/x86_64-linux/CORE/sbox32_hash.h:1453:13: warning: '(' and '{' tokens introducing statement expression appear in different macro expansion contexts [-Wcompound-token-split-by-macro]
            XORSHIFT96_set(*state_cursor,s0,s1,s2,t1);
            ^~~~~~~~~~~~~~~~~~~~~~~~~~~~~~~~~~~~~~~~~
/home/ioan/.plenv/versions/mm-perl/lib/5.32.1/x86_64-linux/CORE/sbox32_hash.h:1393:35: note: expanded from macro 'XORSHIFT96_set'
#define XORSHIFT96_set(r,x,y,z,t) STMT_START {          \
                                  ^~~~~~~~~~
/home/ioan/.plenv/versions/mm-perl/lib/5.32.1/x86_64-linux/CORE/perl.h:666:29: note: expanded from macro 'STMT_START'
#   define STMT_START   (void)( /* gcc supports "({ STATEMENTS; })" */
                              ^
/home/ioan/.plenv/versions/mm-perl/lib/5.32.1/x86_64-linux/CORE/sbox32_hash.h:1453:13: note: '{' token is here
            XORSHIFT96_set(*state_cursor,s0,s1,s2,t1);
            ^~~~~~~~~~~~~~~~~~~~~~~~~~~~~~~~~~~~~~~~~
/home/ioan/.plenv/versions/mm-perl/lib/5.32.1/x86_64-linux/CORE/sbox32_hash.h:1393:46: note: expanded from macro 'XORSHIFT96_set'
#define XORSHIFT96_set(r,x,y,z,t) STMT_START {          \
                                             ^
/home/ioan/.plenv/versions/mm-perl/lib/5.32.1/x86_64-linux/CORE/sbox32_hash.h:1453:13: warning: '}' and ')' tokens terminating statement expression appear in different macro expansion contexts [-Wcompound-token-split-by-macro]
            XORSHIFT96_set(*state_cursor,s0,s1,s2,t1);
            ^~~~~~~~~~~~~~~~~~~~~~~~~~~~~~~~~~~~~~~~~
/home/ioan/.plenv/versions/mm-perl/lib/5.32.1/x86_64-linux/CORE/sbox32_hash.h:1396:57: note: expanded from macro 'XORSHIFT96_set'
    r = z = (z ^ ( z >> 26 ) ) ^ ( t ^ ( t >> 5 ) );    \
                                                        ^
/home/ioan/.plenv/versions/mm-perl/lib/5.32.1/x86_64-linux/CORE/sbox32_hash.h:1453:13: note: ')' token is here
            XORSHIFT96_set(*state_cursor,s0,s1,s2,t1);
            ^~~~~~~~~~~~~~~~~~~~~~~~~~~~~~~~~~~~~~~~~
/home/ioan/.plenv/versions/mm-perl/lib/5.32.1/x86_64-linux/CORE/sbox32_hash.h:1397:3: note: expanded from macro 'XORSHIFT96_set'
} STMT_END
  ^~~~~~~~
/home/ioan/.plenv/versions/mm-perl/lib/5.32.1/x86_64-linux/CORE/perl.h:667:21: note: expanded from macro 'STMT_END'
#   define STMT_END     )
                        ^
In file included from lib/Syntax/Keyword/Try.xs:7:
In file included from /home/ioan/.plenv/versions/mm-perl/lib/5.32.1/x86_64-linux/CORE/perl.h:3921:
In file included from /home/ioan/.plenv/versions/mm-perl/lib/5.32.1/x86_64-linux/CORE/hv.h:663:
In file included from /home/ioan/.plenv/versions/mm-perl/lib/5.32.1/x86_64-linux/CORE/hv_func.h:35:
/home/ioan/.plenv/versions/mm-perl/lib/5.32.1/x86_64-linux/CORE/sbox32_hash.h:1456:5: warning: '(' and '{' tokens introducing statement expression appear in different macro expansion contexts [-Wcompound-token-split-by-macro]
    XORSHIFT96_set(*state,s0,s1,s2,t2);
    ^~~~~~~~~~~~~~~~~~~~~~~~~~~~~~~~~~
/home/ioan/.plenv/versions/mm-perl/lib/5.32.1/x86_64-linux/CORE/sbox32_hash.h:1393:35: note: expanded from macro 'XORSHIFT96_set'
#define XORSHIFT96_set(r,x,y,z,t) STMT_START {          \
                                  ^~~~~~~~~~
/home/ioan/.plenv/versions/mm-perl/lib/5.32.1/x86_64-linux/CORE/perl.h:666:29: note: expanded from macro 'STMT_START'
#   define STMT_START   (void)( /* gcc supports "({ STATEMENTS; })" */
                              ^
/home/ioan/.plenv/versions/mm-perl/lib/5.32.1/x86_64-linux/CORE/sbox32_hash.h:1456:5: note: '{' token is here
    XORSHIFT96_set(*state,s0,s1,s2,t2);
    ^~~~~~~~~~~~~~~~~~~~~~~~~~~~~~~~~~
/home/ioan/.plenv/versions/mm-perl/lib/5.32.1/x86_64-linux/CORE/sbox32_hash.h:1393:46: note: expanded from macro 'XORSHIFT96_set'
#define XORSHIFT96_set(r,x,y,z,t) STMT_START {          \
                                             ^
/home/ioan/.plenv/versions/mm-perl/lib/5.32.1/x86_64-linux/CORE/sbox32_hash.h:1456:5: warning: '}' and ')' tokens terminating statement expression appear in different macro expansion contexts [-Wcompound-token-split-by-macro]
    XORSHIFT96_set(*state,s0,s1,s2,t2);
    ^~~~~~~~~~~~~~~~~~~~~~~~~~~~~~~~~~
/home/ioan/.plenv/versions/mm-perl/lib/5.32.1/x86_64-linux/CORE/sbox32_hash.h:1396:57: note: expanded from macro 'XORSHIFT96_set'
    r = z = (z ^ ( z >> 26 ) ) ^ ( t ^ ( t >> 5 ) );    \
                                                        ^
/home/ioan/.plenv/versions/mm-perl/lib/5.32.1/x86_64-linux/CORE/sbox32_hash.h:1456:5: note: ')' token is here
    XORSHIFT96_set(*state,s0,s1,s2,t2);
    ^~~~~~~~~~~~~~~~~~~~~~~~~~~~~~~~~~
/home/ioan/.plenv/versions/mm-perl/lib/5.32.1/x86_64-linux/CORE/sbox32_hash.h:1397:3: note: expanded from macro 'XORSHIFT96_set'
} STMT_END
  ^~~~~~~~
/home/ioan/.plenv/versions/mm-perl/lib/5.32.1/x86_64-linux/CORE/perl.h:667:21: note: expanded from macro 'STMT_END'
#   define STMT_END     )
                        ^
In file included from lib/Syntax/Keyword/Try.xs:7:
In file included from /home/ioan/.plenv/versions/mm-perl/lib/5.32.1/x86_64-linux/CORE/perl.h:3921:
In file included from /home/ioan/.plenv/versions/mm-perl/lib/5.32.1/x86_64-linux/CORE/hv.h:663:
In file included from /home/ioan/.plenv/versions/mm-perl/lib/5.32.1/x86_64-linux/CORE/hv_func.h:35:
/home/ioan/.plenv/versions/mm-perl/lib/5.32.1/x86_64-linux/CORE/sbox32_hash.h:1482:9: warning: '(' and '{' tokens introducing statement expression appear in different macro expansion contexts [-Wcompound-token-split-by-macro]
        SBOX32_MIX4(s0,s1,s2,s3,"SEED STATE");
        ^~~~~~~~~~~~~~~~~~~~~~~~~~~~~~~~~~~~~
/home/ioan/.plenv/versions/mm-perl/lib/5.32.1/x86_64-linux/CORE/sbox32_hash.h:85:39: note: expanded from macro 'SBOX32_MIX4'
#define SBOX32_MIX4(v0,v1,v2,v3,text) STMT_START { \
                                      ^~~~~~~~~~
/home/ioan/.plenv/versions/mm-perl/lib/5.32.1/x86_64-linux/CORE/perl.h:666:29: note: expanded from macro 'STMT_START'
#   define STMT_START   (void)( /* gcc supports "({ STATEMENTS; })" */
                              ^
/home/ioan/.plenv/versions/mm-perl/lib/5.32.1/x86_64-linux/CORE/sbox32_hash.h:1482:9: note: '{' token is here
        SBOX32_MIX4(s0,s1,s2,s3,"SEED STATE");
        ^~~~~~~~~~~~~~~~~~~~~~~~~~~~~~~~~~~~~
/home/ioan/.plenv/versions/mm-perl/lib/5.32.1/x86_64-linux/CORE/sbox32_hash.h:85:50: note: expanded from macro 'SBOX32_MIX4'
#define SBOX32_MIX4(v0,v1,v2,v3,text) STMT_START { \
                                                 ^
/home/ioan/.plenv/versions/mm-perl/lib/5.32.1/x86_64-linux/CORE/sbox32_hash.h:1482:9: warning: '}' and ')' tokens terminating statement expression appear in different macro expansion contexts [-Wcompound-token-split-by-macro]
        SBOX32_MIX4(s0,s1,s2,s3,"SEED STATE");
        ^~~~~~~~~~~~~~~~~~~~~~~~~~~~~~~~~~~~~
/home/ioan/.plenv/versions/mm-perl/lib/5.32.1/x86_64-linux/CORE/sbox32_hash.h:96:37: note: expanded from macro 'SBOX32_MIX4'
        v2 = ROTL32(v2, 4) - v0;    \
                                    ^
/home/ioan/.plenv/versions/mm-perl/lib/5.32.1/x86_64-linux/CORE/sbox32_hash.h:1482:9: note: ')' token is here
        SBOX32_MIX4(s0,s1,s2,s3,"SEED STATE");
        ^~~~~~~~~~~~~~~~~~~~~~~~~~~~~~~~~~~~~
/home/ioan/.plenv/versions/mm-perl/lib/5.32.1/x86_64-linux/CORE/sbox32_hash.h:97:3: note: expanded from macro 'SBOX32_MIX4'
} STMT_END
  ^~~~~~~~
/home/ioan/.plenv/versions/mm-perl/lib/5.32.1/x86_64-linux/CORE/perl.h:667:21: note: expanded from macro 'STMT_END'
#   define STMT_END     )
                        ^
In file included from lib/Syntax/Keyword/Try.xs:7:
In file included from /home/ioan/.plenv/versions/mm-perl/lib/5.32.1/x86_64-linux/CORE/perl.h:3921:
In file included from /home/ioan/.plenv/versions/mm-perl/lib/5.32.1/x86_64-linux/CORE/hv.h:663:
In file included from /home/ioan/.plenv/versions/mm-perl/lib/5.32.1/x86_64-linux/CORE/hv_func.h:35:
/home/ioan/.plenv/versions/mm-perl/lib/5.32.1/x86_64-linux/CORE/sbox32_hash.h:1487:13: warning: '(' and '{' tokens introducing statement expression appear in different macro expansion contexts [-Wcompound-token-split-by-macro]
            XORSHIFT128_set(*state_cursor,s0,s1,s2,s3,t1);
            ^~~~~~~~~~~~~~~~~~~~~~~~~~~~~~~~~~~~~~~~~~~~~
/home/ioan/.plenv/versions/mm-perl/lib/5.32.1/x86_64-linux/CORE/sbox32_hash.h:1399:38: note: expanded from macro 'XORSHIFT128_set'
#define XORSHIFT128_set(r,x,y,z,w,t) STMT_START {       \
                                     ^~~~~~~~~~
/home/ioan/.plenv/versions/mm-perl/lib/5.32.1/x86_64-linux/CORE/perl.h:666:29: note: expanded from macro 'STMT_START'
#   define STMT_START   (void)( /* gcc supports "({ STATEMENTS; })" */
                              ^
/home/ioan/.plenv/versions/mm-perl/lib/5.32.1/x86_64-linux/CORE/sbox32_hash.h:1487:13: note: '{' token is here
            XORSHIFT128_set(*state_cursor,s0,s1,s2,s3,t1);
            ^~~~~~~~~~~~~~~~~~~~~~~~~~~~~~~~~~~~~~~~~~~~~
/home/ioan/.plenv/versions/mm-perl/lib/5.32.1/x86_64-linux/CORE/sbox32_hash.h:1399:49: note: expanded from macro 'XORSHIFT128_set'
#define XORSHIFT128_set(r,x,y,z,w,t) STMT_START {       \
                                                ^
/home/ioan/.plenv/versions/mm-perl/lib/5.32.1/x86_64-linux/CORE/sbox32_hash.h:1487:13: warning: '}' and ')' tokens terminating statement expression appear in different macro expansion contexts [-Wcompound-token-split-by-macro]
            XORSHIFT128_set(*state_cursor,s0,s1,s2,s3,t1);
            ^~~~~~~~~~~~~~~~~~~~~~~~~~~~~~~~~~~~~~~~~~~~~
/home/ioan/.plenv/versions/mm-perl/lib/5.32.1/x86_64-linux/CORE/sbox32_hash.h:1402:57: note: expanded from macro 'XORSHIFT128_set'
    r = w = ( w ^ ( w >> 29 ) ) ^ ( t ^ ( t >> 12 ) );  \
                                                        ^
/home/ioan/.plenv/versions/mm-perl/lib/5.32.1/x86_64-linux/CORE/sbox32_hash.h:1487:13: note: ')' token is here
            XORSHIFT128_set(*state_cursor,s0,s1,s2,s3,t1);
            ^~~~~~~~~~~~~~~~~~~~~~~~~~~~~~~~~~~~~~~~~~~~~
/home/ioan/.plenv/versions/mm-perl/lib/5.32.1/x86_64-linux/CORE/sbox32_hash.h:1403:3: note: expanded from macro 'XORSHIFT128_set'
} STMT_END
  ^~~~~~~~
/home/ioan/.plenv/versions/mm-perl/lib/5.32.1/x86_64-linux/CORE/perl.h:667:21: note: expanded from macro 'STMT_END'
#   define STMT_END     )
                        ^
In file included from lib/Syntax/Keyword/Try.xs:7:
In file included from /home/ioan/.plenv/versions/mm-perl/lib/5.32.1/x86_64-linux/CORE/perl.h:3921:
In file included from /home/ioan/.plenv/versions/mm-perl/lib/5.32.1/x86_64-linux/CORE/hv.h:663:
In file included from /home/ioan/.plenv/versions/mm-perl/lib/5.32.1/x86_64-linux/CORE/hv_func.h:35:
/home/ioan/.plenv/versions/mm-perl/lib/5.32.1/x86_64-linux/CORE/sbox32_hash.h:1490:5: warning: '(' and '{' tokens introducing statement expression appear in different macro expansion contexts [-Wcompound-token-split-by-macro]
    XORSHIFT128_set(*state,s0,s1,s2,s3,t2);
    ^~~~~~~~~~~~~~~~~~~~~~~~~~~~~~~~~~~~~~
/home/ioan/.plenv/versions/mm-perl/lib/5.32.1/x86_64-linux/CORE/sbox32_hash.h:1399:38: note: expanded from macro 'XORSHIFT128_set'
#define XORSHIFT128_set(r,x,y,z,w,t) STMT_START {       \
                                     ^~~~~~~~~~
/home/ioan/.plenv/versions/mm-perl/lib/5.32.1/x86_64-linux/CORE/perl.h:666:29: note: expanded from macro 'STMT_START'
#   define STMT_START   (void)( /* gcc supports "({ STATEMENTS; })" */
                              ^
/home/ioan/.plenv/versions/mm-perl/lib/5.32.1/x86_64-linux/CORE/sbox32_hash.h:1490:5: note: '{' token is here
    XORSHIFT128_set(*state,s0,s1,s2,s3,t2);
    ^~~~~~~~~~~~~~~~~~~~~~~~~~~~~~~~~~~~~~
/home/ioan/.plenv/versions/mm-perl/lib/5.32.1/x86_64-linux/CORE/sbox32_hash.h:1399:49: note: expanded from macro 'XORSHIFT128_set'
#define XORSHIFT128_set(r,x,y,z,w,t) STMT_START {       \
                                                ^
/home/ioan/.plenv/versions/mm-perl/lib/5.32.1/x86_64-linux/CORE/sbox32_hash.h:1490:5: warning: '}' and ')' tokens terminating statement expression appear in different macro expansion contexts [-Wcompound-token-split-by-macro]
    XORSHIFT128_set(*state,s0,s1,s2,s3,t2);
    ^~~~~~~~~~~~~~~~~~~~~~~~~~~~~~~~~~~~~~
/home/ioan/.plenv/versions/mm-perl/lib/5.32.1/x86_64-linux/CORE/sbox32_hash.h:1402:57: note: expanded from macro 'XORSHIFT128_set'
    r = w = ( w ^ ( w >> 29 ) ) ^ ( t ^ ( t >> 12 ) );  \
                                                        ^
/home/ioan/.plenv/versions/mm-perl/lib/5.32.1/x86_64-linux/CORE/sbox32_hash.h:1490:5: note: ')' token is here
    XORSHIFT128_set(*state,s0,s1,s2,s3,t2);
    ^~~~~~~~~~~~~~~~~~~~~~~~~~~~~~~~~~~~~~
/home/ioan/.plenv/versions/mm-perl/lib/5.32.1/x86_64-linux/CORE/sbox32_hash.h:1403:3: note: expanded from macro 'XORSHIFT128_set'
} STMT_END
  ^~~~~~~~
/home/ioan/.plenv/versions/mm-perl/lib/5.32.1/x86_64-linux/CORE/perl.h:667:21: note: expanded from macro 'STMT_END'
#   define STMT_END     )
                        ^
In file included from lib/Syntax/Keyword/Try.xs:7:
In file included from /home/ioan/.plenv/versions/mm-perl/lib/5.32.1/x86_64-linux/CORE/perl.h:3921:
In file included from /home/ioan/.plenv/versions/mm-perl/lib/5.32.1/x86_64-linux/CORE/hv.h:663:
In file included from /home/ioan/.plenv/versions/mm-perl/lib/5.32.1/x86_64-linux/CORE/hv_func.h:55:
/home/ioan/.plenv/versions/mm-perl/lib/5.32.1/x86_64-linux/CORE/stadtx_hash.h:113:5: warning: '(' and '{' tokens introducing statement expression appear in different macro expansion contexts [-Wcompound-token-split-by-macro]
    STADTX_SCRAMBLE64(state[0],UINT64_C(0x801178846e899d17));
    ^~~~~~~~~~~~~~~~~~~~~~~~~~~~~~~~~~~~~~~~~~~~~~~~~~~~~~~~
/home/ioan/.plenv/versions/mm-perl/lib/5.32.1/x86_64-linux/CORE/stadtx_hash.h:72:36: note: expanded from macro 'STADTX_SCRAMBLE64'
#define STADTX_SCRAMBLE64(v,prime) STMT_START {    \
                                   ^~~~~~~~~~
/home/ioan/.plenv/versions/mm-perl/lib/5.32.1/x86_64-linux/CORE/perl.h:666:29: note: expanded from macro 'STMT_START'
#   define STMT_START   (void)( /* gcc supports "({ STATEMENTS; })" */
                              ^
/home/ioan/.plenv/versions/mm-perl/lib/5.32.1/x86_64-linux/CORE/stadtx_hash.h:113:5: note: '{' token is here
    STADTX_SCRAMBLE64(state[0],UINT64_C(0x801178846e899d17));
    ^~~~~~~~~~~~~~~~~~~~~~~~~~~~~~~~~~~~~~~~~~~~~~~~~~~~~~~~
/home/ioan/.plenv/versions/mm-perl/lib/5.32.1/x86_64-linux/CORE/stadtx_hash.h:72:47: note: expanded from macro 'STADTX_SCRAMBLE64'
#define STADTX_SCRAMBLE64(v,prime) STMT_START {    \
                                              ^
/home/ioan/.plenv/versions/mm-perl/lib/5.32.1/x86_64-linux/CORE/stadtx_hash.h:113:5: warning: '}' and ')' tokens terminating statement expression appear in different macro expansion contexts [-Wcompound-token-split-by-macro]
    STADTX_SCRAMBLE64(state[0],UINT64_C(0x801178846e899d17));
    ^~~~~~~~~~~~~~~~~~~~~~~~~~~~~~~~~~~~~~~~~~~~~~~~~~~~~~~~
/home/ioan/.plenv/versions/mm-perl/lib/5.32.1/x86_64-linux/CORE/stadtx_hash.h:79:45: note: expanded from macro 'STADTX_SCRAMBLE64'
    v ^= (v >> 46);                         \
                                            ^
/home/ioan/.plenv/versions/mm-perl/lib/5.32.1/x86_64-linux/CORE/stadtx_hash.h:113:5: note: ')' token is here
    STADTX_SCRAMBLE64(state[0],UINT64_C(0x801178846e899d17));
    ^~~~~~~~~~~~~~~~~~~~~~~~~~~~~~~~~~~~~~~~~~~~~~~~~~~~~~~~
/home/ioan/.plenv/versions/mm-perl/lib/5.32.1/x86_64-linux/CORE/stadtx_hash.h:80:3: note: expanded from macro 'STADTX_SCRAMBLE64'
} STMT_END
  ^~~~~~~~
/home/ioan/.plenv/versions/mm-perl/lib/5.32.1/x86_64-linux/CORE/perl.h:667:21: note: expanded from macro 'STMT_END'
#   define STMT_END     )
                        ^
In file included from lib/Syntax/Keyword/Try.xs:7:
In file included from /home/ioan/.plenv/versions/mm-perl/lib/5.32.1/x86_64-linux/CORE/perl.h:3921:
In file included from /home/ioan/.plenv/versions/mm-perl/lib/5.32.1/x86_64-linux/CORE/hv.h:663:
In file included from /home/ioan/.plenv/versions/mm-perl/lib/5.32.1/x86_64-linux/CORE/hv_func.h:55:
/home/ioan/.plenv/versions/mm-perl/lib/5.32.1/x86_64-linux/CORE/stadtx_hash.h:114:5: warning: '(' and '{' tokens introducing statement expression appear in different macro expansion contexts [-Wcompound-token-split-by-macro]
    STADTX_SCRAMBLE64(state[0],UINT64_C(0xdd51e5d1c9a5a151));
    ^~~~~~~~~~~~~~~~~~~~~~~~~~~~~~~~~~~~~~~~~~~~~~~~~~~~~~~~
/home/ioan/.plenv/versions/mm-perl/lib/5.32.1/x86_64-linux/CORE/stadtx_hash.h:72:36: note: expanded from macro 'STADTX_SCRAMBLE64'
#define STADTX_SCRAMBLE64(v,prime) STMT_START {    \
                                   ^~~~~~~~~~
/home/ioan/.plenv/versions/mm-perl/lib/5.32.1/x86_64-linux/CORE/perl.h:666:29: note: expanded from macro 'STMT_START'
#   define STMT_START   (void)( /* gcc supports "({ STATEMENTS; })" */
                              ^
/home/ioan/.plenv/versions/mm-perl/lib/5.32.1/x86_64-linux/CORE/stadtx_hash.h:114:5: note: '{' token is here
    STADTX_SCRAMBLE64(state[0],UINT64_C(0xdd51e5d1c9a5a151));
    ^~~~~~~~~~~~~~~~~~~~~~~~~~~~~~~~~~~~~~~~~~~~~~~~~~~~~~~~
/home/ioan/.plenv/versions/mm-perl/lib/5.32.1/x86_64-linux/CORE/stadtx_hash.h:72:47: note: expanded from macro 'STADTX_SCRAMBLE64'
#define STADTX_SCRAMBLE64(v,prime) STMT_START {    \
                                              ^
/home/ioan/.plenv/versions/mm-perl/lib/5.32.1/x86_64-linux/CORE/stadtx_hash.h:114:5: warning: '}' and ')' tokens terminating statement expression appear in different macro expansion contexts [-Wcompound-token-split-by-macro]
    STADTX_SCRAMBLE64(state[0],UINT64_C(0xdd51e5d1c9a5a151));
    ^~~~~~~~~~~~~~~~~~~~~~~~~~~~~~~~~~~~~~~~~~~~~~~~~~~~~~~~
/home/ioan/.plenv/versions/mm-perl/lib/5.32.1/x86_64-linux/CORE/stadtx_hash.h:79:45: note: expanded from macro 'STADTX_SCRAMBLE64'
    v ^= (v >> 46);                         \
                                            ^
/home/ioan/.plenv/versions/mm-perl/lib/5.32.1/x86_64-linux/CORE/stadtx_hash.h:114:5: note: ')' token is here
    STADTX_SCRAMBLE64(state[0],UINT64_C(0xdd51e5d1c9a5a151));
    ^~~~~~~~~~~~~~~~~~~~~~~~~~~~~~~~~~~~~~~~~~~~~~~~~~~~~~~~
/home/ioan/.plenv/versions/mm-perl/lib/5.32.1/x86_64-linux/CORE/stadtx_hash.h:80:3: note: expanded from macro 'STADTX_SCRAMBLE64'
} STMT_END
  ^~~~~~~~
/home/ioan/.plenv/versions/mm-perl/lib/5.32.1/x86_64-linux/CORE/perl.h:667:21: note: expanded from macro 'STMT_END'
#   define STMT_END     )
                        ^
In file included from lib/Syntax/Keyword/Try.xs:7:
In file included from /home/ioan/.plenv/versions/mm-perl/lib/5.32.1/x86_64-linux/CORE/perl.h:3921:
In file included from /home/ioan/.plenv/versions/mm-perl/lib/5.32.1/x86_64-linux/CORE/hv.h:663:
In file included from /home/ioan/.plenv/versions/mm-perl/lib/5.32.1/x86_64-linux/CORE/hv_func.h:55:
/home/ioan/.plenv/versions/mm-perl/lib/5.32.1/x86_64-linux/CORE/stadtx_hash.h:115:5: warning: '(' and '{' tokens introducing statement expression appear in different macro expansion contexts [-Wcompound-token-split-by-macro]
    STADTX_SCRAMBLE64(state[1],UINT64_C(0x93a7d6c8c62e4835));
    ^~~~~~~~~~~~~~~~~~~~~~~~~~~~~~~~~~~~~~~~~~~~~~~~~~~~~~~~
/home/ioan/.plenv/versions/mm-perl/lib/5.32.1/x86_64-linux/CORE/stadtx_hash.h:72:36: note: expanded from macro 'STADTX_SCRAMBLE64'
#define STADTX_SCRAMBLE64(v,prime) STMT_START {    \
                                   ^~~~~~~~~~
/home/ioan/.plenv/versions/mm-perl/lib/5.32.1/x86_64-linux/CORE/perl.h:666:29: note: expanded from macro 'STMT_START'
#   define STMT_START   (void)( /* gcc supports "({ STATEMENTS; })" */
                              ^
/home/ioan/.plenv/versions/mm-perl/lib/5.32.1/x86_64-linux/CORE/stadtx_hash.h:115:5: note: '{' token is here
    STADTX_SCRAMBLE64(state[1],UINT64_C(0x93a7d6c8c62e4835));
    ^~~~~~~~~~~~~~~~~~~~~~~~~~~~~~~~~~~~~~~~~~~~~~~~~~~~~~~~
/home/ioan/.plenv/versions/mm-perl/lib/5.32.1/x86_64-linux/CORE/stadtx_hash.h:72:47: note: expanded from macro 'STADTX_SCRAMBLE64'
#define STADTX_SCRAMBLE64(v,prime) STMT_START {    \
                                              ^
/home/ioan/.plenv/versions/mm-perl/lib/5.32.1/x86_64-linux/CORE/stadtx_hash.h:115:5: warning: '}' and ')' tokens terminating statement expression appear in different macro expansion contexts [-Wcompound-token-split-by-macro]
    STADTX_SCRAMBLE64(state[1],UINT64_C(0x93a7d6c8c62e4835));
    ^~~~~~~~~~~~~~~~~~~~~~~~~~~~~~~~~~~~~~~~~~~~~~~~~~~~~~~~
/home/ioan/.plenv/versions/mm-perl/lib/5.32.1/x86_64-linux/CORE/stadtx_hash.h:79:45: note: expanded from macro 'STADTX_SCRAMBLE64'
    v ^= (v >> 46);                         \
                                            ^
/home/ioan/.plenv/versions/mm-perl/lib/5.32.1/x86_64-linux/CORE/stadtx_hash.h:115:5: note: ')' token is here
    STADTX_SCRAMBLE64(state[1],UINT64_C(0x93a7d6c8c62e4835));
    ^~~~~~~~~~~~~~~~~~~~~~~~~~~~~~~~~~~~~~~~~~~~~~~~~~~~~~~~
/home/ioan/.plenv/versions/mm-perl/lib/5.32.1/x86_64-linux/CORE/stadtx_hash.h:80:3: note: expanded from macro 'STADTX_SCRAMBLE64'
} STMT_END
  ^~~~~~~~
/home/ioan/.plenv/versions/mm-perl/lib/5.32.1/x86_64-linux/CORE/perl.h:667:21: note: expanded from macro 'STMT_END'
#   define STMT_END     )
                        ^
In file included from lib/Syntax/Keyword/Try.xs:7:
In file included from /home/ioan/.plenv/versions/mm-perl/lib/5.32.1/x86_64-linux/CORE/perl.h:3921:
In file included from /home/ioan/.plenv/versions/mm-perl/lib/5.32.1/x86_64-linux/CORE/hv.h:663:
In file included from /home/ioan/.plenv/versions/mm-perl/lib/5.32.1/x86_64-linux/CORE/hv_func.h:55:
/home/ioan/.plenv/versions/mm-perl/lib/5.32.1/x86_64-linux/CORE/stadtx_hash.h:116:5: warning: '(' and '{' tokens introducing statement expression appear in different macro expansion contexts [-Wcompound-token-split-by-macro]
    STADTX_SCRAMBLE64(state[1],UINT64_C(0x803340f36895c2b5));
    ^~~~~~~~~~~~~~~~~~~~~~~~~~~~~~~~~~~~~~~~~~~~~~~~~~~~~~~~
/home/ioan/.plenv/versions/mm-perl/lib/5.32.1/x86_64-linux/CORE/stadtx_hash.h:72:36: note: expanded from macro 'STADTX_SCRAMBLE64'
#define STADTX_SCRAMBLE64(v,prime) STMT_START {    \
                                   ^~~~~~~~~~
/home/ioan/.plenv/versions/mm-perl/lib/5.32.1/x86_64-linux/CORE/perl.h:666:29: note: expanded from macro 'STMT_START'
#   define STMT_START   (void)( /* gcc supports "({ STATEMENTS; })" */
                              ^
/home/ioan/.plenv/versions/mm-perl/lib/5.32.1/x86_64-linux/CORE/stadtx_hash.h:116:5: note: '{' token is here
    STADTX_SCRAMBLE64(state[1],UINT64_C(0x803340f36895c2b5));
    ^~~~~~~~~~~~~~~~~~~~~~~~~~~~~~~~~~~~~~~~~~~~~~~~~~~~~~~~
/home/ioan/.plenv/versions/mm-perl/lib/5.32.1/x86_64-linux/CORE/stadtx_hash.h:72:47: note: expanded from macro 'STADTX_SCRAMBLE64'
#define STADTX_SCRAMBLE64(v,prime) STMT_START {    \
                                              ^
/home/ioan/.plenv/versions/mm-perl/lib/5.32.1/x86_64-linux/CORE/stadtx_hash.h:116:5: warning: '}' and ')' tokens terminating statement expression appear in different macro expansion contexts [-Wcompound-token-split-by-macro]
    STADTX_SCRAMBLE64(state[1],UINT64_C(0x803340f36895c2b5));
    ^~~~~~~~~~~~~~~~~~~~~~~~~~~~~~~~~~~~~~~~~~~~~~~~~~~~~~~~
/home/ioan/.plenv/versions/mm-perl/lib/5.32.1/x86_64-linux/CORE/stadtx_hash.h:79:45: note: expanded from macro 'STADTX_SCRAMBLE64'
    v ^= (v >> 46);                         \
                                            ^
/home/ioan/.plenv/versions/mm-perl/lib/5.32.1/x86_64-linux/CORE/stadtx_hash.h:116:5: note: ')' token is here
    STADTX_SCRAMBLE64(state[1],UINT64_C(0x803340f36895c2b5));
    ^~~~~~~~~~~~~~~~~~~~~~~~~~~~~~~~~~~~~~~~~~~~~~~~~~~~~~~~
/home/ioan/.plenv/versions/mm-perl/lib/5.32.1/x86_64-linux/CORE/stadtx_hash.h:80:3: note: expanded from macro 'STADTX_SCRAMBLE64'
} STMT_END
  ^~~~~~~~
/home/ioan/.plenv/versions/mm-perl/lib/5.32.1/x86_64-linux/CORE/perl.h:667:21: note: expanded from macro 'STMT_END'
#   define STMT_END     )
                        ^
In file included from lib/Syntax/Keyword/Try.xs:7:
In file included from /home/ioan/.plenv/versions/mm-perl/lib/5.32.1/x86_64-linux/CORE/perl.h:3921:
In file included from /home/ioan/.plenv/versions/mm-perl/lib/5.32.1/x86_64-linux/CORE/hv.h:663:
In file included from /home/ioan/.plenv/versions/mm-perl/lib/5.32.1/x86_64-linux/CORE/hv_func.h:55:
/home/ioan/.plenv/versions/mm-perl/lib/5.32.1/x86_64-linux/CORE/stadtx_hash.h:117:5: warning: '(' and '{' tokens introducing statement expression appear in different macro expansion contexts [-Wcompound-token-split-by-macro]
    STADTX_SCRAMBLE64(state[2],UINT64_C(0xbea9344eb7565eeb));
    ^~~~~~~~~~~~~~~~~~~~~~~~~~~~~~~~~~~~~~~~~~~~~~~~~~~~~~~~
/home/ioan/.plenv/versions/mm-perl/lib/5.32.1/x86_64-linux/CORE/stadtx_hash.h:72:36: note: expanded from macro 'STADTX_SCRAMBLE64'
#define STADTX_SCRAMBLE64(v,prime) STMT_START {    \
                                   ^~~~~~~~~~
/home/ioan/.plenv/versions/mm-perl/lib/5.32.1/x86_64-linux/CORE/perl.h:666:29: note: expanded from macro 'STMT_START'
#   define STMT_START   (void)( /* gcc supports "({ STATEMENTS; })" */
                              ^
/home/ioan/.plenv/versions/mm-perl/lib/5.32.1/x86_64-linux/CORE/stadtx_hash.h:117:5: note: '{' token is here
    STADTX_SCRAMBLE64(state[2],UINT64_C(0xbea9344eb7565eeb));
    ^~~~~~~~~~~~~~~~~~~~~~~~~~~~~~~~~~~~~~~~~~~~~~~~~~~~~~~~
/home/ioan/.plenv/versions/mm-perl/lib/5.32.1/x86_64-linux/CORE/stadtx_hash.h:72:47: note: expanded from macro 'STADTX_SCRAMBLE64'
#define STADTX_SCRAMBLE64(v,prime) STMT_START {    \
                                              ^
/home/ioan/.plenv/versions/mm-perl/lib/5.32.1/x86_64-linux/CORE/stadtx_hash.h:117:5: warning: '}' and ')' tokens terminating statement expression appear in different macro expansion contexts [-Wcompound-token-split-by-macro]
    STADTX_SCRAMBLE64(state[2],UINT64_C(0xbea9344eb7565eeb));
    ^~~~~~~~~~~~~~~~~~~~~~~~~~~~~~~~~~~~~~~~~~~~~~~~~~~~~~~~
/home/ioan/.plenv/versions/mm-perl/lib/5.32.1/x86_64-linux/CORE/stadtx_hash.h:79:45: note: expanded from macro 'STADTX_SCRAMBLE64'
    v ^= (v >> 46);                         \
                                            ^
/home/ioan/.plenv/versions/mm-perl/lib/5.32.1/x86_64-linux/CORE/stadtx_hash.h:117:5: note: ')' token is here
    STADTX_SCRAMBLE64(state[2],UINT64_C(0xbea9344eb7565eeb));
    ^~~~~~~~~~~~~~~~~~~~~~~~~~~~~~~~~~~~~~~~~~~~~~~~~~~~~~~~
/home/ioan/.plenv/versions/mm-perl/lib/5.32.1/x86_64-linux/CORE/stadtx_hash.h:80:3: note: expanded from macro 'STADTX_SCRAMBLE64'
} STMT_END
  ^~~~~~~~
/home/ioan/.plenv/versions/mm-perl/lib/5.32.1/x86_64-linux/CORE/perl.h:667:21: note: expanded from macro 'STMT_END'
#   define STMT_END     )
                        ^
In file included from lib/Syntax/Keyword/Try.xs:7:
In file included from /home/ioan/.plenv/versions/mm-perl/lib/5.32.1/x86_64-linux/CORE/perl.h:3921:
In file included from /home/ioan/.plenv/versions/mm-perl/lib/5.32.1/x86_64-linux/CORE/hv.h:663:
In file included from /home/ioan/.plenv/versions/mm-perl/lib/5.32.1/x86_64-linux/CORE/hv_func.h:55:
/home/ioan/.plenv/versions/mm-perl/lib/5.32.1/x86_64-linux/CORE/stadtx_hash.h:118:5: warning: '(' and '{' tokens introducing statement expression appear in different macro expansion contexts [-Wcompound-token-split-by-macro]
    STADTX_SCRAMBLE64(state[2],UINT64_C(0xcd95d1e509b995cd));
    ^~~~~~~~~~~~~~~~~~~~~~~~~~~~~~~~~~~~~~~~~~~~~~~~~~~~~~~~
/home/ioan/.plenv/versions/mm-perl/lib/5.32.1/x86_64-linux/CORE/stadtx_hash.h:72:36: note: expanded from macro 'STADTX_SCRAMBLE64'
#define STADTX_SCRAMBLE64(v,prime) STMT_START {    \
                                   ^~~~~~~~~~
/home/ioan/.plenv/versions/mm-perl/lib/5.32.1/x86_64-linux/CORE/perl.h:666:29: note: expanded from macro 'STMT_START'
#   define STMT_START   (void)( /* gcc supports "({ STATEMENTS; })" */
                              ^
/home/ioan/.plenv/versions/mm-perl/lib/5.32.1/x86_64-linux/CORE/stadtx_hash.h:118:5: note: '{' token is here
    STADTX_SCRAMBLE64(state[2],UINT64_C(0xcd95d1e509b995cd));
    ^~~~~~~~~~~~~~~~~~~~~~~~~~~~~~~~~~~~~~~~~~~~~~~~~~~~~~~~
/home/ioan/.plenv/versions/mm-perl/lib/5.32.1/x86_64-linux/CORE/stadtx_hash.h:72:47: note: expanded from macro 'STADTX_SCRAMBLE64'
#define STADTX_SCRAMBLE64(v,prime) STMT_START {    \
                                              ^
/home/ioan/.plenv/versions/mm-perl/lib/5.32.1/x86_64-linux/CORE/stadtx_hash.h:118:5: warning: '}' and ')' tokens terminating statement expression appear in different macro expansion contexts [-Wcompound-token-split-by-macro]
    STADTX_SCRAMBLE64(state[2],UINT64_C(0xcd95d1e509b995cd));
    ^~~~~~~~~~~~~~~~~~~~~~~~~~~~~~~~~~~~~~~~~~~~~~~~~~~~~~~~
/home/ioan/.plenv/versions/mm-perl/lib/5.32.1/x86_64-linux/CORE/stadtx_hash.h:79:45: note: expanded from macro 'STADTX_SCRAMBLE64'
    v ^= (v >> 46);                         \
                                            ^
/home/ioan/.plenv/versions/mm-perl/lib/5.32.1/x86_64-linux/CORE/stadtx_hash.h:118:5: note: ')' token is here
    STADTX_SCRAMBLE64(state[2],UINT64_C(0xcd95d1e509b995cd));
    ^~~~~~~~~~~~~~~~~~~~~~~~~~~~~~~~~~~~~~~~~~~~~~~~~~~~~~~~
/home/ioan/.plenv/versions/mm-perl/lib/5.32.1/x86_64-linux/CORE/stadtx_hash.h:80:3: note: expanded from macro 'STADTX_SCRAMBLE64'
} STMT_END
  ^~~~~~~~
/home/ioan/.plenv/versions/mm-perl/lib/5.32.1/x86_64-linux/CORE/perl.h:667:21: note: expanded from macro 'STMT_END'
#   define STMT_END     )
                        ^
In file included from lib/Syntax/Keyword/Try.xs:7:
In file included from /home/ioan/.plenv/versions/mm-perl/lib/5.32.1/x86_64-linux/CORE/perl.h:3921:
In file included from /home/ioan/.plenv/versions/mm-perl/lib/5.32.1/x86_64-linux/CORE/hv.h:663:
In file included from /home/ioan/.plenv/versions/mm-perl/lib/5.32.1/x86_64-linux/CORE/hv_func.h:55:
/home/ioan/.plenv/versions/mm-perl/lib/5.32.1/x86_64-linux/CORE/stadtx_hash.h:119:5: warning: '(' and '{' tokens introducing statement expression appear in different macro expansion contexts [-Wcompound-token-split-by-macro]
    STADTX_SCRAMBLE64(state[3],UINT64_C(0x9999791977e30c13));
    ^~~~~~~~~~~~~~~~~~~~~~~~~~~~~~~~~~~~~~~~~~~~~~~~~~~~~~~~
/home/ioan/.plenv/versions/mm-perl/lib/5.32.1/x86_64-linux/CORE/stadtx_hash.h:72:36: note: expanded from macro 'STADTX_SCRAMBLE64'
#define STADTX_SCRAMBLE64(v,prime) STMT_START {    \
                                   ^~~~~~~~~~
/home/ioan/.plenv/versions/mm-perl/lib/5.32.1/x86_64-linux/CORE/perl.h:666:29: note: expanded from macro 'STMT_START'
#   define STMT_START   (void)( /* gcc supports "({ STATEMENTS; })" */
                              ^
/home/ioan/.plenv/versions/mm-perl/lib/5.32.1/x86_64-linux/CORE/stadtx_hash.h:119:5: note: '{' token is here
    STADTX_SCRAMBLE64(state[3],UINT64_C(0x9999791977e30c13));
    ^~~~~~~~~~~~~~~~~~~~~~~~~~~~~~~~~~~~~~~~~~~~~~~~~~~~~~~~
/home/ioan/.plenv/versions/mm-perl/lib/5.32.1/x86_64-linux/CORE/stadtx_hash.h:72:47: note: expanded from macro 'STADTX_SCRAMBLE64'
#define STADTX_SCRAMBLE64(v,prime) STMT_START {    \
                                              ^
/home/ioan/.plenv/versions/mm-perl/lib/5.32.1/x86_64-linux/CORE/stadtx_hash.h:119:5: warning: '}' and ')' tokens terminating statement expression appear in different macro expansion contexts [-Wcompound-token-split-by-macro]
    STADTX_SCRAMBLE64(state[3],UINT64_C(0x9999791977e30c13));
    ^~~~~~~~~~~~~~~~~~~~~~~~~~~~~~~~~~~~~~~~~~~~~~~~~~~~~~~~
/home/ioan/.plenv/versions/mm-perl/lib/5.32.1/x86_64-linux/CORE/stadtx_hash.h:79:45: note: expanded from macro 'STADTX_SCRAMBLE64'
    v ^= (v >> 46);                         \
                                            ^
/home/ioan/.plenv/versions/mm-perl/lib/5.32.1/x86_64-linux/CORE/stadtx_hash.h:119:5: note: ')' token is here
    STADTX_SCRAMBLE64(state[3],UINT64_C(0x9999791977e30c13));
    ^~~~~~~~~~~~~~~~~~~~~~~~~~~~~~~~~~~~~~~~~~~~~~~~~~~~~~~~
/home/ioan/.plenv/versions/mm-perl/lib/5.32.1/x86_64-linux/CORE/stadtx_hash.h:80:3: note: expanded from macro 'STADTX_SCRAMBLE64'
} STMT_END
  ^~~~~~~~
/home/ioan/.plenv/versions/mm-perl/lib/5.32.1/x86_64-linux/CORE/perl.h:667:21: note: expanded from macro 'STMT_END'
#   define STMT_END     )
                        ^
In file included from lib/Syntax/Keyword/Try.xs:7:
In file included from /home/ioan/.plenv/versions/mm-perl/lib/5.32.1/x86_64-linux/CORE/perl.h:3921:
In file included from /home/ioan/.plenv/versions/mm-perl/lib/5.32.1/x86_64-linux/CORE/hv.h:663:
In file included from /home/ioan/.plenv/versions/mm-perl/lib/5.32.1/x86_64-linux/CORE/hv_func.h:55:
/home/ioan/.plenv/versions/mm-perl/lib/5.32.1/x86_64-linux/CORE/stadtx_hash.h:120:5: warning: '(' and '{' tokens introducing statement expression appear in different macro expansion contexts [-Wcompound-token-split-by-macro]
    STADTX_SCRAMBLE64(state[3],UINT64_C(0xaab8b6b05abfc6cd));
    ^~~~~~~~~~~~~~~~~~~~~~~~~~~~~~~~~~~~~~~~~~~~~~~~~~~~~~~~
/home/ioan/.plenv/versions/mm-perl/lib/5.32.1/x86_64-linux/CORE/stadtx_hash.h:72:36: note: expanded from macro 'STADTX_SCRAMBLE64'
#define STADTX_SCRAMBLE64(v,prime) STMT_START {    \
                                   ^~~~~~~~~~
/home/ioan/.plenv/versions/mm-perl/lib/5.32.1/x86_64-linux/CORE/perl.h:666:29: note: expanded from macro 'STMT_START'
#   define STMT_START   (void)( /* gcc supports "({ STATEMENTS; })" */
                              ^
/home/ioan/.plenv/versions/mm-perl/lib/5.32.1/x86_64-linux/CORE/stadtx_hash.h:120:5: note: '{' token is here
    STADTX_SCRAMBLE64(state[3],UINT64_C(0xaab8b6b05abfc6cd));
    ^~~~~~~~~~~~~~~~~~~~~~~~~~~~~~~~~~~~~~~~~~~~~~~~~~~~~~~~
/home/ioan/.plenv/versions/mm-perl/lib/5.32.1/x86_64-linux/CORE/stadtx_hash.h:72:47: note: expanded from macro 'STADTX_SCRAMBLE64'
#define STADTX_SCRAMBLE64(v,prime) STMT_START {    \
                                              ^
/home/ioan/.plenv/versions/mm-perl/lib/5.32.1/x86_64-linux/CORE/stadtx_hash.h:120:5: warning: '}' and ')' tokens terminating statement expression appear in different macro expansion contexts [-Wcompound-token-split-by-macro]
    STADTX_SCRAMBLE64(state[3],UINT64_C(0xaab8b6b05abfc6cd));
    ^~~~~~~~~~~~~~~~~~~~~~~~~~~~~~~~~~~~~~~~~~~~~~~~~~~~~~~~
/home/ioan/.plenv/versions/mm-perl/lib/5.32.1/x86_64-linux/CORE/stadtx_hash.h:79:45: note: expanded from macro 'STADTX_SCRAMBLE64'
    v ^= (v >> 46);                         \
                                            ^
/home/ioan/.plenv/versions/mm-perl/lib/5.32.1/x86_64-linux/CORE/stadtx_hash.h:120:5: note: ')' token is here
    STADTX_SCRAMBLE64(state[3],UINT64_C(0xaab8b6b05abfc6cd));
    ^~~~~~~~~~~~~~~~~~~~~~~~~~~~~~~~~~~~~~~~~~~~~~~~~~~~~~~~
/home/ioan/.plenv/versions/mm-perl/lib/5.32.1/x86_64-linux/CORE/stadtx_hash.h:80:3: note: expanded from macro 'STADTX_SCRAMBLE64'
} STMT_END
  ^~~~~~~~
/home/ioan/.plenv/versions/mm-perl/lib/5.32.1/x86_64-linux/CORE/perl.h:667:21: note: expanded from macro 'STMT_END'
#   define STMT_END     )
                        ^
In file included from lib/Syntax/Keyword/Try.xs:7:
In file included from /home/ioan/.plenv/versions/mm-perl/lib/5.32.1/x86_64-linux/CORE/perl.h:3921:
In file included from /home/ioan/.plenv/versions/mm-perl/lib/5.32.1/x86_64-linux/CORE/hv.h:663:
/home/ioan/.plenv/versions/mm-perl/lib/5.32.1/x86_64-linux/CORE/hv_func.h:107:5: warning: '(' and '{' tokens introducing statement expression appear in different macro expansion contexts [-Wcompound-token-split-by-macro]
    _PERL_HASH_SEED_STATE(seed,state);
    ^~~~~~~~~~~~~~~~~~~~~~~~~~~~~~~~~
/home/ioan/.plenv/versions/mm-perl/lib/5.32.1/x86_64-linux/CORE/hv_func.h:91:43: note: expanded from macro '_PERL_HASH_SEED_STATE'
#define _PERL_HASH_SEED_STATE(seed,state) STMT_START {                                      \
                                          ^~~~~~~~~~
/home/ioan/.plenv/versions/mm-perl/lib/5.32.1/x86_64-linux/CORE/perl.h:666:29: note: expanded from macro 'STMT_START'
#   define STMT_START   (void)( /* gcc supports "({ STATEMENTS; })" */
                              ^
/home/ioan/.plenv/versions/mm-perl/lib/5.32.1/x86_64-linux/CORE/hv_func.h:107:5: note: '{' token is here
    _PERL_HASH_SEED_STATE(seed,state);
    ^~~~~~~~~~~~~~~~~~~~~~~~~~~~~~~~~
/home/ioan/.plenv/versions/mm-perl/lib/5.32.1/x86_64-linux/CORE/hv_func.h:91:54: note: expanded from macro '_PERL_HASH_SEED_STATE'
#define _PERL_HASH_SEED_STATE(seed,state) STMT_START {                                      \
                                                     ^
/home/ioan/.plenv/versions/mm-perl/lib/5.32.1/x86_64-linux/CORE/hv_func.h:107:5: warning: '}' and ')' tokens terminating statement expression appear in different macro expansion contexts [-Wcompound-token-split-by-macro]
    _PERL_HASH_SEED_STATE(seed,state);
    ^~~~~~~~~~~~~~~~~~~~~~~~~~~~~~~~~
/home/ioan/.plenv/versions/mm-perl/lib/5.32.1/x86_64-linux/CORE/hv_func.h:93:93: note: expanded from macro '_PERL_HASH_SEED_STATE'
    sbox32_seed_state96(seed + __PERL_HASH_SEED_BYTES, state + __PERL_HASH_STATE_BYTES);    \
                                                                                            ^
/home/ioan/.plenv/versions/mm-perl/lib/5.32.1/x86_64-linux/CORE/hv_func.h:107:5: note: ')' token is here
    _PERL_HASH_SEED_STATE(seed,state);
    ^~~~~~~~~~~~~~~~~~~~~~~~~~~~~~~~~
/home/ioan/.plenv/versions/mm-perl/lib/5.32.1/x86_64-linux/CORE/hv_func.h:94:3: note: expanded from macro '_PERL_HASH_SEED_STATE'
} STMT_END
  ^~~~~~~~
/home/ioan/.plenv/versions/mm-perl/lib/5.32.1/x86_64-linux/CORE/perl.h:667:21: note: expanded from macro 'STMT_END'
#   define STMT_END     )
                        ^
In file included from lib/Syntax/Keyword/Try.xs:7:
In file included from /home/ioan/.plenv/versions/mm-perl/lib/5.32.1/x86_64-linux/CORE/perl.h:3921:
In file included from /home/ioan/.plenv/versions/mm-perl/lib/5.32.1/x86_64-linux/CORE/hv.h:663:
/home/ioan/.plenv/versions/mm-perl/lib/5.32.1/x86_64-linux/CORE/hv_func.h:274:6: warning: '(' and '{' tokens introducing statement expression appear in different macro expansion contexts [-Wcompound-token-split-by-macro]
    ,SIPROUND;
     ^~~~~~~~
/home/ioan/.plenv/versions/mm-perl/lib/5.32.1/x86_64-linux/CORE/hv_func.h:175:3: note: expanded from macro 'SIPROUND'
  STMT_START {              \
  ^~~~~~~~~~
/home/ioan/.plenv/versions/mm-perl/lib/5.32.1/x86_64-linux/CORE/perl.h:666:29: note: expanded from macro 'STMT_START'
#   define STMT_START   (void)( /* gcc supports "({ STATEMENTS; })" */
                              ^
/home/ioan/.plenv/versions/mm-perl/lib/5.32.1/x86_64-linux/CORE/hv_func.h:219:5: note: expanded from macro 'PERL_SIPHASH_FNC'
    SIP_ROUNDS;                             \
    ^~~~~~~~~~
/home/ioan/.plenv/versions/mm-perl/lib/5.32.1/x86_64-linux/CORE/hv_func.h:274:6: note: '{' token is here
    ,SIPROUND;
     ^~~~~~~~
/home/ioan/.plenv/versions/mm-perl/lib/5.32.1/x86_64-linux/CORE/hv_func.h:175:14: note: expanded from macro 'SIPROUND'
  STMT_START {              \
             ^
/home/ioan/.plenv/versions/mm-perl/lib/5.32.1/x86_64-linux/CORE/hv_func.h:219:5: note: expanded from macro 'PERL_SIPHASH_FNC'
    SIP_ROUNDS;                             \
    ^~~~~~~~~~
/home/ioan/.plenv/versions/mm-perl/lib/5.32.1/x86_64-linux/CORE/hv_func.h:274:6: warning: '}' and ')' tokens terminating statement expression appear in different macro expansion contexts [-Wcompound-token-split-by-macro]
    ,SIPROUND;
     ^~~~~~~~
/home/ioan/.plenv/versions/mm-perl/lib/5.32.1/x86_64-linux/CORE/hv_func.h:180:3: note: expanded from macro 'SIPROUND'
  } STMT_END
  ^
/home/ioan/.plenv/versions/mm-perl/lib/5.32.1/x86_64-linux/CORE/hv_func.h:219:5: note: expanded from macro 'PERL_SIPHASH_FNC'
    SIP_ROUNDS;                             \
    ^~~~~~~~~~
/home/ioan/.plenv/versions/mm-perl/lib/5.32.1/x86_64-linux/CORE/hv_func.h:274:6: note: ')' token is here
    ,SIPROUND;
     ^~~~~~~~
/home/ioan/.plenv/versions/mm-perl/lib/5.32.1/x86_64-linux/CORE/hv_func.h:180:5: note: expanded from macro 'SIPROUND'
  } STMT_END
    ^~~~~~~~
/home/ioan/.plenv/versions/mm-perl/lib/5.32.1/x86_64-linux/CORE/perl.h:667:21: note: expanded from macro 'STMT_END'
#   define STMT_END     )
                        ^
/home/ioan/.plenv/versions/mm-perl/lib/5.32.1/x86_64-linux/CORE/hv_func.h:219:5: note: expanded from macro 'PERL_SIPHASH_FNC'
    SIP_ROUNDS;                             \
    ^~~~~~~~~~
/home/ioan/.plenv/versions/mm-perl/lib/5.32.1/x86_64-linux/CORE/hv_func.h:274:6: warning: '(' and '{' tokens introducing statement expression appear in different macro expansion contexts [-Wcompound-token-split-by-macro]
    ,SIPROUND;
     ^~~~~~~~
/home/ioan/.plenv/versions/mm-perl/lib/5.32.1/x86_64-linux/CORE/hv_func.h:175:3: note: expanded from macro 'SIPROUND'
  STMT_START {              \
  ^~~~~~~~~~
/home/ioan/.plenv/versions/mm-perl/lib/5.32.1/x86_64-linux/CORE/perl.h:666:29: note: expanded from macro 'STMT_START'
#   define STMT_START   (void)( /* gcc supports "({ STATEMENTS; })" */
                              ^
/home/ioan/.plenv/versions/mm-perl/lib/5.32.1/x86_64-linux/CORE/hv_func.h:238:3: note: expanded from macro 'PERL_SIPHASH_FNC'
  SIP_ROUNDS;                               \
  ^~~~~~~~~~
/home/ioan/.plenv/versions/mm-perl/lib/5.32.1/x86_64-linux/CORE/hv_func.h:274:6: note: '{' token is here
    ,SIPROUND;
     ^~~~~~~~
/home/ioan/.plenv/versions/mm-perl/lib/5.32.1/x86_64-linux/CORE/hv_func.h:175:14: note: expanded from macro 'SIPROUND'
  STMT_START {              \
             ^
/home/ioan/.plenv/versions/mm-perl/lib/5.32.1/x86_64-linux/CORE/hv_func.h:238:3: note: expanded from macro 'PERL_SIPHASH_FNC'
  SIP_ROUNDS;                               \
  ^~~~~~~~~~
/home/ioan/.plenv/versions/mm-perl/lib/5.32.1/x86_64-linux/CORE/hv_func.h:274:6: warning: '}' and ')' tokens terminating statement expression appear in different macro expansion contexts [-Wcompound-token-split-by-macro]
    ,SIPROUND;
     ^~~~~~~~
/home/ioan/.plenv/versions/mm-perl/lib/5.32.1/x86_64-linux/CORE/hv_func.h:180:3: note: expanded from macro 'SIPROUND'
  } STMT_END
  ^
/home/ioan/.plenv/versions/mm-perl/lib/5.32.1/x86_64-linux/CORE/hv_func.h:238:3: note: expanded from macro 'PERL_SIPHASH_FNC'
  SIP_ROUNDS;                               \
  ^~~~~~~~~~
/home/ioan/.plenv/versions/mm-perl/lib/5.32.1/x86_64-linux/CORE/hv_func.h:274:6: note: ')' token is here
    ,SIPROUND;
     ^~~~~~~~
/home/ioan/.plenv/versions/mm-perl/lib/5.32.1/x86_64-linux/CORE/hv_func.h:180:5: note: expanded from macro 'SIPROUND'
  } STMT_END
    ^~~~~~~~
/home/ioan/.plenv/versions/mm-perl/lib/5.32.1/x86_64-linux/CORE/perl.h:667:21: note: expanded from macro 'STMT_END'
#   define STMT_END     )
                        ^
/home/ioan/.plenv/versions/mm-perl/lib/5.32.1/x86_64-linux/CORE/hv_func.h:238:3: note: expanded from macro 'PERL_SIPHASH_FNC'
  SIP_ROUNDS;                               \
  ^~~~~~~~~~
/home/ioan/.plenv/versions/mm-perl/lib/5.32.1/x86_64-linux/CORE/hv_func.h:275:6: warning: '(' and '{' tokens introducing statement expression appear in different macro expansion contexts [-Wcompound-token-split-by-macro]
    ,SIPROUND;SIPROUND;SIPROUND;
     ^~~~~~~~
/home/ioan/.plenv/versions/mm-perl/lib/5.32.1/x86_64-linux/CORE/hv_func.h:175:3: note: expanded from macro 'SIPROUND'
  STMT_START {              \
  ^~~~~~~~~~
/home/ioan/.plenv/versions/mm-perl/lib/5.32.1/x86_64-linux/CORE/perl.h:666:29: note: expanded from macro 'STMT_START'
#   define STMT_START   (void)( /* gcc supports "({ STATEMENTS; })" */
                              ^
/home/ioan/.plenv/versions/mm-perl/lib/5.32.1/x86_64-linux/CORE/hv_func.h:244:3: note: expanded from macro 'PERL_SIPHASH_FNC'
  SIP_FINAL_ROUNDS                          \
  ^~~~~~~~~~~~~~~~
/home/ioan/.plenv/versions/mm-perl/lib/5.32.1/x86_64-linux/CORE/hv_func.h:275:6: note: '{' token is here
    ,SIPROUND;SIPROUND;SIPROUND;
     ^~~~~~~~
/home/ioan/.plenv/versions/mm-perl/lib/5.32.1/x86_64-linux/CORE/hv_func.h:175:14: note: expanded from macro 'SIPROUND'
  STMT_START {              \
             ^
/home/ioan/.plenv/versions/mm-perl/lib/5.32.1/x86_64-linux/CORE/hv_func.h:244:3: note: expanded from macro 'PERL_SIPHASH_FNC'
  SIP_FINAL_ROUNDS                          \
  ^~~~~~~~~~~~~~~~
/home/ioan/.plenv/versions/mm-perl/lib/5.32.1/x86_64-linux/CORE/hv_func.h:275:6: warning: '}' and ')' tokens terminating statement expression appear in different macro expansion contexts [-Wcompound-token-split-by-macro]
    ,SIPROUND;SIPROUND;SIPROUND;
     ^~~~~~~~
/home/ioan/.plenv/versions/mm-perl/lib/5.32.1/x86_64-linux/CORE/hv_func.h:180:3: note: expanded from macro 'SIPROUND'
  } STMT_END
  ^
/home/ioan/.plenv/versions/mm-perl/lib/5.32.1/x86_64-linux/CORE/hv_func.h:244:3: note: expanded from macro 'PERL_SIPHASH_FNC'
  SIP_FINAL_ROUNDS                          \
  ^~~~~~~~~~~~~~~~
/home/ioan/.plenv/versions/mm-perl/lib/5.32.1/x86_64-linux/CORE/hv_func.h:275:6: note: ')' token is here
    ,SIPROUND;SIPROUND;SIPROUND;
     ^~~~~~~~
/home/ioan/.plenv/versions/mm-perl/lib/5.32.1/x86_64-linux/CORE/hv_func.h:180:5: note: expanded from macro 'SIPROUND'
  } STMT_END
    ^~~~~~~~
/home/ioan/.plenv/versions/mm-perl/lib/5.32.1/x86_64-linux/CORE/perl.h:667:21: note: expanded from macro 'STMT_END'
#   define STMT_END     )
                        ^
/home/ioan/.plenv/versions/mm-perl/lib/5.32.1/x86_64-linux/CORE/hv_func.h:244:3: note: expanded from macro 'PERL_SIPHASH_FNC'
  SIP_FINAL_ROUNDS                          \
  ^~~~~~~~~~~~~~~~
/home/ioan/.plenv/versions/mm-perl/lib/5.32.1/x86_64-linux/CORE/hv_func.h:275:15: warning: '(' and '{' tokens introducing statement expression appear in different macro expansion contexts [-Wcompound-token-split-by-macro]
    ,SIPROUND;SIPROUND;SIPROUND;
              ^~~~~~~~
/home/ioan/.plenv/versions/mm-perl/lib/5.32.1/x86_64-linux/CORE/hv_func.h:175:3: note: expanded from macro 'SIPROUND'
  STMT_START {              \
  ^~~~~~~~~~
/home/ioan/.plenv/versions/mm-perl/lib/5.32.1/x86_64-linux/CORE/perl.h:666:29: note: expanded from macro 'STMT_START'
#   define STMT_START   (void)( /* gcc supports "({ STATEMENTS; })" */
                              ^
/home/ioan/.plenv/versions/mm-perl/lib/5.32.1/x86_64-linux/CORE/hv_func.h:244:3: note: expanded from macro 'PERL_SIPHASH_FNC'
  SIP_FINAL_ROUNDS                          \
  ^~~~~~~~~~~~~~~~
/home/ioan/.plenv/versions/mm-perl/lib/5.32.1/x86_64-linux/CORE/hv_func.h:275:15: note: '{' token is here
    ,SIPROUND;SIPROUND;SIPROUND;
              ^~~~~~~~
/home/ioan/.plenv/versions/mm-perl/lib/5.32.1/x86_64-linux/CORE/hv_func.h:175:14: note: expanded from macro 'SIPROUND'
  STMT_START {              \
             ^
/home/ioan/.plenv/versions/mm-perl/lib/5.32.1/x86_64-linux/CORE/hv_func.h:244:3: note: expanded from macro 'PERL_SIPHASH_FNC'
  SIP_FINAL_ROUNDS                          \
  ^~~~~~~~~~~~~~~~
/home/ioan/.plenv/versions/mm-perl/lib/5.32.1/x86_64-linux/CORE/hv_func.h:275:15: warning: '}' and ')' tokens terminating statement expression appear in different macro expansion contexts [-Wcompound-token-split-by-macro]
    ,SIPROUND;SIPROUND;SIPROUND;
              ^~~~~~~~
/home/ioan/.plenv/versions/mm-perl/lib/5.32.1/x86_64-linux/CORE/hv_func.h:180:3: note: expanded from macro 'SIPROUND'
  } STMT_END
  ^
/home/ioan/.plenv/versions/mm-perl/lib/5.32.1/x86_64-linux/CORE/hv_func.h:244:3: note: expanded from macro 'PERL_SIPHASH_FNC'
  SIP_FINAL_ROUNDS                          \
  ^~~~~~~~~~~~~~~~
/home/ioan/.plenv/versions/mm-perl/lib/5.32.1/x86_64-linux/CORE/hv_func.h:275:15: note: ')' token is here
    ,SIPROUND;SIPROUND;SIPROUND;
              ^~~~~~~~
/home/ioan/.plenv/versions/mm-perl/lib/5.32.1/x86_64-linux/CORE/hv_func.h:180:5: note: expanded from macro 'SIPROUND'
  } STMT_END
    ^~~~~~~~
/home/ioan/.plenv/versions/mm-perl/lib/5.32.1/x86_64-linux/CORE/perl.h:667:21: note: expanded from macro 'STMT_END'
#   define STMT_END     )
                        ^
/home/ioan/.plenv/versions/mm-perl/lib/5.32.1/x86_64-linux/CORE/hv_func.h:244:3: note: expanded from macro 'PERL_SIPHASH_FNC'
  SIP_FINAL_ROUNDS                          \
  ^~~~~~~~~~~~~~~~
/home/ioan/.plenv/versions/mm-perl/lib/5.32.1/x86_64-linux/CORE/hv_func.h:275:24: warning: '(' and '{' tokens introducing statement expression appear in different macro expansion contexts [-Wcompound-token-split-by-macro]
    ,SIPROUND;SIPROUND;SIPROUND;
                       ^~~~~~~~
/home/ioan/.plenv/versions/mm-perl/lib/5.32.1/x86_64-linux/CORE/hv_func.h:175:3: note: expanded from macro 'SIPROUND'
  STMT_START {              \
  ^~~~~~~~~~
/home/ioan/.plenv/versions/mm-perl/lib/5.32.1/x86_64-linux/CORE/perl.h:666:29: note: expanded from macro 'STMT_START'
#   define STMT_START   (void)( /* gcc supports "({ STATEMENTS; })" */
                              ^
/home/ioan/.plenv/versions/mm-perl/lib/5.32.1/x86_64-linux/CORE/hv_func.h:244:3: note: expanded from macro 'PERL_SIPHASH_FNC'
  SIP_FINAL_ROUNDS                          \
  ^~~~~~~~~~~~~~~~
/home/ioan/.plenv/versions/mm-perl/lib/5.32.1/x86_64-linux/CORE/hv_func.h:275:24: note: '{' token is here
    ,SIPROUND;SIPROUND;SIPROUND;
                       ^~~~~~~~
/home/ioan/.plenv/versions/mm-perl/lib/5.32.1/x86_64-linux/CORE/hv_func.h:175:14: note: expanded from macro 'SIPROUND'
  STMT_START {              \
             ^
/home/ioan/.plenv/versions/mm-perl/lib/5.32.1/x86_64-linux/CORE/hv_func.h:244:3: note: expanded from macro 'PERL_SIPHASH_FNC'
  SIP_FINAL_ROUNDS                          \
  ^~~~~~~~~~~~~~~~
/home/ioan/.plenv/versions/mm-perl/lib/5.32.1/x86_64-linux/CORE/hv_func.h:275:24: warning: '}' and ')' tokens terminating statement expression appear in different macro expansion contexts [-Wcompound-token-split-by-macro]
    ,SIPROUND;SIPROUND;SIPROUND;
                       ^~~~~~~~
/home/ioan/.plenv/versions/mm-perl/lib/5.32.1/x86_64-linux/CORE/hv_func.h:180:3: note: expanded from macro 'SIPROUND'
  } STMT_END
  ^
/home/ioan/.plenv/versions/mm-perl/lib/5.32.1/x86_64-linux/CORE/hv_func.h:244:3: note: expanded from macro 'PERL_SIPHASH_FNC'
  SIP_FINAL_ROUNDS                          \
  ^~~~~~~~~~~~~~~~
/home/ioan/.plenv/versions/mm-perl/lib/5.32.1/x86_64-linux/CORE/hv_func.h:275:24: note: ')' token is here
    ,SIPROUND;SIPROUND;SIPROUND;
                       ^~~~~~~~
/home/ioan/.plenv/versions/mm-perl/lib/5.32.1/x86_64-linux/CORE/hv_func.h:180:5: note: expanded from macro 'SIPROUND'
  } STMT_END
    ^~~~~~~~
/home/ioan/.plenv/versions/mm-perl/lib/5.32.1/x86_64-linux/CORE/perl.h:667:21: note: expanded from macro 'STMT_END'
#   define STMT_END     )
                        ^
/home/ioan/.plenv/versions/mm-perl/lib/5.32.1/x86_64-linux/CORE/hv_func.h:244:3: note: expanded from macro 'PERL_SIPHASH_FNC'
  SIP_FINAL_ROUNDS                          \
  ^~~~~~~~~~~~~~~~
/home/ioan/.plenv/versions/mm-perl/lib/5.32.1/x86_64-linux/CORE/hv_func.h:280:6: warning: '(' and '{' tokens introducing statement expression appear in different macro expansion contexts [-Wcompound-token-split-by-macro]
    ,SIPROUND;SIPROUND;
     ^~~~~~~~
/home/ioan/.plenv/versions/mm-perl/lib/5.32.1/x86_64-linux/CORE/hv_func.h:175:3: note: expanded from macro 'SIPROUND'
  STMT_START {              \
  ^~~~~~~~~~
/home/ioan/.plenv/versions/mm-perl/lib/5.32.1/x86_64-linux/CORE/perl.h:666:29: note: expanded from macro 'STMT_START'
#   define STMT_START   (void)( /* gcc supports "({ STATEMENTS; })" */
                              ^
/home/ioan/.plenv/versions/mm-perl/lib/5.32.1/x86_64-linux/CORE/hv_func.h:219:5: note: expanded from macro 'PERL_SIPHASH_FNC'
    SIP_ROUNDS;                             \
    ^~~~~~~~~~
/home/ioan/.plenv/versions/mm-perl/lib/5.32.1/x86_64-linux/CORE/hv_func.h:280:6: note: '{' token is here
    ,SIPROUND;SIPROUND;
     ^~~~~~~~
/home/ioan/.plenv/versions/mm-perl/lib/5.32.1/x86_64-linux/CORE/hv_func.h:175:14: note: expanded from macro 'SIPROUND'
  STMT_START {              \
             ^
/home/ioan/.plenv/versions/mm-perl/lib/5.32.1/x86_64-linux/CORE/hv_func.h:219:5: note: expanded from macro 'PERL_SIPHASH_FNC'
    SIP_ROUNDS;                             \
    ^~~~~~~~~~
/home/ioan/.plenv/versions/mm-perl/lib/5.32.1/x86_64-linux/CORE/hv_func.h:280:6: warning: '}' and ')' tokens terminating statement expression appear in different macro expansion contexts [-Wcompound-token-split-by-macro]
    ,SIPROUND;SIPROUND;
     ^~~~~~~~
/home/ioan/.plenv/versions/mm-perl/lib/5.32.1/x86_64-linux/CORE/hv_func.h:180:3: note: expanded from macro 'SIPROUND'
  } STMT_END
  ^
/home/ioan/.plenv/versions/mm-perl/lib/5.32.1/x86_64-linux/CORE/hv_func.h:219:5: note: expanded from macro 'PERL_SIPHASH_FNC'
    SIP_ROUNDS;                             \
    ^~~~~~~~~~
/home/ioan/.plenv/versions/mm-perl/lib/5.32.1/x86_64-linux/CORE/hv_func.h:280:6: note: ')' token is here
    ,SIPROUND;SIPROUND;
     ^~~~~~~~
/home/ioan/.plenv/versions/mm-perl/lib/5.32.1/x86_64-linux/CORE/hv_func.h:180:5: note: expanded from macro 'SIPROUND'
  } STMT_END
    ^~~~~~~~
/home/ioan/.plenv/versions/mm-perl/lib/5.32.1/x86_64-linux/CORE/perl.h:667:21: note: expanded from macro 'STMT_END'
#   define STMT_END     )
                        ^
/home/ioan/.plenv/versions/mm-perl/lib/5.32.1/x86_64-linux/CORE/hv_func.h:219:5: note: expanded from macro 'PERL_SIPHASH_FNC'
    SIP_ROUNDS;                             \
    ^~~~~~~~~~
/home/ioan/.plenv/versions/mm-perl/lib/5.32.1/x86_64-linux/CORE/hv_func.h:280:15: warning: '(' and '{' tokens introducing statement expression appear in different macro expansion contexts [-Wcompound-token-split-by-macro]
    ,SIPROUND;SIPROUND;
              ^~~~~~~~
/home/ioan/.plenv/versions/mm-perl/lib/5.32.1/x86_64-linux/CORE/hv_func.h:175:3: note: expanded from macro 'SIPROUND'
  STMT_START {              \
  ^~~~~~~~~~
/home/ioan/.plenv/versions/mm-perl/lib/5.32.1/x86_64-linux/CORE/perl.h:666:29: note: expanded from macro 'STMT_START'
#   define STMT_START   (void)( /* gcc supports "({ STATEMENTS; })" */
                              ^
/home/ioan/.plenv/versions/mm-perl/lib/5.32.1/x86_64-linux/CORE/hv_func.h:219:5: note: expanded from macro 'PERL_SIPHASH_FNC'
    SIP_ROUNDS;                             \
    ^~~~~~~~~~
/home/ioan/.plenv/versions/mm-perl/lib/5.32.1/x86_64-linux/CORE/hv_func.h:280:15: note: '{' token is here
    ,SIPROUND;SIPROUND;
              ^~~~~~~~
/home/ioan/.plenv/versions/mm-perl/lib/5.32.1/x86_64-linux/CORE/hv_func.h:175:14: note: expanded from macro 'SIPROUND'
  STMT_START {              \
             ^
/home/ioan/.plenv/versions/mm-perl/lib/5.32.1/x86_64-linux/CORE/hv_func.h:219:5: note: expanded from macro 'PERL_SIPHASH_FNC'
    SIP_ROUNDS;                             \
    ^~~~~~~~~~
/home/ioan/.plenv/versions/mm-perl/lib/5.32.1/x86_64-linux/CORE/hv_func.h:280:15: warning: '}' and ')' tokens terminating statement expression appear in different macro expansion contexts [-Wcompound-token-split-by-macro]
    ,SIPROUND;SIPROUND;
              ^~~~~~~~
/home/ioan/.plenv/versions/mm-perl/lib/5.32.1/x86_64-linux/CORE/hv_func.h:180:3: note: expanded from macro 'SIPROUND'
  } STMT_END
  ^
/home/ioan/.plenv/versions/mm-perl/lib/5.32.1/x86_64-linux/CORE/hv_func.h:219:5: note: expanded from macro 'PERL_SIPHASH_FNC'
    SIP_ROUNDS;                             \
    ^~~~~~~~~~
/home/ioan/.plenv/versions/mm-perl/lib/5.32.1/x86_64-linux/CORE/hv_func.h:280:15: note: ')' token is here
    ,SIPROUND;SIPROUND;
              ^~~~~~~~
/home/ioan/.plenv/versions/mm-perl/lib/5.32.1/x86_64-linux/CORE/hv_func.h:180:5: note: expanded from macro 'SIPROUND'
  } STMT_END
    ^~~~~~~~
/home/ioan/.plenv/versions/mm-perl/lib/5.32.1/x86_64-linux/CORE/perl.h:667:21: note: expanded from macro 'STMT_END'
#   define STMT_END     )
                        ^
/home/ioan/.plenv/versions/mm-perl/lib/5.32.1/x86_64-linux/CORE/hv_func.h:219:5: note: expanded from macro 'PERL_SIPHASH_FNC'
    SIP_ROUNDS;                             \
    ^~~~~~~~~~
/home/ioan/.plenv/versions/mm-perl/lib/5.32.1/x86_64-linux/CORE/hv_func.h:280:6: warning: '(' and '{' tokens introducing statement expression appear in different macro expansion contexts [-Wcompound-token-split-by-macro]
    ,SIPROUND;SIPROUND;
     ^~~~~~~~
/home/ioan/.plenv/versions/mm-perl/lib/5.32.1/x86_64-linux/CORE/hv_func.h:175:3: note: expanded from macro 'SIPROUND'
  STMT_START {              \
  ^~~~~~~~~~
/home/ioan/.plenv/versions/mm-perl/lib/5.32.1/x86_64-linux/CORE/perl.h:666:29: note: expanded from macro 'STMT_START'
#   define STMT_START   (void)( /* gcc supports "({ STATEMENTS; })" */
                              ^
/home/ioan/.plenv/versions/mm-perl/lib/5.32.1/x86_64-linux/CORE/hv_func.h:238:3: note: expanded from macro 'PERL_SIPHASH_FNC'
  SIP_ROUNDS;                               \
  ^~~~~~~~~~
/home/ioan/.plenv/versions/mm-perl/lib/5.32.1/x86_64-linux/CORE/hv_func.h:280:6: note: '{' token is here
    ,SIPROUND;SIPROUND;
     ^~~~~~~~
/home/ioan/.plenv/versions/mm-perl/lib/5.32.1/x86_64-linux/CORE/hv_func.h:175:14: note: expanded from macro 'SIPROUND'
  STMT_START {              \
             ^
/home/ioan/.plenv/versions/mm-perl/lib/5.32.1/x86_64-linux/CORE/hv_func.h:238:3: note: expanded from macro 'PERL_SIPHASH_FNC'
  SIP_ROUNDS;                               \
  ^~~~~~~~~~
/home/ioan/.plenv/versions/mm-perl/lib/5.32.1/x86_64-linux/CORE/hv_func.h:280:6: warning: '}' and ')' tokens terminating statement expression appear in different macro expansion contexts [-Wcompound-token-split-by-macro]
    ,SIPROUND;SIPROUND;
     ^~~~~~~~
/home/ioan/.plenv/versions/mm-perl/lib/5.32.1/x86_64-linux/CORE/hv_func.h:180:3: note: expanded from macro 'SIPROUND'
  } STMT_END
  ^
/home/ioan/.plenv/versions/mm-perl/lib/5.32.1/x86_64-linux/CORE/hv_func.h:238:3: note: expanded from macro 'PERL_SIPHASH_FNC'
  SIP_ROUNDS;                               \
  ^~~~~~~~~~
/home/ioan/.plenv/versions/mm-perl/lib/5.32.1/x86_64-linux/CORE/hv_func.h:280:6: note: ')' token is here
    ,SIPROUND;SIPROUND;
     ^~~~~~~~
/home/ioan/.plenv/versions/mm-perl/lib/5.32.1/x86_64-linux/CORE/hv_func.h:180:5: note: expanded from macro 'SIPROUND'
  } STMT_END
    ^~~~~~~~
/home/ioan/.plenv/versions/mm-perl/lib/5.32.1/x86_64-linux/CORE/perl.h:667:21: note: expanded from macro 'STMT_END'
#   define STMT_END     )
                        ^
/home/ioan/.plenv/versions/mm-perl/lib/5.32.1/x86_64-linux/CORE/hv_func.h:238:3: note: expanded from macro 'PERL_SIPHASH_FNC'
  SIP_ROUNDS;                               \
  ^~~~~~~~~~
/home/ioan/.plenv/versions/mm-perl/lib/5.32.1/x86_64-linux/CORE/hv_func.h:280:15: warning: '(' and '{' tokens introducing statement expression appear in different macro expansion contexts [-Wcompound-token-split-by-macro]
    ,SIPROUND;SIPROUND;
              ^~~~~~~~
/home/ioan/.plenv/versions/mm-perl/lib/5.32.1/x86_64-linux/CORE/hv_func.h:175:3: note: expanded from macro 'SIPROUND'
  STMT_START {              \
  ^~~~~~~~~~
/home/ioan/.plenv/versions/mm-perl/lib/5.32.1/x86_64-linux/CORE/perl.h:666:29: note: expanded from macro 'STMT_START'
#   define STMT_START   (void)( /* gcc supports "({ STATEMENTS; })" */
                              ^
/home/ioan/.plenv/versions/mm-perl/lib/5.32.1/x86_64-linux/CORE/hv_func.h:238:3: note: expanded from macro 'PERL_SIPHASH_FNC'
  SIP_ROUNDS;                               \
  ^~~~~~~~~~
/home/ioan/.plenv/versions/mm-perl/lib/5.32.1/x86_64-linux/CORE/hv_func.h:280:15: note: '{' token is here
    ,SIPROUND;SIPROUND;
              ^~~~~~~~
/home/ioan/.plenv/versions/mm-perl/lib/5.32.1/x86_64-linux/CORE/hv_func.h:175:14: note: expanded from macro 'SIPROUND'
  STMT_START {              \
             ^
/home/ioan/.plenv/versions/mm-perl/lib/5.32.1/x86_64-linux/CORE/hv_func.h:238:3: note: expanded from macro 'PERL_SIPHASH_FNC'
  SIP_ROUNDS;                               \
  ^~~~~~~~~~
/home/ioan/.plenv/versions/mm-perl/lib/5.32.1/x86_64-linux/CORE/hv_func.h:280:15: warning: '}' and ')' tokens terminating statement expression appear in different macro expansion contexts [-Wcompound-token-split-by-macro]
    ,SIPROUND;SIPROUND;
              ^~~~~~~~
/home/ioan/.plenv/versions/mm-perl/lib/5.32.1/x86_64-linux/CORE/hv_func.h:180:3: note: expanded from macro 'SIPROUND'
  } STMT_END
  ^
/home/ioan/.plenv/versions/mm-perl/lib/5.32.1/x86_64-linux/CORE/hv_func.h:238:3: note: expanded from macro 'PERL_SIPHASH_FNC'
  SIP_ROUNDS;                               \
  ^~~~~~~~~~
/home/ioan/.plenv/versions/mm-perl/lib/5.32.1/x86_64-linux/CORE/hv_func.h:280:15: note: ')' token is here
    ,SIPROUND;SIPROUND;
              ^~~~~~~~
/home/ioan/.plenv/versions/mm-perl/lib/5.32.1/x86_64-linux/CORE/hv_func.h:180:5: note: expanded from macro 'SIPROUND'
  } STMT_END
    ^~~~~~~~
/home/ioan/.plenv/versions/mm-perl/lib/5.32.1/x86_64-linux/CORE/perl.h:667:21: note: expanded from macro 'STMT_END'
#   define STMT_END     )
                        ^
/home/ioan/.plenv/versions/mm-perl/lib/5.32.1/x86_64-linux/CORE/hv_func.h:238:3: note: expanded from macro 'PERL_SIPHASH_FNC'
  SIP_ROUNDS;                               \
  ^~~~~~~~~~
/home/ioan/.plenv/versions/mm-perl/lib/5.32.1/x86_64-linux/CORE/hv_func.h:281:6: warning: '(' and '{' tokens introducing statement expression appear in different macro expansion contexts [-Wcompound-token-split-by-macro]
    ,SIPROUND;SIPROUND;SIPROUND;SIPROUND;
     ^~~~~~~~
/home/ioan/.plenv/versions/mm-perl/lib/5.32.1/x86_64-linux/CORE/hv_func.h:175:3: note: expanded from macro 'SIPROUND'
  STMT_START {              \
  ^~~~~~~~~~
/home/ioan/.plenv/versions/mm-perl/lib/5.32.1/x86_64-linux/CORE/perl.h:666:29: note: expanded from macro 'STMT_START'
#   define STMT_START   (void)( /* gcc supports "({ STATEMENTS; })" */
                              ^
/home/ioan/.plenv/versions/mm-perl/lib/5.32.1/x86_64-linux/CORE/hv_func.h:244:3: note: expanded from macro 'PERL_SIPHASH_FNC'
  SIP_FINAL_ROUNDS                          \
  ^~~~~~~~~~~~~~~~
/home/ioan/.plenv/versions/mm-perl/lib/5.32.1/x86_64-linux/CORE/hv_func.h:281:6: note: '{' token is here
    ,SIPROUND;SIPROUND;SIPROUND;SIPROUND;
     ^~~~~~~~
/home/ioan/.plenv/versions/mm-perl/lib/5.32.1/x86_64-linux/CORE/hv_func.h:175:14: note: expanded from macro 'SIPROUND'
  STMT_START {              \
             ^
/home/ioan/.plenv/versions/mm-perl/lib/5.32.1/x86_64-linux/CORE/hv_func.h:244:3: note: expanded from macro 'PERL_SIPHASH_FNC'
  SIP_FINAL_ROUNDS                          \
  ^~~~~~~~~~~~~~~~
/home/ioan/.plenv/versions/mm-perl/lib/5.32.1/x86_64-linux/CORE/hv_func.h:281:6: warning: '}' and ')' tokens terminating statement expression appear in different macro expansion contexts [-Wcompound-token-split-by-macro]
    ,SIPROUND;SIPROUND;SIPROUND;SIPROUND;
     ^~~~~~~~
/home/ioan/.plenv/versions/mm-perl/lib/5.32.1/x86_64-linux/CORE/hv_func.h:180:3: note: expanded from macro 'SIPROUND'
  } STMT_END
  ^
/home/ioan/.plenv/versions/mm-perl/lib/5.32.1/x86_64-linux/CORE/hv_func.h:244:3: note: expanded from macro 'PERL_SIPHASH_FNC'
  SIP_FINAL_ROUNDS                          \
  ^~~~~~~~~~~~~~~~
/home/ioan/.plenv/versions/mm-perl/lib/5.32.1/x86_64-linux/CORE/hv_func.h:281:6: note: ')' token is here
    ,SIPROUND;SIPROUND;SIPROUND;SIPROUND;
     ^~~~~~~~
/home/ioan/.plenv/versions/mm-perl/lib/5.32.1/x86_64-linux/CORE/hv_func.h:180:5: note: expanded from macro 'SIPROUND'
  } STMT_END
    ^~~~~~~~
/home/ioan/.plenv/versions/mm-perl/lib/5.32.1/x86_64-linux/CORE/perl.h:667:21: note: expanded from macro 'STMT_END'
#   define STMT_END     )
                        ^
/home/ioan/.plenv/versions/mm-perl/lib/5.32.1/x86_64-linux/CORE/hv_func.h:244:3: note: expanded from macro 'PERL_SIPHASH_FNC'
  SIP_FINAL_ROUNDS                          \
  ^~~~~~~~~~~~~~~~
/home/ioan/.plenv/versions/mm-perl/lib/5.32.1/x86_64-linux/CORE/hv_func.h:281:15: warning: '(' and '{' tokens introducing statement expression appear in different macro expansion contexts [-Wcompound-token-split-by-macro]
    ,SIPROUND;SIPROUND;SIPROUND;SIPROUND;
              ^~~~~~~~
/home/ioan/.plenv/versions/mm-perl/lib/5.32.1/x86_64-linux/CORE/hv_func.h:175:3: note: expanded from macro 'SIPROUND'
  STMT_START {              \
  ^~~~~~~~~~
/home/ioan/.plenv/versions/mm-perl/lib/5.32.1/x86_64-linux/CORE/perl.h:666:29: note: expanded from macro 'STMT_START'
#   define STMT_START   (void)( /* gcc supports "({ STATEMENTS; })" */
                              ^
/home/ioan/.plenv/versions/mm-perl/lib/5.32.1/x86_64-linux/CORE/hv_func.h:244:3: note: expanded from macro 'PERL_SIPHASH_FNC'
  SIP_FINAL_ROUNDS                          \
  ^~~~~~~~~~~~~~~~
/home/ioan/.plenv/versions/mm-perl/lib/5.32.1/x86_64-linux/CORE/hv_func.h:281:15: note: '{' token is here
    ,SIPROUND;SIPROUND;SIPROUND;SIPROUND;
              ^~~~~~~~
/home/ioan/.plenv/versions/mm-perl/lib/5.32.1/x86_64-linux/CORE/hv_func.h:175:14: note: expanded from macro 'SIPROUND'
  STMT_START {              \
             ^
/home/ioan/.plenv/versions/mm-perl/lib/5.32.1/x86_64-linux/CORE/hv_func.h:244:3: note: expanded from macro 'PERL_SIPHASH_FNC'
  SIP_FINAL_ROUNDS                          \
  ^~~~~~~~~~~~~~~~
/home/ioan/.plenv/versions/mm-perl/lib/5.32.1/x86_64-linux/CORE/hv_func.h:281:15: warning: '}' and ')' tokens terminating statement expression appear in different macro expansion contexts [-Wcompound-token-split-by-macro]
    ,SIPROUND;SIPROUND;SIPROUND;SIPROUND;
              ^~~~~~~~
/home/ioan/.plenv/versions/mm-perl/lib/5.32.1/x86_64-linux/CORE/hv_func.h:180:3: note: expanded from macro 'SIPROUND'
  } STMT_END
  ^
/home/ioan/.plenv/versions/mm-perl/lib/5.32.1/x86_64-linux/CORE/hv_func.h:244:3: note: expanded from macro 'PERL_SIPHASH_FNC'
  SIP_FINAL_ROUNDS                          \
  ^~~~~~~~~~~~~~~~
/home/ioan/.plenv/versions/mm-perl/lib/5.32.1/x86_64-linux/CORE/hv_func.h:281:15: note: ')' token is here
    ,SIPROUND;SIPROUND;SIPROUND;SIPROUND;
              ^~~~~~~~
/home/ioan/.plenv/versions/mm-perl/lib/5.32.1/x86_64-linux/CORE/hv_func.h:180:5: note: expanded from macro 'SIPROUND'
  } STMT_END
    ^~~~~~~~
/home/ioan/.plenv/versions/mm-perl/lib/5.32.1/x86_64-linux/CORE/perl.h:667:21: note: expanded from macro 'STMT_END'
#   define STMT_END     )
                        ^
/home/ioan/.plenv/versions/mm-perl/lib/5.32.1/x86_64-linux/CORE/hv_func.h:244:3: note: expanded from macro 'PERL_SIPHASH_FNC'
  SIP_FINAL_ROUNDS                          \
  ^~~~~~~~~~~~~~~~
/home/ioan/.plenv/versions/mm-perl/lib/5.32.1/x86_64-linux/CORE/hv_func.h:281:24: warning: '(' and '{' tokens introducing statement expression appear in different macro expansion contexts [-Wcompound-token-split-by-macro]
    ,SIPROUND;SIPROUND;SIPROUND;SIPROUND;
                       ^~~~~~~~
/home/ioan/.plenv/versions/mm-perl/lib/5.32.1/x86_64-linux/CORE/hv_func.h:175:3: note: expanded from macro 'SIPROUND'
  STMT_START {              \
  ^~~~~~~~~~
/home/ioan/.plenv/versions/mm-perl/lib/5.32.1/x86_64-linux/CORE/perl.h:666:29: note: expanded from macro 'STMT_START'
#   define STMT_START   (void)( /* gcc supports "({ STATEMENTS; })" */
                              ^
/home/ioan/.plenv/versions/mm-perl/lib/5.32.1/x86_64-linux/CORE/hv_func.h:244:3: note: expanded from macro 'PERL_SIPHASH_FNC'
  SIP_FINAL_ROUNDS                          \
  ^~~~~~~~~~~~~~~~
/home/ioan/.plenv/versions/mm-perl/lib/5.32.1/x86_64-linux/CORE/hv_func.h:281:24: note: '{' token is here
    ,SIPROUND;SIPROUND;SIPROUND;SIPROUND;
                       ^~~~~~~~
/home/ioan/.plenv/versions/mm-perl/lib/5.32.1/x86_64-linux/CORE/hv_func.h:175:14: note: expanded from macro 'SIPROUND'
  STMT_START {              \
             ^
/home/ioan/.plenv/versions/mm-perl/lib/5.32.1/x86_64-linux/CORE/hv_func.h:244:3: note: expanded from macro 'PERL_SIPHASH_FNC'
  SIP_FINAL_ROUNDS                          \
  ^~~~~~~~~~~~~~~~
/home/ioan/.plenv/versions/mm-perl/lib/5.32.1/x86_64-linux/CORE/hv_func.h:281:24: warning: '}' and ')' tokens terminating statement expression appear in different macro expansion contexts [-Wcompound-token-split-by-macro]
    ,SIPROUND;SIPROUND;SIPROUND;SIPROUND;
                       ^~~~~~~~
/home/ioan/.plenv/versions/mm-perl/lib/5.32.1/x86_64-linux/CORE/hv_func.h:180:3: note: expanded from macro 'SIPROUND'
  } STMT_END
  ^
/home/ioan/.plenv/versions/mm-perl/lib/5.32.1/x86_64-linux/CORE/hv_func.h:244:3: note: expanded from macro 'PERL_SIPHASH_FNC'
  SIP_FINAL_ROUNDS                          \
  ^~~~~~~~~~~~~~~~
/home/ioan/.plenv/versions/mm-perl/lib/5.32.1/x86_64-linux/CORE/hv_func.h:281:24: note: ')' token is here
    ,SIPROUND;SIPROUND;SIPROUND;SIPROUND;
                       ^~~~~~~~
/home/ioan/.plenv/versions/mm-perl/lib/5.32.1/x86_64-linux/CORE/hv_func.h:180:5: note: expanded from macro 'SIPROUND'
  } STMT_END
    ^~~~~~~~
/home/ioan/.plenv/versions/mm-perl/lib/5.32.1/x86_64-linux/CORE/perl.h:667:21: note: expanded from macro 'STMT_END'
#   define STMT_END     )
                        ^
/home/ioan/.plenv/versions/mm-perl/lib/5.32.1/x86_64-linux/CORE/hv_func.h:244:3: note: expanded from macro 'PERL_SIPHASH_FNC'
  SIP_FINAL_ROUNDS                          \
  ^~~~~~~~~~~~~~~~
/home/ioan/.plenv/versions/mm-perl/lib/5.32.1/x86_64-linux/CORE/hv_func.h:281:33: warning: '(' and '{' tokens introducing statement expression appear in different macro expansion contexts [-Wcompound-token-split-by-macro]
    ,SIPROUND;SIPROUND;SIPROUND;SIPROUND;
                                ^~~~~~~~
/home/ioan/.plenv/versions/mm-perl/lib/5.32.1/x86_64-linux/CORE/hv_func.h:175:3: note: expanded from macro 'SIPROUND'
  STMT_START {              \
  ^~~~~~~~~~
/home/ioan/.plenv/versions/mm-perl/lib/5.32.1/x86_64-linux/CORE/perl.h:666:29: note: expanded from macro 'STMT_START'
#   define STMT_START   (void)( /* gcc supports "({ STATEMENTS; })" */
                              ^
/home/ioan/.plenv/versions/mm-perl/lib/5.32.1/x86_64-linux/CORE/hv_func.h:244:3: note: expanded from macro 'PERL_SIPHASH_FNC'
  SIP_FINAL_ROUNDS                          \
  ^~~~~~~~~~~~~~~~
/home/ioan/.plenv/versions/mm-perl/lib/5.32.1/x86_64-linux/CORE/hv_func.h:281:33: note: '{' token is here
    ,SIPROUND;SIPROUND;SIPROUND;SIPROUND;
                                ^~~~~~~~
/home/ioan/.plenv/versions/mm-perl/lib/5.32.1/x86_64-linux/CORE/hv_func.h:175:14: note: expanded from macro 'SIPROUND'
  STMT_START {              \
             ^
/home/ioan/.plenv/versions/mm-perl/lib/5.32.1/x86_64-linux/CORE/hv_func.h:244:3: note: expanded from macro 'PERL_SIPHASH_FNC'
  SIP_FINAL_ROUNDS                          \
  ^~~~~~~~~~~~~~~~
/home/ioan/.plenv/versions/mm-perl/lib/5.32.1/x86_64-linux/CORE/hv_func.h:281:33: warning: '}' and ')' tokens terminating statement expression appear in different macro expansion contexts [-Wcompound-token-split-by-macro]
    ,SIPROUND;SIPROUND;SIPROUND;SIPROUND;
                                ^~~~~~~~
/home/ioan/.plenv/versions/mm-perl/lib/5.32.1/x86_64-linux/CORE/hv_func.h:180:3: note: expanded from macro 'SIPROUND'
  } STMT_END
  ^
/home/ioan/.plenv/versions/mm-perl/lib/5.32.1/x86_64-linux/CORE/hv_func.h:244:3: note: expanded from macro 'PERL_SIPHASH_FNC'
  SIP_FINAL_ROUNDS                          \
  ^~~~~~~~~~~~~~~~
/home/ioan/.plenv/versions/mm-perl/lib/5.32.1/x86_64-linux/CORE/hv_func.h:281:33: note: ')' token is here
    ,SIPROUND;SIPROUND;SIPROUND;SIPROUND;
                                ^~~~~~~~
/home/ioan/.plenv/versions/mm-perl/lib/5.32.1/x86_64-linux/CORE/hv_func.h:180:5: note: expanded from macro 'SIPROUND'
  } STMT_END
    ^~~~~~~~
/home/ioan/.plenv/versions/mm-perl/lib/5.32.1/x86_64-linux/CORE/perl.h:667:21: note: expanded from macro 'STMT_END'
#   define STMT_END     )
                        ^
/home/ioan/.plenv/versions/mm-perl/lib/5.32.1/x86_64-linux/CORE/hv_func.h:244:3: note: expanded from macro 'PERL_SIPHASH_FNC'
  SIP_FINAL_ROUNDS                          \
  ^~~~~~~~~~~~~~~~
In file included from lib/Syntax/Keyword/Try.xs:7:
In file included from /home/ioan/.plenv/versions/mm-perl/lib/5.32.1/x86_64-linux/CORE/perl.h:6161:
/home/ioan/.plenv/versions/mm-perl/lib/5.32.1/x86_64-linux/CORE/inline.h:2209:5: warning: '(' and '{' tokens introducing statement expression appear in different macro expansion contexts [-Wcompound-token-split-by-macro]
    CX_POP_SAVEARRAY(cx);
    ^~~~~~~~~~~~~~~~~~~~
/home/ioan/.plenv/versions/mm-perl/lib/5.32.1/x86_64-linux/CORE/cop.h:657:5: note: expanded from macro 'CX_POP_SAVEARRAY'
    STMT_START {                                                        \
    ^~~~~~~~~~
/home/ioan/.plenv/versions/mm-perl/lib/5.32.1/x86_64-linux/CORE/perl.h:666:29: note: expanded from macro 'STMT_START'
#   define STMT_START   (void)( /* gcc supports "({ STATEMENTS; })" */
                              ^
/home/ioan/.plenv/versions/mm-perl/lib/5.32.1/x86_64-linux/CORE/inline.h:2209:5: note: '{' token is here
    CX_POP_SAVEARRAY(cx);
    ^~~~~~~~~~~~~~~~~~~~
/home/ioan/.plenv/versions/mm-perl/lib/5.32.1/x86_64-linux/CORE/cop.h:657:16: note: expanded from macro 'CX_POP_SAVEARRAY'
    STMT_START {                                                        \
               ^
In file included from lib/Syntax/Keyword/Try.xs:7:
In file included from /home/ioan/.plenv/versions/mm-perl/lib/5.32.1/x86_64-linux/CORE/perl.h:6161:
/home/ioan/.plenv/versions/mm-perl/lib/5.32.1/x86_64-linux/CORE/inline.h:2209:5: warning: '}' and ')' tokens terminating statement expression appear in different macro expansion contexts [-Wcompound-token-split-by-macro]
    CX_POP_SAVEARRAY(cx);
    ^~~~~~~~~~~~~~~~~~~~
/home/ioan/.plenv/versions/mm-perl/lib/5.32.1/x86_64-linux/CORE/cop.h:662:5: note: expanded from macro 'CX_POP_SAVEARRAY'
    } STMT_END
    ^
/home/ioan/.plenv/versions/mm-perl/lib/5.32.1/x86_64-linux/CORE/inline.h:2209:5: note: ')' token is here
    CX_POP_SAVEARRAY(cx);
    ^~~~~~~~~~~~~~~~~~~~
/home/ioan/.plenv/versions/mm-perl/lib/5.32.1/x86_64-linux/CORE/cop.h:662:7: note: expanded from macro 'CX_POP_SAVEARRAY'
    } STMT_END
      ^~~~~~~~
/home/ioan/.plenv/versions/mm-perl/lib/5.32.1/x86_64-linux/CORE/perl.h:667:21: note: expanded from macro 'STMT_END'
#   define STMT_END     )
                        ^
In file included from lib/Syntax/Keyword/Try.xs:7:
In file included from /home/ioan/.plenv/versions/mm-perl/lib/5.32.1/x86_64-linux/CORE/perl.h:6161:
/home/ioan/.plenv/versions/mm-perl/lib/5.32.1/x86_64-linux/CORE/inline.h:2215:9: warning: '(' and '{' tokens introducing statement expression appear in different macro expansion contexts [-Wcompound-token-split-by-macro]
        CLEAR_ARGARRAY(av);
        ^~~~~~~~~~~~~~~~~~
/home/ioan/.plenv/versions/mm-perl/lib/5.32.1/x86_64-linux/CORE/cop.h:667:5: note: expanded from macro 'CLEAR_ARGARRAY'
    STMT_START {                                                        \
    ^~~~~~~~~~
/home/ioan/.plenv/versions/mm-perl/lib/5.32.1/x86_64-linux/CORE/perl.h:666:29: note: expanded from macro 'STMT_START'
#   define STMT_START   (void)( /* gcc supports "({ STATEMENTS; })" */
                              ^
/home/ioan/.plenv/versions/mm-perl/lib/5.32.1/x86_64-linux/CORE/inline.h:2215:9: note: '{' token is here
        CLEAR_ARGARRAY(av);
        ^~~~~~~~~~~~~~~~~~
/home/ioan/.plenv/versions/mm-perl/lib/5.32.1/x86_64-linux/CORE/cop.h:667:16: note: expanded from macro 'CLEAR_ARGARRAY'
    STMT_START {                                                        \
               ^
In file included from lib/Syntax/Keyword/Try.xs:7:
In file included from /home/ioan/.plenv/versions/mm-perl/lib/5.32.1/x86_64-linux/CORE/perl.h:6161:
/home/ioan/.plenv/versions/mm-perl/lib/5.32.1/x86_64-linux/CORE/inline.h:2215:9: warning: '}' and ')' tokens terminating statement expression appear in different macro expansion contexts [-Wcompound-token-split-by-macro]
        CLEAR_ARGARRAY(av);
        ^~~~~~~~~~~~~~~~~~
/home/ioan/.plenv/versions/mm-perl/lib/5.32.1/x86_64-linux/CORE/cop.h:671:5: note: expanded from macro 'CLEAR_ARGARRAY'
    } STMT_END
    ^
/home/ioan/.plenv/versions/mm-perl/lib/5.32.1/x86_64-linux/CORE/inline.h:2215:9: note: ')' token is here
        CLEAR_ARGARRAY(av);
        ^~~~~~~~~~~~~~~~~~
/home/ioan/.plenv/versions/mm-perl/lib/5.32.1/x86_64-linux/CORE/cop.h:671:7: note: expanded from macro 'CLEAR_ARGARRAY'
    } STMT_END
      ^~~~~~~~
/home/ioan/.plenv/versions/mm-perl/lib/5.32.1/x86_64-linux/CORE/perl.h:667:21: note: expanded from macro 'STMT_END'
#   define STMT_END     )
                        ^
lib/Syntax/Keyword/Try.xs:88:7: warning: '(' and '{' tokens introducing statement expression appear in different macro expansion contexts [-Wcompound-token-split-by-macro]
      XPUSHs(retval);
      ^~~~~~~~~~~~~~
/home/ioan/.plenv/versions/mm-perl/lib/5.32.1/x86_64-linux/CORE/pp.h:462:19: note: expanded from macro 'XPUSHs'
#define XPUSHs(s)       STMT_START { EXTEND(sp,1); *++sp = (s); } STMT_END
                        ^~~~~~~~~~
/home/ioan/.plenv/versions/mm-perl/lib/5.32.1/x86_64-linux/CORE/perl.h:666:29: note: expanded from macro 'STMT_START'
#   define STMT_START   (void)( /* gcc supports "({ STATEMENTS; })" */
                              ^
lib/Syntax/Keyword/Try.xs:88:7: note: '{' token is here
      XPUSHs(retval);
      ^~~~~~~~~~~~~~
/home/ioan/.plenv/versions/mm-perl/lib/5.32.1/x86_64-linux/CORE/pp.h:462:30: note: expanded from macro 'XPUSHs'
#define XPUSHs(s)       STMT_START { EXTEND(sp,1); *++sp = (s); } STMT_END
                                   ^
lib/Syntax/Keyword/Try.xs:88:7: warning: '(' and '{' tokens introducing statement expression appear in different macro expansion contexts [-Wcompound-token-split-by-macro]
      XPUSHs(retval);
      ^~~~~~~~~~~~~~
/home/ioan/.plenv/versions/mm-perl/lib/5.32.1/x86_64-linux/CORE/pp.h:462:32: note: expanded from macro 'XPUSHs'
#define XPUSHs(s)       STMT_START { EXTEND(sp,1); *++sp = (s); } STMT_END
                                     ^~~~~~~~~~~~
/home/ioan/.plenv/versions/mm-perl/lib/5.32.1/x86_64-linux/CORE/pp.h:371:25: note: expanded from macro 'EXTEND'
#  define EXTEND(p,n)   STMT_START {                                    \
                        ^~~~~~~~~~
/home/ioan/.plenv/versions/mm-perl/lib/5.32.1/x86_64-linux/CORE/perl.h:666:29: note: expanded from macro 'STMT_START'
#   define STMT_START   (void)( /* gcc supports "({ STATEMENTS; })" */
                              ^
lib/Syntax/Keyword/Try.xs:88:7: note: '{' token is here
      XPUSHs(retval);
      ^~~~~~~~~~~~~~
/home/ioan/.plenv/versions/mm-perl/lib/5.32.1/x86_64-linux/CORE/pp.h:462:32: note: expanded from macro 'XPUSHs'
#define XPUSHs(s)       STMT_START { EXTEND(sp,1); *++sp = (s); } STMT_END
                                     ^~~~~~~~~~~~
/home/ioan/.plenv/versions/mm-perl/lib/5.32.1/x86_64-linux/CORE/pp.h:371:36: note: expanded from macro 'EXTEND'
#  define EXTEND(p,n)   STMT_START {                                    \
                                   ^
lib/Syntax/Keyword/Try.xs:88:7: warning: '}' and ')' tokens terminating statement expression appear in different macro expansion contexts [-Wcompound-token-split-by-macro]
      XPUSHs(retval);
      ^~~~~~~~~~~~~~
/home/ioan/.plenv/versions/mm-perl/lib/5.32.1/x86_64-linux/CORE/pp.h:462:32: note: expanded from macro 'XPUSHs'
#define XPUSHs(s)       STMT_START { EXTEND(sp,1); *++sp = (s); } STMT_END
                                     ^~~~~~~~~~~~
/home/ioan/.plenv/versions/mm-perl/lib/5.32.1/x86_64-linux/CORE/pp.h:376:28: note: expanded from macro 'EXTEND'
                         } } STMT_END
                           ^
lib/Syntax/Keyword/Try.xs:88:7: note: ')' token is here
      XPUSHs(retval);
      ^~~~~~~~~~~~~~
/home/ioan/.plenv/versions/mm-perl/lib/5.32.1/x86_64-linux/CORE/pp.h:462:32: note: expanded from macro 'XPUSHs'
#define XPUSHs(s)       STMT_START { EXTEND(sp,1); *++sp = (s); } STMT_END
                                     ^~~~~~~~~~~~
/home/ioan/.plenv/versions/mm-perl/lib/5.32.1/x86_64-linux/CORE/pp.h:376:30: note: expanded from macro 'EXTEND'
                         } } STMT_END
                             ^~~~~~~~
/home/ioan/.plenv/versions/mm-perl/lib/5.32.1/x86_64-linux/CORE/perl.h:667:21: note: expanded from macro 'STMT_END'
#   define STMT_END     )
                        ^
lib/Syntax/Keyword/Try.xs:88:7: warning: '}' and ')' tokens terminating statement expression appear in different macro expansion contexts [-Wcompound-token-split-by-macro]
      XPUSHs(retval);
      ^~~~~~~~~~~~~~
/home/ioan/.plenv/versions/mm-perl/lib/5.32.1/x86_64-linux/CORE/pp.h:462:59: note: expanded from macro 'XPUSHs'
#define XPUSHs(s)       STMT_START { EXTEND(sp,1); *++sp = (s); } STMT_END
                                                                ^
lib/Syntax/Keyword/Try.xs:88:7: note: ')' token is here
      XPUSHs(retval);
      ^~~~~~~~~~~~~~
/home/ioan/.plenv/versions/mm-perl/lib/5.32.1/x86_64-linux/CORE/pp.h:462:61: note: expanded from macro 'XPUSHs'
#define XPUSHs(s)       STMT_START { EXTEND(sp,1); *++sp = (s); } STMT_END
                                                                  ^~~~~~~~
/home/ioan/.plenv/versions/mm-perl/lib/5.32.1/x86_64-linux/CORE/perl.h:667:21: note: expanded from macro 'STMT_END'
#   define STMT_END     )
                        ^
lib/Syntax/Keyword/Try.xs:95:7: warning: '(' and '{' tokens introducing statement expression appear in different macro expansion contexts [-Wcompound-token-split-by-macro]
      PUSHMARK(SP);
      ^~~~~~~~~~~~
/home/ioan/.plenv/versions/mm-perl/lib/5.32.1/x86_64-linux/CORE/pp.h:59:5: note: expanded from macro 'PUSHMARK'
    STMT_START {                                                      \
    ^~~~~~~~~~
/home/ioan/.plenv/versions/mm-perl/lib/5.32.1/x86_64-linux/CORE/perl.h:666:29: note: expanded from macro 'STMT_START'
#   define STMT_START   (void)( /* gcc supports "({ STATEMENTS; })" */
                              ^
lib/Syntax/Keyword/Try.xs:95:7: note: '{' token is here
      PUSHMARK(SP);
      ^~~~~~~~~~~~
/home/ioan/.plenv/versions/mm-perl/lib/5.32.1/x86_64-linux/CORE/pp.h:59:16: note: expanded from macro 'PUSHMARK'
    STMT_START {                                                      \
               ^
lib/Syntax/Keyword/Try.xs:95:7: warning: '}' and ')' tokens terminating statement expression appear in different macro expansion contexts [-Wcompound-token-split-by-macro]
      PUSHMARK(SP);
      ^~~~~~~~~~~~
/home/ioan/.plenv/versions/mm-perl/lib/5.32.1/x86_64-linux/CORE/pp.h:68:5: note: expanded from macro 'PUSHMARK'
    } STMT_END
    ^
lib/Syntax/Keyword/Try.xs:95:7: note: ')' token is here
      PUSHMARK(SP);
      ^~~~~~~~~~~~
/home/ioan/.plenv/versions/mm-perl/lib/5.32.1/x86_64-linux/CORE/pp.h:68:7: note: expanded from macro 'PUSHMARK'
    } STMT_END
      ^~~~~~~~
/home/ioan/.plenv/versions/mm-perl/lib/5.32.1/x86_64-linux/CORE/perl.h:667:21: note: expanded from macro 'STMT_END'
#   define STMT_END     )
                        ^
lib/Syntax/Keyword/Try.xs:98:7: warning: '(' and '{' tokens introducing statement expression appear in different macro expansion contexts [-Wcompound-token-split-by-macro]
      EXTEND(SP, retcount);
      ^~~~~~~~~~~~~~~~~~~~
/home/ioan/.plenv/versions/mm-perl/lib/5.32.1/x86_64-linux/CORE/pp.h:371:25: note: expanded from macro 'EXTEND'
#  define EXTEND(p,n)   STMT_START {                                    \
                        ^~~~~~~~~~
/home/ioan/.plenv/versions/mm-perl/lib/5.32.1/x86_64-linux/CORE/perl.h:666:29: note: expanded from macro 'STMT_START'
#   define STMT_START   (void)( /* gcc supports "({ STATEMENTS; })" */
                              ^
lib/Syntax/Keyword/Try.xs:98:7: note: '{' token is here
      EXTEND(SP, retcount);
      ^~~~~~~~~~~~~~~~~~~~
/home/ioan/.plenv/versions/mm-perl/lib/5.32.1/x86_64-linux/CORE/pp.h:371:36: note: expanded from macro 'EXTEND'
#  define EXTEND(p,n)   STMT_START {                                    \
                                   ^
lib/Syntax/Keyword/Try.xs:98:7: warning: '}' and ')' tokens terminating statement expression appear in different macro expansion contexts [-Wcompound-token-split-by-macro]
      EXTEND(SP, retcount);
      ^~~~~~~~~~~~~~~~~~~~
/home/ioan/.plenv/versions/mm-perl/lib/5.32.1/x86_64-linux/CORE/pp.h:376:28: note: expanded from macro 'EXTEND'
                         } } STMT_END
                           ^
lib/Syntax/Keyword/Try.xs:98:7: note: ')' token is here
      EXTEND(SP, retcount);
      ^~~~~~~~~~~~~~~~~~~~
/home/ioan/.plenv/versions/mm-perl/lib/5.32.1/x86_64-linux/CORE/pp.h:376:30: note: expanded from macro 'EXTEND'
                         } } STMT_END
                             ^~~~~~~~
/home/ioan/.plenv/versions/mm-perl/lib/5.32.1/x86_64-linux/CORE/perl.h:667:21: note: expanded from macro 'STMT_END'
#   define STMT_END     )
                        ^
lib/Syntax/Keyword/Try.xs:157:3: warning: '(' and '{' tokens introducing statement expression appear in different macro expansion contexts [-Wcompound-token-split-by-macro]
  PUSHMARK(SP);
  ^~~~~~~~~~~~
/home/ioan/.plenv/versions/mm-perl/lib/5.32.1/x86_64-linux/CORE/pp.h:59:5: note: expanded from macro 'PUSHMARK'
    STMT_START {                                                      \
    ^~~~~~~~~~
/home/ioan/.plenv/versions/mm-perl/lib/5.32.1/x86_64-linux/CORE/perl.h:666:29: note: expanded from macro 'STMT_START'
#   define STMT_START   (void)( /* gcc supports "({ STATEMENTS; })" */
                              ^
lib/Syntax/Keyword/Try.xs:157:3: note: '{' token is here
  PUSHMARK(SP);
  ^~~~~~~~~~~~
/home/ioan/.plenv/versions/mm-perl/lib/5.32.1/x86_64-linux/CORE/pp.h:59:16: note: expanded from macro 'PUSHMARK'
    STMT_START {                                                      \
               ^
lib/Syntax/Keyword/Try.xs:157:3: warning: '}' and ')' tokens terminating statement expression appear in different macro expansion contexts [-Wcompound-token-split-by-macro]
  PUSHMARK(SP);
  ^~~~~~~~~~~~
/home/ioan/.plenv/versions/mm-perl/lib/5.32.1/x86_64-linux/CORE/pp.h:68:5: note: expanded from macro 'PUSHMARK'
    } STMT_END
    ^
lib/Syntax/Keyword/Try.xs:157:3: note: ')' token is here
  PUSHMARK(SP);
  ^~~~~~~~~~~~
/home/ioan/.plenv/versions/mm-perl/lib/5.32.1/x86_64-linux/CORE/pp.h:68:7: note: expanded from macro 'PUSHMARK'
    } STMT_END
      ^~~~~~~~
/home/ioan/.plenv/versions/mm-perl/lib/5.32.1/x86_64-linux/CORE/perl.h:667:21: note: expanded from macro 'STMT_END'
#   define STMT_END     )
                        ^
lib/Syntax/Keyword/Try.xs:645:3: warning: '(' and '{' tokens introducing statement expression appear in different macro expansion contexts [-Wcompound-token-split-by-macro]
  XopENTRY_set(&xop_catch, xop_name, "catch");
  ^~~~~~~~~~~~~~~~~~~~~~~~~~~~~~~~~~~~~~~~~~~
/home/ioan/.plenv/versions/mm-perl/lib/5.32.1/x86_64-linux/CORE/op.h:924:5: note: expanded from macro 'XopENTRY_set'
    STMT_START { \
    ^~~~~~~~~~
/home/ioan/.plenv/versions/mm-perl/lib/5.32.1/x86_64-linux/CORE/perl.h:666:29: note: expanded from macro 'STMT_START'
#   define STMT_START   (void)( /* gcc supports "({ STATEMENTS; })" */
                              ^
lib/Syntax/Keyword/Try.xs:645:3: note: '{' token is here
  XopENTRY_set(&xop_catch, xop_name, "catch");
  ^~~~~~~~~~~~~~~~~~~~~~~~~~~~~~~~~~~~~~~~~~~
/home/ioan/.plenv/versions/mm-perl/lib/5.32.1/x86_64-linux/CORE/op.h:924:16: note: expanded from macro 'XopENTRY_set'
    STMT_START { \
               ^
lib/Syntax/Keyword/Try.xs:645:3: warning: '}' and ')' tokens terminating statement expression appear in different macro expansion contexts [-Wcompound-token-split-by-macro]
  XopENTRY_set(&xop_catch, xop_name, "catch");
  ^~~~~~~~~~~~~~~~~~~~~~~~~~~~~~~~~~~~~~~~~~~
/home/ioan/.plenv/versions/mm-perl/lib/5.32.1/x86_64-linux/CORE/op.h:927:5: note: expanded from macro 'XopENTRY_set'
    } STMT_END
    ^
lib/Syntax/Keyword/Try.xs:645:3: note: ')' token is here
  XopENTRY_set(&xop_catch, xop_name, "catch");
  ^~~~~~~~~~~~~~~~~~~~~~~~~~~~~~~~~~~~~~~~~~~
/home/ioan/.plenv/versions/mm-perl/lib/5.32.1/x86_64-linux/CORE/op.h:927:7: note: expanded from macro 'XopENTRY_set'
    } STMT_END
      ^~~~~~~~
/home/ioan/.plenv/versions/mm-perl/lib/5.32.1/x86_64-linux/CORE/perl.h:667:21: note: expanded from macro 'STMT_END'
#   define STMT_END     )
                        ^
lib/Syntax/Keyword/Try.xs:646:3: warning: '(' and '{' tokens introducing statement expression appear in different macro expansion contexts [-Wcompound-token-split-by-macro]
  XopENTRY_set(&xop_catch, xop_desc,
  ^~~~~~~~~~~~~~~~~~~~~~~~~~~~~~~~~~
/home/ioan/.plenv/versions/mm-perl/lib/5.32.1/x86_64-linux/CORE/op.h:924:5: note: expanded from macro 'XopENTRY_set'
    STMT_START { \
    ^~~~~~~~~~
/home/ioan/.plenv/versions/mm-perl/lib/5.32.1/x86_64-linux/CORE/perl.h:666:29: note: expanded from macro 'STMT_START'
#   define STMT_START   (void)( /* gcc supports "({ STATEMENTS; })" */
                              ^
lib/Syntax/Keyword/Try.xs:646:3: note: '{' token is here
  XopENTRY_set(&xop_catch, xop_desc,
  ^~~~~~~~~~~~~~~~~~~~~~~~~~~~~~~~~~
/home/ioan/.plenv/versions/mm-perl/lib/5.32.1/x86_64-linux/CORE/op.h:924:16: note: expanded from macro 'XopENTRY_set'
    STMT_START { \
               ^
lib/Syntax/Keyword/Try.xs:646:3: warning: '}' and ')' tokens terminating statement expression appear in different macro expansion contexts [-Wcompound-token-split-by-macro]
  XopENTRY_set(&xop_catch, xop_desc,
  ^~~~~~~~~~~~~~~~~~~~~~~~~~~~~~~~~~
/home/ioan/.plenv/versions/mm-perl/lib/5.32.1/x86_64-linux/CORE/op.h:927:5: note: expanded from macro 'XopENTRY_set'
    } STMT_END
    ^
lib/Syntax/Keyword/Try.xs:646:3: note: ')' token is here
  XopENTRY_set(&xop_catch, xop_desc,
  ^~~~~~~~~~~~~~~~~~~~~~~~~~~~~~~~~~
/home/ioan/.plenv/versions/mm-perl/lib/5.32.1/x86_64-linux/CORE/op.h:927:7: note: expanded from macro 'XopENTRY_set'
    } STMT_END
      ^~~~~~~~
/home/ioan/.plenv/versions/mm-perl/lib/5.32.1/x86_64-linux/CORE/perl.h:667:21: note: expanded from macro 'STMT_END'
#   define STMT_END     )
                        ^
lib/Syntax/Keyword/Try.xs:648:3: warning: '(' and '{' tokens introducing statement expression appear in different macro expansion contexts [-Wcompound-token-split-by-macro]
  XopENTRY_set(&xop_catch, xop_class, OA_LOGOP);
  ^~~~~~~~~~~~~~~~~~~~~~~~~~~~~~~~~~~~~~~~~~~~~
/home/ioan/.plenv/versions/mm-perl/lib/5.32.1/x86_64-linux/CORE/op.h:924:5: note: expanded from macro 'XopENTRY_set'
    STMT_START { \
    ^~~~~~~~~~
/home/ioan/.plenv/versions/mm-perl/lib/5.32.1/x86_64-linux/CORE/perl.h:666:29: note: expanded from macro 'STMT_START'
#   define STMT_START   (void)( /* gcc supports "({ STATEMENTS; })" */
                              ^
lib/Syntax/Keyword/Try.xs:648:3: note: '{' token is here
  XopENTRY_set(&xop_catch, xop_class, OA_LOGOP);
  ^~~~~~~~~~~~~~~~~~~~~~~~~~~~~~~~~~~~~~~~~~~~~
/home/ioan/.plenv/versions/mm-perl/lib/5.32.1/x86_64-linux/CORE/op.h:924:16: note: expanded from macro 'XopENTRY_set'
    STMT_START { \
               ^
lib/Syntax/Keyword/Try.xs:648:3: warning: '}' and ')' tokens terminating statement expression appear in different macro expansion contexts [-Wcompound-token-split-by-macro]
  XopENTRY_set(&xop_catch, xop_class, OA_LOGOP);
  ^~~~~~~~~~~~~~~~~~~~~~~~~~~~~~~~~~~~~~~~~~~~~
/home/ioan/.plenv/versions/mm-perl/lib/5.32.1/x86_64-linux/CORE/op.h:927:5: note: expanded from macro 'XopENTRY_set'
    } STMT_END
    ^
lib/Syntax/Keyword/Try.xs:648:3: note: ')' token is here
  XopENTRY_set(&xop_catch, xop_class, OA_LOGOP);
  ^~~~~~~~~~~~~~~~~~~~~~~~~~~~~~~~~~~~~~~~~~~~~
/home/ioan/.plenv/versions/mm-perl/lib/5.32.1/x86_64-linux/CORE/op.h:927:7: note: expanded from macro 'XopENTRY_set'
    } STMT_END
      ^~~~~~~~
/home/ioan/.plenv/versions/mm-perl/lib/5.32.1/x86_64-linux/CORE/perl.h:667:21: note: expanded from macro 'STMT_END'
#   define STMT_END     )
                        ^
lib/Syntax/Keyword/Try.xs:651:3: warning: '(' and '{' tokens introducing statement expression appear in different macro expansion contexts [-Wcompound-token-split-by-macro]
  XopENTRY_set(&xop_pushfinally, xop_name, "pushfinally");
  ^~~~~~~~~~~~~~~~~~~~~~~~~~~~~~~~~~~~~~~~~~~~~~~~~~~~~~~
/home/ioan/.plenv/versions/mm-perl/lib/5.32.1/x86_64-linux/CORE/op.h:924:5: note: expanded from macro 'XopENTRY_set'
    STMT_START { \
    ^~~~~~~~~~
/home/ioan/.plenv/versions/mm-perl/lib/5.32.1/x86_64-linux/CORE/perl.h:666:29: note: expanded from macro 'STMT_START'
#   define STMT_START   (void)( /* gcc supports "({ STATEMENTS; })" */
                              ^
lib/Syntax/Keyword/Try.xs:651:3: note: '{' token is here
  XopENTRY_set(&xop_pushfinally, xop_name, "pushfinally");
  ^~~~~~~~~~~~~~~~~~~~~~~~~~~~~~~~~~~~~~~~~~~~~~~~~~~~~~~
/home/ioan/.plenv/versions/mm-perl/lib/5.32.1/x86_64-linux/CORE/op.h:924:16: note: expanded from macro 'XopENTRY_set'
    STMT_START { \
               ^
lib/Syntax/Keyword/Try.xs:651:3: warning: '}' and ')' tokens terminating statement expression appear in different macro expansion contexts [-Wcompound-token-split-by-macro]
  XopENTRY_set(&xop_pushfinally, xop_name, "pushfinally");
  ^~~~~~~~~~~~~~~~~~~~~~~~~~~~~~~~~~~~~~~~~~~~~~~~~~~~~~~
/home/ioan/.plenv/versions/mm-perl/lib/5.32.1/x86_64-linux/CORE/op.h:927:5: note: expanded from macro 'XopENTRY_set'
    } STMT_END
    ^
lib/Syntax/Keyword/Try.xs:651:3: note: ')' token is here
  XopENTRY_set(&xop_pushfinally, xop_name, "pushfinally");
  ^~~~~~~~~~~~~~~~~~~~~~~~~~~~~~~~~~~~~~~~~~~~~~~~~~~~~~~
/home/ioan/.plenv/versions/mm-perl/lib/5.32.1/x86_64-linux/CORE/op.h:927:7: note: expanded from macro 'XopENTRY_set'
    } STMT_END
      ^~~~~~~~
/home/ioan/.plenv/versions/mm-perl/lib/5.32.1/x86_64-linux/CORE/perl.h:667:21: note: expanded from macro 'STMT_END'
#   define STMT_END     )
                        ^
lib/Syntax/Keyword/Try.xs:652:3: warning: '(' and '{' tokens introducing statement expression appear in different macro expansion contexts [-Wcompound-token-split-by-macro]
  XopENTRY_set(&xop_pushfinally, xop_desc,
  ^~~~~~~~~~~~~~~~~~~~~~~~~~~~~~~~~~~~~~~~
/home/ioan/.plenv/versions/mm-perl/lib/5.32.1/x86_64-linux/CORE/op.h:924:5: note: expanded from macro 'XopENTRY_set'
    STMT_START { \
    ^~~~~~~~~~
/home/ioan/.plenv/versions/mm-perl/lib/5.32.1/x86_64-linux/CORE/perl.h:666:29: note: expanded from macro 'STMT_START'
#   define STMT_START   (void)( /* gcc supports "({ STATEMENTS; })" */
                              ^
lib/Syntax/Keyword/Try.xs:652:3: note: '{' token is here
  XopENTRY_set(&xop_pushfinally, xop_desc,
  ^~~~~~~~~~~~~~~~~~~~~~~~~~~~~~~~~~~~~~~~
/home/ioan/.plenv/versions/mm-perl/lib/5.32.1/x86_64-linux/CORE/op.h:924:16: note: expanded from macro 'XopENTRY_set'
    STMT_START { \
               ^
lib/Syntax/Keyword/Try.xs:652:3: warning: '}' and ')' tokens terminating statement expression appear in different macro expansion contexts [-Wcompound-token-split-by-macro]
  XopENTRY_set(&xop_pushfinally, xop_desc,
  ^~~~~~~~~~~~~~~~~~~~~~~~~~~~~~~~~~~~~~~~
/home/ioan/.plenv/versions/mm-perl/lib/5.32.1/x86_64-linux/CORE/op.h:927:5: note: expanded from macro 'XopENTRY_set'
    } STMT_END
    ^
lib/Syntax/Keyword/Try.xs:652:3: note: ')' token is here
  XopENTRY_set(&xop_pushfinally, xop_desc,
  ^~~~~~~~~~~~~~~~~~~~~~~~~~~~~~~~~~~~~~~~
/home/ioan/.plenv/versions/mm-perl/lib/5.32.1/x86_64-linux/CORE/op.h:927:7: note: expanded from macro 'XopENTRY_set'
    } STMT_END
      ^~~~~~~~
/home/ioan/.plenv/versions/mm-perl/lib/5.32.1/x86_64-linux/CORE/perl.h:667:21: note: expanded from macro 'STMT_END'
#   define STMT_END     )
                        ^
lib/Syntax/Keyword/Try.xs:654:3: warning: '(' and '{' tokens introducing statement expression appear in different macro expansion contexts [-Wcompound-token-split-by-macro]
  XopENTRY_set(&xop_pushfinally, xop_class, OA_SVOP);
  ^~~~~~~~~~~~~~~~~~~~~~~~~~~~~~~~~~~~~~~~~~~~~~~~~~
/home/ioan/.plenv/versions/mm-perl/lib/5.32.1/x86_64-linux/CORE/op.h:924:5: note: expanded from macro 'XopENTRY_set'
    STMT_START { \
    ^~~~~~~~~~
/home/ioan/.plenv/versions/mm-perl/lib/5.32.1/x86_64-linux/CORE/perl.h:666:29: note: expanded from macro 'STMT_START'
#   define STMT_START   (void)( /* gcc supports "({ STATEMENTS; })" */
                              ^
lib/Syntax/Keyword/Try.xs:654:3: note: '{' token is here
  XopENTRY_set(&xop_pushfinally, xop_class, OA_SVOP);
  ^~~~~~~~~~~~~~~~~~~~~~~~~~~~~~~~~~~~~~~~~~~~~~~~~~
/home/ioan/.plenv/versions/mm-perl/lib/5.32.1/x86_64-linux/CORE/op.h:924:16: note: expanded from macro 'XopENTRY_set'
    STMT_START { \
               ^
lib/Syntax/Keyword/Try.xs:654:3: warning: '}' and ')' tokens terminating statement expression appear in different macro expansion contexts [-Wcompound-token-split-by-macro]
  XopENTRY_set(&xop_pushfinally, xop_class, OA_SVOP);
  ^~~~~~~~~~~~~~~~~~~~~~~~~~~~~~~~~~~~~~~~~~~~~~~~~~
/home/ioan/.plenv/versions/mm-perl/lib/5.32.1/x86_64-linux/CORE/op.h:927:5: note: expanded from macro 'XopENTRY_set'
    } STMT_END
    ^
lib/Syntax/Keyword/Try.xs:654:3: note: ')' token is here
  XopENTRY_set(&xop_pushfinally, xop_class, OA_SVOP);
  ^~~~~~~~~~~~~~~~~~~~~~~~~~~~~~~~~~~~~~~~~~~~~~~~~~
/home/ioan/.plenv/versions/mm-perl/lib/5.32.1/x86_64-linux/CORE/op.h:927:7: note: expanded from macro 'XopENTRY_set'
    } STMT_END
      ^~~~~~~~
/home/ioan/.plenv/versions/mm-perl/lib/5.32.1/x86_64-linux/CORE/perl.h:667:21: note: expanded from macro 'STMT_END'
#   define STMT_END     )
                        ^
116 warnings generated.
ExtUtils::Mkbootstrap::Mkbootstrap('blib/arch/auto/Syntax/Keyword/Try/Try.bs')
clang -shared -O2 -L/usr/local/lib -fstack-protector-strong -o blib/arch/auto/Syntax/Keyword/Try/Try.so lib/Syntax/Keyword/Try.o
t/00use.t .............. ok
t/01trycatch.t ......... ok
t/02tryfinally.t ....... ok
t/03trycatchfinally.t .. ok
t/10snail.t ............ ok
t/04catch-types.t ...... ok
t/11loop.t ............. ok
t/12return.t ........... ok
t/13die-in-finally.t ... ok
t/14try-localises.t .... ok
t/15context.t .......... ok
t/16final-expr.t ....... ok
t/20try-do.t ........... ok
t/80defer+SKT.t ........ skipped: Syntax::Keyword::Defer >= 0.02 is not available
t/80await+SKT.t ........ skipped: Future is not available
t/21try-do-finally.t ... ok
t/30compat.t ........... ok
t/90rt123547.t ......... skipped: threads are not supported
t/90rt125971.t ......... ok
t/70deparse.t .......... ok
t/99pod.t .............. ok
All tests successful.
Files=21, Tests=77,  1 wallclock secs ( 0.11 usr  0.08 sys +  2.96 cusr  0.65 csys =  3.80 CPU)
Result: PASS

------------------------------
PREREQUISITES
------------------------------

Prerequisite modules loaded:

    No requirements found

------------------------------
ENVIRONMENT AND OTHER CONTEXT
------------------------------

Environment variables:

    HARNESS_OPTIONS = j8
    LANG = en_GB.UTF-8
    LANGUAGE = en_GB:en_CA:en_US:en
    LC_ADDRESS = en_GB.UTF-8
    LC_ALL = en_GB.UTF-8
    LC_IDENTIFICATION = en_GB.UTF-8
    LC_MEASUREMENT = en_GB.UTF-8
    LC_MONETARY = en_GB.UTF-8
    LC_NAME = en_GB.UTF-8
    LC_NUMERIC = en_GB.UTF-8
    LC_PAPER = en_GB.UTF-8
    LC_TELEPHONE = en_GB.UTF-8
    LC_TIME = en_GB.UTF-8
    PATH = /home/ioan/.plenv/versions/mm-perl/bin:/home/ioan/.plenv/libexec:/home/ioan/.plenv/plugins/perl-build/bin:/home/ioan/Projects/mm_website/bin:/home/ioan/Projects/mm_website/dev/bin/containers:/home/ioan/Projects/mm_website/dev/bin/go:/home/ioan/Projects/mm_website/dev/bin/go/installed:/home/ioan/Projects/mm_website/ansible/bin:/home/ioan/Projects/mm_website/ansible/roles/server_management/files:/home/ioan/go/bin:/home/ioan/.raku/bin:/home/ioan/.plenv/shims:/snap/bin:/snap/google-cloud-sdk/current/bin:/home/ioan/.krew/bin::/home/ioan/.local/bin:/usr/local/bin:/usr/bin:/bin:/usr/local/sbin:/sbin:/usr/sbin:/usr/games
    PERL5LIB = /home/ioan/Projects/mm_website/lib:/home/ioan/Projects/mm_website/t/lib:/home/ioan/Projects/mm_website/ansible/roles/server_management/files/perl_modules/
    PERL_CPANM_OPT = --prompt --no-man-pages --verify --mirror https://cpan.metacpan.org
    SHELL = /bin/zsh
    TERM = xterm-256color

Perl special variables (and OS-specific diagnostics, for MSWin32):

    EGID = 1001 4 20 24 27 30 46 119 130 131 134 138 1001
    EUID = 1001
    EXECUTABLE_NAME = /home/ioan/.plenv/versions/mm-perl/bin/perl5.32.1
    GID = 1001 4 20 24 27 30 46 119 130 131 134 138 1001
    UID = 1001

Perl module toolchain versions installed:

    Module              Have    
    ------------------- --------
    CPAN                2.28    
    CPAN::Meta          2.150010
    Cwd                 3.75    
    ExtUtils::CBuilder  0.280234
    ExtUtils::Command   7.62    
    ExtUtils::Install   2.20    
    ExtUtils::MakeMaker 7.62    
    ExtUtils::Manifest  1.72    
    ExtUtils::ParseXS   3.40    
    File::Spec          3.75    
    JSON                4.03    
    JSON::PP            4.06    
    Module::Build       0.4231  
    Module::Signature   0.87    
    Parse::CPAN::Meta   2.150010
    Test::Harness       3.42    
    Test::More          1.302183
    YAML                1.30    
    YAML::Syck          1.34    
    version             0.9929  


--

Summary of my perl5 (revision 5 version 32 subversion 1) configuration:
   
  Platform:
    osname=linux
    osvers=5.8.0-36-generic
    archname=x86_64-linux
    uname='linux impatience 5.8.0-36-generic #40-ubuntu smp tue jan 5 21:54:35 utc 2021 x86_64 x86_64 x86_64 gnulinux '
    config_args='-Dprefix=/home/ioan/.plenv/versions/mm-perl -de -Dversiononly -Doptimize=-O2 -Dccflags-march=native -Dcc=clang -Dman1dir=none -Dman3dir=none -A'eval:scriptdir=/home/ioan/.plenv/versions/mm-perl/bin''
    hint=recommended
    useposix=true
    d_sigaction=define
    useithreads=undef
    usemultiplicity=undef
    use64bitint=define
    use64bitall=define
    uselongdouble=undef
    usemymalloc=n
    default_inc_excludes_dot=define
    bincompat5005=undef
  Compiler:
    cc='clang'
    ccflags ='-fno-strict-aliasing -pipe -fstack-protector-strong -I/usr/local/include -D_LARGEFILE_SOURCE -D_FILE_OFFSET_BITS=64'
    optimize='-O2'
    cppflags='-fno-strict-aliasing -pipe -fstack-protector-strong -I/usr/local/include'
    ccversion=''
    gccversion='Ubuntu Clang 11.0.0'
    gccosandvers=''
    intsize=4
    longsize=8
    ptrsize=8
    doublesize=8
    byteorder=12345678
    doublekind=3
    d_longlong=define
    longlongsize=8
    d_longdbl=define
    longdblsize=16
    longdblkind=3
    ivtype='long'
    ivsize=8
    nvtype='double'
    nvsize=8
    Off_t='off_t'
    lseeksize=8
    alignbytes=8
    prototype=define
  Linker and Libraries:
    ld='clang'
    ldflags =' -fstack-protector-strong -L/usr/local/lib'
    libpth=/usr/local/lib /usr/lib/llvm-11/lib/clang/11.0.0/lib /usr/include/x86_64-linux-gnu /usr/lib /lib/x86_64-linux-gnu /lib/../lib /usr/lib/x86_64-linux-gnu /usr/lib/../lib /lib /lib64 /usr/lib64
    libs=-lpthread -lnsl -ldb -ldl -lm -lcrypt -lutil -lc
    perllibs=-lpthread -lnsl -ldl -lm -lcrypt -lutil -lc
    libc=libc-2.32.so
    so=so
    useshrplib=false
    libperl=libperl.a
    gnulibc_version='2.32'
  Dynamic Linking:
    dlsrc=dl_dlopen.xs
    dlext=so
    d_dlsymun=undef
    ccdlflags='-Wl,-E'
    cccdlflags='-fPIC'
    lddlflags='-shared -O2 -L/usr/local/lib -fstack-protector-strong'


Characteristics of this binary (from libperl): 
  Compile-time options:
    HAS_TIMES
    PERLIO_LAYERS
    PERL_COPY_ON_WRITE
    PERL_DONT_CREATE_GVSV
    PERL_MALLOC_WRAP
    PERL_OP_PARENT
    PERL_PRESERVE_IVUV
    USE_64_BIT_ALL
    USE_64_BIT_INT
    USE_LARGE_FILES
    USE_LOCALE
    USE_LOCALE_COLLATE
    USE_LOCALE_CTYPE
    USE_LOCALE_NUMERIC
    USE_LOCALE_TIME
    USE_PERLIO
    USE_PERL_ATOF
  Locally applied patches:
    Devel::PatchPerl 2.08
  Built under linux
  Compiled at Jan 27 2021 13:26:47
  %ENV:
    PERL5LIB="/home/ioan/Projects/mm_website/lib:/home/ioan/Projects/mm_website/t/lib:/home/ioan/Projects/mm_website/ansible/roles/server_management/files/perl_modules/"
    PERL_CPANM_OPT="--prompt --no-man-pages --verify --mirror https://cpan.metacpan.org"
  @INC:
    /home/ioan/Projects/mm_website/lib
    /home/ioan/Projects/mm_website/t/lib
    /home/ioan/Projects/mm_website/ansible/roles/server_management/files/perl_modules/
    /home/ioan/.plenv/versions/mm-perl/lib/site_perl/5.32.1/x86_64-linux
    /home/ioan/.plenv/versions/mm-perl/lib/site_perl/5.32.1
    /home/ioan/.plenv/versions/mm-perl/lib/5.32.1/x86_64-linux
    /home/ioan/.plenv/versions/mm-perl/lib/5.32.1