Report for Mail-Transport-Dbx-0.07

Back
From: metabase:user:314402c4-2aae-11df-837a-5e0a49663a4f
Subject: PASS Mail-Transport-Dbx-0.07 v5.14.2 GNU/Linux
Date: 2012-01-20T11:23:44Z

This distribution has been tested as part of the CPAN Testers
project, supporting the Perl programming language.  See
http://wiki.cpantesters.org/ for more information or email
questions to cpan-testers-discuss@perl.org


--
Dear Tassilo von Parseval,

This is a computer-generated report for Mail-Transport-Dbx-0.07
on perl 5.14.2, created by CPAN-Reporter-1.2003.

Thank you for uploading your work to CPAN.  Congratulations!
All tests were successful.

Sections of this report:

    * Tester comments
    * Program output
    * Prerequisites
    * Environment and other context

------------------------------
TESTER COMMENTS
------------------------------

Additional comments from tester:

none provided

------------------------------
PROGRAM OUTPUT
------------------------------

Output from '/usr/bin/make test':

make[1]: Ulazim u direktorij `/mnt/redhat-root/home/slavenr/.cpan/build/Mail-Transport-Dbx-0.07-OuJlwn/libdbx'
make[1]: Ništa za napraviti za `all'.
make[1]: Izlazim iz direktorija `/mnt/redhat-root/home/slavenr/.cpan/build/Mail-Transport-Dbx-0.07-OuJlwn/libdbx'
PERL_DL_NONLAZY=1 /opt/perl-5.14.2/bin/perl "-MExtUtils::Command::MM" "-e" "test_harness(0, 'blib/lib', 'blib/arch')" t/*.t
t/0_pod.t ........... ok
t/0_pod_coverage.t .. skipped: Test::Pod::Coverage not installed
t/1.t ............... ok
t/2.t ............... ok
t/3.t ............... ok
t/fixed.t ........... ok
All tests successful.
Files=6, Tests=59,  0 wallclock secs ( 0.07 usr  0.02 sys +  0.27 cusr  0.04 csys =  0.40 CPU)
Result: PASS
make[1]: Ulazim u direktorij `/mnt/redhat-root/home/slavenr/.cpan/build/Mail-Transport-Dbx-0.07-OuJlwn/libdbx'
No tests defined for Mail::Transport::Dbx::libdbx extension.
make[1]: Izlazim iz direktorija `/mnt/redhat-root/home/slavenr/.cpan/build/Mail-Transport-Dbx-0.07-OuJlwn/libdbx'

------------------------------
PREREQUISITES
------------------------------

Prerequisite modules loaded:

build_requires:

    Module              Need Have
    ------------------- ---- ----
    ExtUtils::MakeMaker 0    6.62


------------------------------
ENVIRONMENT AND OTHER CONTEXT
------------------------------

Environment variables:

    LANG = hr_HR.UTF-8
    PATH = /usr/local/netpbm/bin:/usr/local/bin:/usr/bin:/bin:/usr/local/sbin:/usr/sbin:/sbin:/home/slavenr/bin/linux-gnu:/home/slavenr/bin/sh:/home/slavenr/bin:/usr/X11R6/bin:/usr/X11/bin:/usr/games:/home/slavenr/devel:/usr/lib/jvm/java-1.5.0-sun/bin:/usr/java/ant/bin:/services/mobile/framework/bin/:/home/live/bin
    PERL5LIB = 
    PERL5OPT = 
    PERL5_CPANPLUS_IS_RUNNING = 12212
    PERL5_CPAN_IS_RUNNING = 12212
    PERLDOC = -MPod::Perldoc::ToTextOverstrike
    PERL_HTML_DISPLAY_CLASS = HTML::Display::Mozilla
    SHELL = /usr/bin/zsh
    STDPERL = perl
    TERM = xterm

Perl special variables (and OS-specific diagnostics, for MSWin32):

    $^X = /opt/perl-5.14.2/bin/perl
    $UID/$EUID = 502 / 502
    $GID = 502 4 20 24 25 29 44 46 120 502 1004
    $EGID = 502 4 20 24 25 29 44 46 120 502 1004

Perl module toolchain versions installed:

    Module              Have    
    ------------------- --------
    CPAN                1.9800  
    CPAN::Meta          2.113640
    Cwd                 3.36    
    ExtUtils::CBuilder  0.280203
    ExtUtils::Command   1.17    
    ExtUtils::Install   1.56    
    ExtUtils::MakeMaker 6.62    
    ExtUtils::Manifest  1.60    
    ExtUtils::ParseXS   3.11    
    File::Spec          3.33    
    JSON                2.53    
    JSON::PP            2.27200 
    Module::Build       0.3800  
    Module::Signature   n/a     
    Parse::CPAN::Meta   1.4401  
    Test::Harness       3.23    
    Test::More          0.98    
    YAML                0.78    
    YAML::Syck          1.19    
    version             0.95    


--

Summary of my perl5 (revision 5 version 14 subversion 2) configuration:
  Commit id: dc281e6088d189558b79a5121119b7196c8b3db0
  Platform:
    osname=linux, osvers=2.6.26-2-686, archname=i686-linux
    uname='linux devpc01-debian 2.6.26-2-686 #1 smp wed aug 19 06:06:52 utc 2009 i686 gnulinux '
    config_args='-ds -e -Dinstallusrbinperl=n -Dprefix=/opt/perl-5.14.2'
    hint=recommended, useposix=true, d_sigaction=define
    useithreads=undef, usemultiplicity=undef
    useperlio=define, d_sfio=undef, uselargefiles=define, usesocks=undef
    use64bitint=undef, use64bitall=undef, uselongdouble=undef
    usemymalloc=n, bincompat5005=undef
  Compiler:
    cc='cc', ccflags ='-fno-strict-aliasing -pipe -fstack-protector -I/usr/local/include -D_LARGEFILE_SOURCE -D_FILE_OFFSET_BITS=64',
    optimize='-O2',
    cppflags='-fno-strict-aliasing -pipe -fstack-protector -I/usr/local/include'
    ccversion='', gccversion='4.1.2 20061115 (prerelease) (Debian 4.1.1-21)', gccosandvers=''
    intsize=4, longsize=4, ptrsize=4, doublesize=8, byteorder=1234
    d_longlong=define, longlongsize=8, d_longdbl=define, longdblsize=12
    ivtype='long', ivsize=4, nvtype='double', nvsize=8, Off_t='off_t', lseeksize=8
    alignbytes=4, prototype=define
  Linker and Libraries:
    ld='cc', ldflags =' -fstack-protector -L/usr/local/lib'
    libpth=/usr/local/lib /lib /usr/lib /usr/lib64
    libs=-lnsl -lgdbm -ldb -ldl -lm -lcrypt -lutil -lc -lgdbm_compat
    perllibs=-lnsl -ldl -lm -lcrypt -lutil -lc
    libc=/lib/libc-2.9.so, so=so, useshrplib=false, libperl=libperl.a
    gnulibc_version='2.9'
  Dynamic Linking:
    dlsrc=dl_dlopen.xs, dlext=so, d_dlsymun=undef, ccdlflags='-Wl,-E'
    cccdlflags='-fPIC', lddlflags='-shared -O2 -L/usr/local/lib -fstack-protector'


Characteristics of this binary (from libperl): 
  Compile-time options: PERL_DONT_CREATE_GVSV PERL_MALLOC_WRAP
                        PERL_PRESERVE_IVUV USE_LARGE_FILES USE_PERLIO
                        USE_PERL_ATOF
  Built under linux
  Compiled at Jan 17 2012 14:31:43
  %ENV:
    PERL5LIB=""
    PERL5OPT=""
    PERL5_CPANPLUS_IS_RUNNING="12212"
    PERL5_CPAN_IS_RUNNING="12212"
    PERLDOC="-MPod::Perldoc::ToTextOverstrike"
    PERL_HTML_DISPLAY_CLASS="HTML::Display::Mozilla"
  @INC:
    /opt/perl-5.14.2/lib/site_perl/5.14.2/i686-linux
    /opt/perl-5.14.2/lib/site_perl/5.14.2
    /opt/perl-5.14.2/lib/5.14.2/i686-linux
    /opt/perl-5.14.2/lib/5.14.2
    .