Project-Euler v0.20 Perl 5 v5.10.1 i386-freebsd

Status
Pass
From
Slaven Rezić (SREZIC)
Dist
Project-Euler v0.20
Platform
Perl 5 v5.10.1 i386-freebsd
Date
2010-08-26 17:56:11
ID
367b1b1a-b13b-11df-8e3c-d3f32fd982fc
This distribution has been tested as part of the CPAN Testers
project, supporting the Perl programming language.  See
http://wiki.cpantesters.org/ for more information or email
questions to cpan-testers-discuss@perl.org


--
Dear Adam Lesperance,
    
This is a computer-generated report for Project-Euler-0.20
on perl 5.10.1, created by CPAN-Reporter-1.171. 

Thank you for uploading your work to CPAN.  Congratulations!
All tests were successful.

Sections of this report:

    * Tester comments
    * Program output
    * Prerequisites
    * Environment and other context

------------------------------
TESTER COMMENTS
------------------------------

Additional comments from tester: 

none provided

------------------------------
PROGRAM OUTPUT
------------------------------

Output from './Build test':

# Testing Project::Euler, Perl 5.010001, /usr/perl5.10.1/bin/perl
t/00-Base/00-load.t ........................... ok
t/00-Base/01-base.t ........................... ok
t/00-compile.t ................................ ok
t/10-Lib/000-Types.t .......................... ok
t/10-Lib/100-Utils_List.t ..................... ok
t/10-Lib/101-Utils_Fibs.t ..................... ok
t/20-Problems/000-Correct_Defaults.t .......... ok
t/20-Problems/001-Sum_Filtered_Lists.t ........ ok
t/20-Problems/002-Sum_Filtered_Fib_Numbers.t .. ok
t/author-99-template.t ........................ skipped: these tests are for testing by the author
t/author-critic.t ............................. skipped: these tests are for testing by the author
t/release-check-changes.t ..................... skipped: these tests are for release candidate testing
t/release-distmeta.t .......................... skipped: these tests are for release candidate testing
t/release-has-version.t ....................... skipped: these tests are for release candidate testing
t/release-kwalitee.t .......................... skipped: these tests are for release candidate testing
t/release-minimum-version.t ................... skipped: these tests are for release candidate testing
t/release-pod-coverage.t ...................... skipped: these tests are for release candidate testing
t/release-pod-syntax.t ........................ skipped: these tests are for release candidate testing
t/release-portability.t ....................... skipped: these tests are for release candidate testing
t/release-synopsis.t .......................... skipped: these tests are for release candidate testing
t/release-unused-vars.t ....................... skipped: these tests are for release candidate testing
All tests successful.
Files=21, Tests=338, 26 wallclock secs ( 0.09 usr  0.11 sys +  7.27 cusr  0.80 csys =  8.27 CPU)
Result: PASS

------------------------------
PREREQUISITES
------------------------------

Prerequisite modules loaded:

requires:

    Module                      Need   Have    
    --------------------------- ------ --------
    Carp                        0      1.11    
    DateTime                    0      0.61    
    DateTime::Format::DateParse 0      0.04    
    Exporter::Easy              0      0.16    
    List::MoreUtils             0      0.22    
    List::Util                  0      1.23    
    Math::Big::Factors          0      1.02    
    Math::BigInt                0      1.89    
    Modern::Perl                0      1.03    
    Moose                       0      1.10    
    Moose::Role                 0      1.10    
    MooseX::Types               0      0.23    
    MooseX::Types::Moose        0      0.23    
    namespace::autoclean        0      0.09    
    perl                        5.010  5.010001
    Readonly                    0      1.03    
    String::Palindrome          0      1.02    

build_requires:

    Module                      Need   Have    
    --------------------------- ------ --------
    autodie                     0      2.10    
    constant                    0      1.17    
    English                     0      1.04    
    File::Find                  0      1.14    
    File::Spec                  0      3.31    
    File::Temp                  0      0.22    
    Module::Build               0.3601 0.3607  
    Test::Exception             0      0.29    
    Test::More                  0      0.96    
    Test::Most                  0      0.21    

configure_requires:

    Module                      Need   Have    
    --------------------------- ------ --------
    Module::Build               0.3601 0.3607  


------------------------------
ENVIRONMENT AND OTHER CONTEXT
------------------------------

Environment variables:

    DBIC_NO_WARN_BAD_PERL = 1
    PATH = /usr/local/bin:/usr/X11R6/bin:/usr/X11/bin:/usr/perl5.8.0/bin:/usr/bin:/bin:/usr/local/sbin:/usr/sbin:/sbin:/usr/local/pilot/bin:/home/cpansand/bin/freebsd8.0:/home/cpansand/bin/sh:/home/cpansand/bin:/usr/X386/bin:/usr/games:/home/cpansand/devel:/usr/home/e/eserte/work/srezic-misc/scripts
    PERL5LIB = /usr/local/src/CPAN/build/ProjectBuilder-0.9.10-FFYr2D/blib/arch:/usr/local/src/CPAN/build/ProjectBuilder-0.9.10-FFYr2D/blib/lib
    PERL5OPT = 
    PERL5_CPANPLUS_IS_RUNNING = 41692
    PERL5_CPAN_IS_RUNNING = 41692
    PERL5_CPAN_IS_RUNNING_IN_RECURSION = 31523,41692
    PERL_BATCH = yes
    PERL_EXTUTILS_AUTOINSTALL = --defaultdeps
    PERL_HTML_DISPLAY_CLASS = HTML::Display::Mozilla
    SHELL = /usr/local/bin/zsh
    TERM = screen
    TMPDIR = /tmp/cpansmoker-1023

Perl special variables (and OS-specific diagnostics, for MSWin32):

    $^X = /usr/perl5.10.1/bin/perl
    $UID/$EUID = 1023 / 1023
    $GID = 1023 1023
    $EGID = 1023 1023

Perl module toolchain versions installed:

    Module              Have  
    ------------------- ------
    CPAN                1.9402
    Cwd                 3.31  
    ExtUtils::CBuilder  0.2703
    ExtUtils::Command   1.16  
    ExtUtils::Install   1.54  
    ExtUtils::MakeMaker 6.56  
    ExtUtils::Manifest  1.56  
    ExtUtils::ParseXS   2.2206
    File::Spec          3.31  
    Module::Build       0.3607
    Module::Signature   0.64  
    Test::Harness       3.22  
    Test::More          0.96  
    YAML                0.71  
    YAML::Syck          1.10  
    version             0.82  


--

Summary of my perl5 (revision 5 version 10 subversion 1) configuration:
   
  Platform:
    osname=freebsd, osvers=8.0-release, archname=i386-freebsd
    uname='freebsd biokovo.herceg.de 8.0-release freebsd 8.0-release #0: sat nov 21 15:48:17 utc 2009 root@almeida.cse.buffalo.edu:usrobjusrsrcsysgeneric i386 '
    config_args='-Dprefix=/usr/perl5.10.1 -Dusemymalloc=n -D cc=ccache cc -Dgccansipedantic -Duse64bit -de -D hintfile=myfreebsd'
    hint=recommended, useposix=true, d_sigaction=define
    useithreads=undef, usemultiplicity=undef
    useperlio=define, d_sfio=undef, uselargefiles=define, usesocks=undef
    use64bitint=undef, use64bitall=undef, uselongdouble=undef
    usemymalloc=n, bincompat5005=undef
  Compiler:
    cc='ccache cc', ccflags ='-DHAS_FPSETMASK -DHAS_FLOATINGPOINT_H -fno-strict-aliasing -pipe -fstack-protector -I/usr/local/include',
    optimize='-O2 -mtune=athlon64 -pipe',
    cppflags='-DHAS_FPSETMASK -DHAS_FLOATINGPOINT_H -fno-strict-aliasing -pipe -fstack-protector -I/usr/local/include'
    ccversion='', gccversion='4.2.1 20070719  [FreeBSD]', gccosandvers=''
    intsize=4, longsize=4, ptrsize=4, doublesize=8, byteorder=1234
    d_longlong=define, longlongsize=8, d_longdbl=define, longdblsize=12
    ivtype='long', ivsize=4, nvtype='double', nvsize=8, Off_t='off_t', lseeksize=8
    alignbytes=4, prototype=define
  Linker and Libraries:
    ld='ccache cc', ldflags ='-Wl,-E  -fstack-protector -L/usr/local/lib'
    libpth=/usr/lib /usr/local/lib
    libs=-lgdbm -lm -lcrypt -lutil -lc
    perllibs=-lm -lcrypt -lutil -lc
    libc=, so=so, useshrplib=false, libperl=libperl.a
    gnulibc_version=''
  Dynamic Linking:
    dlsrc=dl_dlopen.xs, dlext=so, d_dlsymun=undef, ccdlflags=' '
    cccdlflags='-DPIC -fPIC', lddlflags='-shared  -L/usr/local/lib -fstack-protector'


Characteristics of this binary (from libperl): 
  Compile-time options: PERL_DONT_CREATE_GVSV PERL_MALLOC_WRAP PERL_USE_DEVEL
                        USE_LARGE_FILES USE_PERLIO
  Built under freebsd
  Compiled at Feb  6 2010 13:47:51
  %ENV:
    PERL5LIB="/usr/local/src/CPAN/build/ProjectBuilder-0.9.10-FFYr2D/blib/arch:/usr/local/src/CPAN/build/ProjectBuilder-0.9.10-FFYr2D/blib/lib"
    PERL5OPT=""
    PERL5_CPANPLUS_IS_RUNNING="41692"
    PERL5_CPAN_IS_RUNNING="41692"
    PERL5_CPAN_IS_RUNNING_IN_RECURSION="31523,41692"
    PERL_BATCH="yes"
    PERL_EXTUTILS_AUTOINSTALL="--defaultdeps"
    PERL_HTML_DISPLAY_CLASS="HTML::Display::Mozilla"
  @INC:
    /usr/local/src/CPAN/build/ProjectBuilder-0.9.10-FFYr2D/blib/arch
    /usr/local/src/CPAN/build/ProjectBuilder-0.9.10-FFYr2D/blib/lib
    /usr/perl5.10.1/lib/5.10.1/i386-freebsd
    /usr/perl5.10.1/lib/5.10.1
    /usr/perl5.10.1/lib/site_perl/5.10.1/i386-freebsd
    /usr/perl5.10.1/lib/site_perl/5.10.1
    .