Report for Pod-Weaver-PluginBundle-Apocalyptic-0.004

Back
From: metabase:user:b53c7f44-4c0e-11e4-9ced-a04ade49192c
Subject: PASS Pod-Weaver-PluginBundle-Apocalyptic-0.004 v5.18.3 GNU/Linux
Date: 2015-01-19T13:00:58Z

This distribution has been tested as part of the CPAN Testers
project, supporting the Perl programming language.  See
http://wiki.cpantesters.org/ for more information or email
questions to cpan-testers-discuss@perl.org


--
Dear Apocalypse,

This is a computer-generated report for Pod-Weaver-PluginBundle-Apocalyptic-0.004
on perl 5.18.3, created by CPAN-Reporter-1.2011.

Thank you for uploading your work to CPAN.  Congratulations!
All tests were successful.

Sections of this report:

    * Tester comments
    * Program output
    * Prerequisites
    * Environment and other context

------------------------------
TESTER COMMENTS
------------------------------

Additional comments from tester:

this report is from an automated smoke testing program
and was not reviewed by a human for accuracy

------------------------------
PROGRAM OUTPUT
------------------------------

Output from '/usr/bin/make test':

PERL_DL_NONLAZY=1 "/opt/perl430-27-O0-5.18.3/bin/perl" "-MExtUtils::Command::MM" "-MTest::Harness" "-e" "undef *Test::Harness::Switches; test_harness(0, 'blib/lib', 'blib/arch')" t/*.t
t/00-compile.t ................ ok
# 
# 
# Generated by Dist::Zilla::Plugin::ReportVersions::Tiny v1.10
# perl: 5.018003 (wanted 5.006) on linux from /opt/perl430-27-O0-5.18.3/bin/perl
# 
# File::Spec                                    => 3.47       (want any version)
# File::Temp                                    => 0.23       (want any version)
# IO::Handle                                    => 1.34       (want any version)
# IPC::Open3                                    => 1.13       (want any version)
# Module::Build                                 => 0.421      (want 0.28)   
# Pod::Elemental::Transformer::List             => 0.102000   (want 0.101620)
# Pod::Weaver::Config::Assembler                => 4.010      (want 4.001)  
# Pod::Weaver::Plugin::EnsureUniqueSections     => 0.121550   (want 0.103531)
# Pod::Weaver::Plugin::StopWords                => 1.010      (want 1.001005)
# Pod::Weaver::Section::Contributors            => 0.009      (want 0.008)  
# Pod::Weaver::Section::SeeAlso                 => 1.003      (want 1.002)  
# Pod::Weaver::Section::Support                 => 1.007      (want 1.003)  
# Pod::Weaver::Section::WarrantyDisclaimer      => 0.121290   (want 0.111290)
# Test::More                                    => 1.001014   (want 0.88)   
# strict                                        => 1.07       (want any version)
# warnings                                      => 1.18       (want any version)
# 
# Thanks for using my code.  I hope it works for you.
# If not, please try and include this output in the bug report.
# That will help me reproduce the issue and solve your problem.
# 
t/000-report-versions-tiny.t .. ok
t/apocalypse.t ................ skipped: Test::Apocalypse required for validating the distribution
All tests successful.
Files=3, Tests=2, 16 wallclock secs ( 0.20 usr  0.02 sys + 13.11 cusr  0.52 csys = 13.85 CPU)
Result: PASS

------------------------------
PREREQUISITES
------------------------------

Prerequisite modules loaded:

requires:

    Module                                    Need     Have    
    ----------------------------------------- -------- --------
    perl                                      5.006    5.018003
    Pod::Elemental::Transformer::List         0.101620 0.102000
    Pod::Weaver::Config::Assembler            4.001    4.010   
    Pod::Weaver::Plugin::EnsureUniqueSections 0.103531 0.121550
    Pod::Weaver::Plugin::StopWords            1.001005 1.010   
    Pod::Weaver::Section::Contributors        0.008    0.009   
    Pod::Weaver::Section::SeeAlso             1.002    1.003   
    Pod::Weaver::Section::Support             1.003    1.007   
    Pod::Weaver::Section::WarrantyDisclaimer  0.111290 0.121290
    strict                                    0        1.07    
    warnings                                  0        1.18    

build_requires:

    Module                                    Need     Have    
    ----------------------------------------- -------- --------
    File::Spec                                0        3.47    
    File::Temp                                0        0.23    
    IO::Handle                                0        1.34    
    IPC::Open3                                0        1.13    
    Module::Build                             0.28     0.4210  
    Test::More                                0.88     1.001014

configure_requires:

    Module                                    Need     Have    
    ----------------------------------------- -------- --------
    Module::Build                             0.28     0.4210  


------------------------------
ENVIRONMENT AND OTHER CONTEXT
------------------------------

Environment variables:

    AUTOMATED_TESTING = 1
    LANG = en_US.utf8
    NONINTERACTIVE_TESTING = 1
    PATH = /usr/lib/qt-3.3/bin:/usr/kerberos/sbin:/usr/kerberos/bin:/usr/lib/ccache:/usr/local/sbin:/usr/sbin:/sbin:/usr/local/bin:/usr/bin:/bin:/usr/lib/firebird/bin:/opt/real/RealPlayer:/root/bin:/usr/lib/firebird/bin:/opt/real/RealPlayer
    PERL5LIB = 
    PERL5OPT = 
    PERL5_CPANPLUS_IS_RUNNING = 3500
    PERL5_CPAN_IS_RUNNING = 3500
    PERL_MM_USE_DEFAULT = 1
    SHELL = /bin/bash
    TERM = xterm

Perl special variables (and OS-specific diagnostics, for MSWin32):

    $^X = /opt/perl430-27-O0-5.18.3/bin/perl
    $UID/$EUID = 0 / 0
    $GID = 0 0 1 2 3 4 6 10
    $EGID = 0 0 1 2 3 4 6 10

Perl module toolchain versions installed:

    Module              Have    
    ------------------- --------
    CPAN                2.05    
    CPAN::Meta          2.143240
    Cwd                 3.47    
    ExtUtils::CBuilder  0.280210
    ExtUtils::Command   1.17    
    ExtUtils::Install   1.59    
    ExtUtils::MakeMaker 7.04    
    ExtUtils::Manifest  1.70    
    ExtUtils::ParseXS   3.18    
    File::Spec          3.47    
    JSON                2.90    
    JSON::PP            2.27203 
    Module::Build       0.4210  
    Module::Signature   0.73    
    Parse::CPAN::Meta   1.4414  
    Test::Harness       3.35    
    Test::More          1.001014
    YAML                1.13    
    YAML::Syck          n/a     
    version             0.9902  


--

Summary of my perl5 (revision 5 version 18 subversion 3) configuration:
   
  Platform:
    osname=linux, osvers=2.6.27.25-78.2.56.fc9.i686, archname=i686-linux-thread-multi-64int-ld
    uname='linux localhost.localdomain 2.6.27.25-78.2.56.fc9.i686 #1 smp thu jun 18 12:47:50 edt 2009 i686 i686 i386 gnulinux '
    config_args='-Dcc=gcc -Dprefix=/opt/perl430-27-O0-5.18.3 -DDEBUGGING'
    hint=recommended, useposix=true, d_sigaction=define
    useithreads=define, usemultiplicity=define
    useperlio=define, d_sfio=undef, uselargefiles=define, usesocks=undef
    use64bitint=define, use64bitall=undef, uselongdouble=define
    usemymalloc=y, bincompat5005=undef
  Compiler:
    cc='gcc', ccflags ='-D_REENTRANT -D_GNU_SOURCE -DDEBUGGING -fno-strict-aliasing -pipe -fstack-protector -I/usr/local/include -D_LARGEFILE_SOURCE -D_FILE_OFFSET_BITS=64',
    optimize='-O0 -g',
    cppflags='-D_REENTRANT -D_GNU_SOURCE -DDEBUGGING -fno-strict-aliasing -pipe -fstack-protector -I/usr/local/include'
    ccversion='', gccversion='4.3.0 20080428 (Red Hat 4.3.0-8)', gccosandvers=''
    intsize=4, longsize=4, ptrsize=4, doublesize=8, byteorder=12345678
    d_longlong=define, longlongsize=8, d_longdbl=define, longdblsize=12
    ivtype='long long', ivsize=8, nvtype='long double', nvsize=12, Off_t='off_t', lseeksize=8
    alignbytes=4, prototype=define
  Linker and Libraries:
    ld='gcc', ldflags =' -fstack-protector -L/usr/local/lib'
    libpth=/usr/local/lib /lib /usr/lib
    libs=-lnsl -ldl -lm -lcrypt -lutil -lpthread -lc
    perllibs=-lnsl -ldl -lm -lcrypt -lutil -lpthread -lc
    libc=/lib/libc-2.8.so, so=so, useshrplib=true, libperl=libperl.so
    gnulibc_version='2.8'
  Dynamic Linking:
    dlsrc=dl_dlopen.xs, dlext=so, d_dlsymun=undef, ccdlflags='-Wl,-E -Wl,-rpath,/opt/perl430-27-O0-5.18.3/lib/5.18.3/i686-linux-thread-multi-64int-ld/CORE'
    cccdlflags='-fPIC', lddlflags='-shared -O0 -g -L/usr/local/lib -fstack-protector'


Characteristics of this binary (from libperl): 
  Compile-time options: DEBUGGING HAS_TIMES MULTIPLICITY MYMALLOC
                        PERLIO_LAYERS PERL_DONT_CREATE_GVSV
                        PERL_HASH_FUNC_ONE_AT_A_TIME_HARD
                        PERL_IMPLICIT_CONTEXT PERL_MAD PERL_MALLOC_WRAP
                        PERL_PRESERVE_IVUV PERL_SAWAMPERSAND
                        PERL_TRACK_MEMPOOL USE_64_BIT_INT USE_FAST_STDIO
                        USE_ITHREADS USE_LARGE_FILES USE_LOCALE
                        USE_LOCALE_COLLATE USE_LOCALE_CTYPE
                        USE_LOCALE_NUMERIC USE_LONG_DOUBLE USE_PERLIO
                        USE_PERL_ATOF USE_REENTRANT_API
  Built under linux
  Compiled at Oct  5 2014 05:04:09
  %ENV:
    PERL5LIB=""
    PERL5OPT=""
    PERL5_CPANPLUS_IS_RUNNING="3500"
    PERL5_CPAN_IS_RUNNING="3500"
    PERL_MM_USE_DEFAULT="1"
  @INC:
    /opt/perl430-27-O0-5.18.3/lib/site_perl/5.18.3/i686-linux-thread-multi-64int-ld
    /opt/perl430-27-O0-5.18.3/lib/site_perl/5.18.3
    /opt/perl430-27-O0-5.18.3/lib/5.18.3/i686-linux-thread-multi-64int-ld
    /opt/perl430-27-O0-5.18.3/lib/5.18.3
    .