MooseX-WithCache v0.01007 Perl 5 v5.31.10 x86_64-linux-thread-multi-ld
- Status
- Pass
- From
- Andreas J. König (ANDK)
- Dist
-
MooseX-WithCache v0.01007
- Platform
- Perl 5 v5.31.10 x86_64-linux-thread-multi-ld
- Date
- 2020-02-26 16:51:20
- ID
- 36a70566-58b8-11ea-a471-982b3cc47437
This distribution has been tested as part of the CPAN Testers
project, supporting the Perl programming language. See
http://wiki.cpantesters.org/ for more information or email
questions to cpan-testers-discuss@perl.org
--
Dear Robin Clarke,
This is a computer-generated report for MooseX-WithCache-0.01007
on perl 5.31.10, created by CPAN-Reporter-1.2018.
Thank you for uploading your work to CPAN. Congratulations!
All tests were successful.
Sections of this report:
* Tester comments
* Program output
* Prerequisites
* Environment and other context
------------------------------
TESTER COMMENTS
------------------------------
Additional comments from tester:
this report is from an automated smoke testing program
and was not reviewed by a human for accuracy
------------------------------
PROGRAM OUTPUT
------------------------------
Output from '/usr/bin/make test':
PERL_DL_NONLAZY=1 "/tmp/basesmoker-reloperl-KWxf/bin/perl" "-MExtUtils::Command::MM" "-MTest::Harness" "-e" "undef *Test::Harness::Switches; test_harness(0, 'inc', 'blib/lib', 'blib/arch')" t/*.t t/*/*.t
t/00_compile.t ....... ok
t/02_memcached.t ..... skipped: no memcached server found
must specify either 'datastore' hashref or 'global' flag at /home/sand/src/perl/repoperls/installed-perls/host/k93msid/v5.31.9-16-g83067d4902/496c/lib/site_perl/5.31.10/CHI/Driver/Memory.pm line 34.
CHI::Driver::Memory::BUILD(CHI::Driver::Memory__WITH__CHI::Driver::Role::Universal=HASH(0x556f712de408), HASH(0x556f71359a48)) called at (eval 292) line 508
CHI::Driver::Memory__WITH__CHI::Driver::Role::Universal::new("CHI::Driver::Memory__WITH__CHI::Driver::Role::Universal", "chi_root_class", "CHI", "driver_class", "CHI::Driver::Memory") called at (eval 291) line 56
CHI::Driver::Memory::new("CHI::Driver::Memory__WITH__CHI::Driver::Role::Universal", "chi_root_class", "CHI", "driver_class", "CHI::Driver::Memory") called at /home/sand/src/perl/repoperls/installed-perls/host/k93msid/v5.31.9-16-g83067d4902/496c/lib/site_perl/5.31.10/CHI.pm line 151
CHI::new("CHI", "driver", "Memory") called at t/03_chi.t line 29
t/03_chi.t ........... ok
t/04_fastmmap.t ...... ok
t/05_filecache.t ..... ok
t/99_pod-coverage.t .. skipped: Enable TEST_POD environment variable to test POD
t/99_pod.t ........... skipped: Enable TEST_POD environment variable to test POD
All tests successful.
Files=7, Tests=43, 1 wallclock secs ( 0.04 usr 0.02 sys + 1.42 cusr 0.24 csys = 1.72 CPU)
Result: PASS
------------------------------
PREREQUISITES
------------------------------
Prerequisite modules loaded:
requires:
Module Need Have
--------------------------- ----- --------
Cache::FileCache 0 0
Cache::Memcached 0 1.30
Data::Dumper 0 2.174
Digest::MD5 0 2.55_01
Moose 0.59 2.2012
MooseX::Role::Parameterized 0 1.11
perl 5.008 5.031010
build_requires:
Module Need Have
--------------------------- ----- --------
ExtUtils::MakeMaker 6.42 7.44
IO::Socket::INET 0 1.41
Test::Exception 0 0.43
Test::More 0 1.302171
configure_requires:
Module Need Have
--------------------------- ----- --------
ExtUtils::MakeMaker 6.42 7.44
------------------------------
ENVIRONMENT AND OTHER CONTEXT
------------------------------
Environment variables:
AUTOMATED_TESTING = 1
LANG = en_US.UTF-8
PATH = /home/sand/bin:/usr/local/bin:/usr/bin:/bin:/usr/games:/usr/local/perl/bin:/usr/X11/bin:/sbin:/usr/sbin
PERL5LIB =
PERL5OPT =
PERL5_CPANPLUS_IS_RUNNING = 1630934
PERL5_CPAN_IS_RUNNING = 1630934
PERL_CANARY_STABILITY_NOPROMPT = 1
PERL_MM_USE_DEFAULT = 1
PERL_USE_UNSAFE_INC = 1
SHELL = /usr/bin/zsh
TERM = screen
Perl special variables (and OS-specific diagnostics, for MSWin32):
$^X = /tmp/basesmoker-reloperl-KWxf/bin/perl
$UID/$EUID = 1005 / 1005
$GID = 1005 1005
$EGID = 1005 1005
Perl module toolchain versions installed:
Module Have
------------------- --------
CPAN 2.27
CPAN::Meta 2.150010
Cwd 3.78
ExtUtils::CBuilder 0.280234
ExtUtils::Command 7.44
ExtUtils::Install 2.14
ExtUtils::MakeMaker 7.44
ExtUtils::Manifest 1.72
ExtUtils::ParseXS 3.40
File::Spec 3.78
JSON 4.02
JSON::PP 4.04
Module::Build 0.4231
Module::Signature 0.83
Parse::CPAN::Meta 2.150010
Test::Harness 3.42
Test::More 1.302171
YAML 1.30
YAML::Syck 1.32
version 0.9924
--
Summary of my perl5 (revision 5 version 31 subversion 10) configuration:
Commit id: 83067d4902203c0bd0a6e901cd25f3b871668331
Platform:
osname=linux
osvers=5.3.0-2-amd64
archname=x86_64-linux-thread-multi-ld
uname='linux k93msid 5.3.0-2-amd64 #1 smp debian 5.3.9-3 (2019-11-19) x86_64 gnulinux '
config_args='-Dprefix=/home/sand/src/perl/repoperls/installed-perls/host/k93msid/v5.31.9-16-g83067d4902/496c -Dmyhostname=k93msid -Dinstallusrbinperl=n -Uversiononly -Dusedevel -des -Ui_db -Dlibswanted=cl pthread socket inet nsl gdbm dbm malloc dl ld sun m crypt sec util c cposix posix ucb BSD gdbm_compat -Duseithreads -Duselongdouble -DEBUGGING=none'
hint=recommended
useposix=true
d_sigaction=define
useithreads=define
usemultiplicity=define
use64bitint=define
use64bitall=define
uselongdouble=define
usemymalloc=n
default_inc_excludes_dot=define
bincompat5005=undef
Compiler:
cc='cc'
ccflags ='-D_REENTRANT -D_GNU_SOURCE -fwrapv -fno-strict-aliasing -pipe -fstack-protector-strong -I/usr/local/include -D_LARGEFILE_SOURCE -D_FILE_OFFSET_BITS=64 -D_FORTIFY_SOURCE=2'
optimize='-O2'
cppflags='-D_REENTRANT -D_GNU_SOURCE -fwrapv -fno-strict-aliasing -pipe -fstack-protector-strong -I/usr/local/include'
ccversion=''
gccversion='9.2.1 20191109'
gccosandvers=''
intsize=4
longsize=8
ptrsize=8
doublesize=8
byteorder=12345678
doublekind=3
d_longlong=define
longlongsize=8
d_longdbl=define
longdblsize=16
longdblkind=3
ivtype='long'
ivsize=8
nvtype='long double'
nvsize=16
Off_t='off_t'
lseeksize=8
alignbytes=16
prototype=define
Linker and Libraries:
ld='cc'
ldflags =' -fstack-protector-strong -L/usr/local/lib'
libpth=/usr/local/lib /usr/lib/gcc/x86_64-linux-gnu/9/include-fixed /usr/include/x86_64-linux-gnu /usr/lib /lib/x86_64-linux-gnu /lib/../lib /usr/lib/x86_64-linux-gnu /usr/lib/../lib /lib
libs=-lpthread -lnsl -ldl -lm -lcrypt -lutil -lc
perllibs=-lpthread -lnsl -ldl -lm -lcrypt -lutil -lc
libc=libc-2.29.so
so=so
useshrplib=false
libperl=libperl.a
gnulibc_version='2.29'
Dynamic Linking:
dlsrc=dl_dlopen.xs
dlext=so
d_dlsymun=undef
ccdlflags='-Wl,-E'
cccdlflags='-fPIC'
lddlflags='-shared -O2 -L/usr/local/lib -fstack-protector-strong'
Characteristics of this binary (from libperl):
Compile-time options:
HAS_TIMES
MULTIPLICITY
PERLIO_LAYERS
PERL_COPY_ON_WRITE
PERL_DONT_CREATE_GVSV
PERL_IMPLICIT_CONTEXT
PERL_MALLOC_WRAP
PERL_OP_PARENT
PERL_PRESERVE_IVUV
PERL_USE_DEVEL
USE_64_BIT_ALL
USE_64_BIT_INT
USE_ITHREADS
USE_LARGE_FILES
USE_LOCALE
USE_LOCALE_COLLATE
USE_LOCALE_CTYPE
USE_LOCALE_NUMERIC
USE_LOCALE_TIME
USE_LONG_DOUBLE
USE_PERLIO
USE_PERL_ATOF
USE_REENTRANT_API
USE_THREAD_SAFE_LOCALE
Built under linux
Compiled at Feb 25 2020 17:58:25
%ENV:
PERL5LIB=""
PERL5OPT=""
PERL5_CPANPLUS_IS_RUNNING="1630934"
PERL5_CPAN_IS_RUNNING="1630934"
PERL_CANARY_STABILITY_NOPROMPT="1"
PERL_MM_USE_DEFAULT="1"
PERL_USE_UNSAFE_INC="1"
@INC:
/home/sand/src/perl/repoperls/installed-perls/host/k93msid/v5.31.9-16-g83067d4902/496c/lib/site_perl/5.31.10/x86_64-linux-thread-multi-ld
/home/sand/src/perl/repoperls/installed-perls/host/k93msid/v5.31.9-16-g83067d4902/496c/lib/site_perl/5.31.10
/home/sand/src/perl/repoperls/installed-perls/host/k93msid/v5.31.9-16-g83067d4902/496c/lib/5.31.10/x86_64-linux-thread-multi-ld
/home/sand/src/perl/repoperls/installed-perls/host/k93msid/v5.31.9-16-g83067d4902/496c/lib/5.31.10
.