cPanel-TaskQueue v0.903 Perl 5 v5.10.1 amd64-freebsd
- Status
- Pass
- From
- Slaven Rezić
- Dist
-
cPanel-TaskQueue v0.903
- Platform
- Perl 5 v5.10.1 amd64-freebsd
- Date
- 2022-04-13 22:51:10
- ID
- 36b10614-bb7c-11ec-a432-c8261f24ea8f
This distribution has been tested as part of the CPAN Testers
project, supporting the Perl programming language. See
http://wiki.cpantesters.org/ for more information or email
questions to cpan-testers-discuss@perl.org
--
Dear cPanel, L. L. C.,
This is a computer-generated report for cPanel-TaskQueue-0.903
on perl 5.10.1, created by CPAN-Reporter-1.2018.
Thank you for uploading your work to CPAN. Congratulations!
All tests were successful.
Sections of this report:
* Tester comments
* Program output
* Prerequisites
* Environment and other context
------------------------------
TESTER COMMENTS
------------------------------
Additional comments from tester:
none provided
------------------------------
PROGRAM OUTPUT
------------------------------
Output from '/usr/bin/make test':
PERL_DL_NONLAZY=1 "/usr/perl5.10.1/bin/perl" "-MExtUtils::Command::MM" "-MTest::Harness" "-e" "undef *Test::Harness::Switches; test_harness(0, 'blib/lib', 'blib/arch')" t/*.t
# Testing cPanel::TaskQueue 0.903
t/00.load.t ................................. ok
t/author-pod-syntax.t ....................... skipped: these tests are for testing by the author
t/statefile_bad_call_unlocked.t ............. ok
t/statefile_bad_policy.t .................... ok
t/statefile_filelocker_abandoned.t .......... ok
t/statefile_filelocker_bad_locks.t .......... ok
t/statefile_filelocker_bad_unlock.t ......... ok
t/statefile_filelocker_empty_lockfile.t ..... ok
t/statefile_filelocker_expired_lockfile.t ... ok
t/statefile_filelocker_new.t ................ ok
t/statefile_filelocker_pid_clash.t .......... ok
t/statefile_filelocker_unlock_empty.t ....... ok
t/statefile_load.t .......................... ok
t/statefile_load_save.t ..................... ok
t/statefile_logging_policy.t ................ ok
t/statefile_new_bad_args.t .................. ok
t/taskqueue_bad_statefile.t ................. ok
t/taskqueue_bad_yaml_statefile.t ............ ok
t/taskqueue_basics.t ........................ ok
t/taskqueue_child_processor.t ............... ok
t/taskqueue_ctrl.t .......................... ok
t/taskqueue_deferral_bug.t .................. ok
t/taskqueue_delete_unprocessed.t ............ ok
t/taskqueue_dupes_and_overrides.t ........... ok
t/taskqueue_find_commands.t ................. ok
t/taskqueue_find_task.t ..................... ok
t/taskqueue_load.t .......................... ok
t/taskqueue_logging_policy.t ................ ok
t/taskqueue_long_processes.t ................ ok
t/taskqueue_missing_dir.t ................... ok
t/taskqueue_new_bad_args.t .................. ok
t/taskqueue_parameter_changes.t ............. ok
t/taskqueue_pausing.t ....................... ok
t/taskqueue_plugin_manager.t ................ ok
t/taskqueue_plugin_manager_load_all.t ....... ok
t/taskqueue_plugin_manager_load_named.t ..... ok
t/taskqueue_processor.t ..................... ok
t/taskqueue_processor_checked_system.t ...... ok
t/taskqueue_processor_deferrable.t .......... ok
t/taskqueue_register_processors.t ........... ok
t/taskqueue_retries.t ....................... ok
t/taskqueue_scheduler.t ..................... ok
t/taskqueue_scheduler_bad_statefile.t ....... ok
t/taskqueue_scheduler_bad_yaml_statefile.t .. ok
t/taskqueue_scheduler_logging_policy.t ...... ok
t/taskqueue_scheduler_long_processes.t ...... ok
t/taskqueue_scheduler_token.t ............... ok
t/taskqueue_scheduler_token_yaml.t .......... ok
t/taskqueue_task.t .......................... ok
t/taskqueue_task_bad_new.t .................. ok
t/taskqueue_task_clones.t ................... ok
t/taskqueue_task_deferrable.t ............... ok
t/taskqueue_task_load.t ..................... ok
t/taskqueue_task_mutate.t ................... ok
t/taskqueue_task_reconstitute.t ............. ok
t/taskqueue_task_retries.t .................. ok
t/taskqueue_task_userdata.t ................. ok
All tests successful.
Files=57, Tests=805, 238 wallclock secs ( 0.02 usr 0.33 sys + 2.84 cusr 0.59 csys = 3.78 CPU)
Result: PASS
------------------------------
PREREQUISITES
------------------------------
Prerequisite modules loaded:
requires:
Module Need Have
------------------- ---- ---------
base 0 2.23
Fcntl 0 1.06
File::Path 0 2.17
File::Spec 0 3.75
Getopt::Long 0 2.52
parent 0 0.238
POSIX 0 1.17
Scalar::Util 0 1.60
Storable 0 3.25
strict 0 1.04
Term::ReadLine 0 1.14
Text::Wrap 0 2013.0523
Unix::PID 0.21 0.23
warnings 0 1.06
YAML::Syck 0 1.33
build_requires:
Module Need Have
------------------- ---- ---------
Carp 0 1.50
Cwd 0 3.75
ExtUtils::MakeMaker 0 7.64
File::Temp 0 0.2311
FindBin 0 1.50
lib 0 0.62
Test::Exception 0 0.43
Test::More 0 1.302190
configure_requires:
Module Need Have
------------------- ---- ---------
ExtUtils::MakeMaker 0 7.64
------------------------------
ENVIRONMENT AND OTHER CONTEXT
------------------------------
Environment variables:
LC_ALL = de_DE.ISO8859-1
PATH = /usr/local/bin:/usr/bin:/bin:/usr/local/sbin:/usr/sbin:/sbin:/home/cpansand/bin/freebsd9.3:/home/cpansand/bin/sh:/home/cpansand/bin:/usr/games:/home/cpansand/devel:/usr/home/eserte/src/srezic-misc/scripts
PERL5LIB =
PERL5OPT =
PERL5_CPANPLUS_IS_RUNNING = 41741
PERL5_CPAN_IS_RUNNING = 41741
PERL5_CPAN_IS_RUNNING_IN_RECURSION = 39345,41741
PERLDOC = -MPod::Perldoc::ToTextOverstrike
PERL_BATCH = yes
PERL_CANARY_STABILITY_NOPROMPT = 1
PERL_CPAN_REPORTER_CONFIG = /var/tmp/cpansmoker-1023/2022041400/cpanreporter_000_config.ini
PERL_EXTUTILS_AUTOINSTALL = --defaultdeps
PERL_USE_UNSAFE_INC = 1
SHELL = /usr/local/bin/zsh
TERM = screen
TMPDIR = /var/tmp/cpansmoker-1023/2022041400
Perl special variables (and OS-specific diagnostics, for MSWin32):
$^X = /usr/perl5.10.1/bin/perl
$UID/$EUID = 1023 / 1023
$GID = 1023 1023
$EGID = 1023 1023
Perl module toolchain versions installed:
Module Have
------------------- --------
CPAN 2.27
CPAN::Meta 2.150010
Cwd 3.75
ExtUtils::CBuilder 0.280231
ExtUtils::Command 7.64
ExtUtils::Install 2.20
ExtUtils::MakeMaker 7.64
ExtUtils::Manifest 1.73
ExtUtils::ParseXS 3.35
File::Spec 3.75
JSON 4.05
JSON::PP 4.08
Module::Build 0.4231
Module::Signature 0.88
Parse::CPAN::Meta 2.150010
Test::Harness 3.42
Test::More 1.302190
YAML 1.30
YAML::Syck 1.33
version 0.9929
--
Summary of my perl5 (revision 5 version 10 subversion 1) configuration:
Platform:
osname=freebsd, osvers=9.2-release-p4, archname=amd64-freebsd
uname='freebsd cvrsnica-freebsd-92 9.2-release-p4 freebsd 9.2-release-p4 #0: tue apr 8 18:08:22 utc 2014 root@amd64-builder.daemonology.net:usrobjusrsrcsysgeneric amd64 '
config_args='-ds -e -Dprefix=/usr/perl5.10.1'
hint=recommended, useposix=true, d_sigaction=define
useithreads=undef, usemultiplicity=undef
useperlio=define, d_sfio=undef, uselargefiles=define, usesocks=undef
use64bitint=define, use64bitall=define, uselongdouble=undef
usemymalloc=n, bincompat5005=undef
Compiler:
cc='cc', ccflags ='-DHAS_FPSETMASK -DHAS_FLOATINGPOINT_H -fno-strict-aliasing -pipe -fstack-protector -I/usr/local/include',
optimize='-O',
cppflags='-DHAS_FPSETMASK -DHAS_FLOATINGPOINT_H -fno-strict-aliasing -pipe -fstack-protector -I/usr/local/include'
ccversion='', gccversion='4.2.1 20070831 patched [FreeBSD]', gccosandvers=''
intsize=4, longsize=8, ptrsize=8, doublesize=8, byteorder=12345678
d_longlong=define, longlongsize=8, d_longdbl=define, longdblsize=16
ivtype='long', ivsize=8, nvtype='double', nvsize=8, Off_t='off_t', lseeksize=8
alignbytes=8, prototype=define
Linker and Libraries:
ld='cc', ldflags ='-Wl,-E -fstack-protector -L/usr/local/lib'
libpth=/usr/lib /usr/local/lib
libs=-lgdbm -lm -lcrypt -lutil -lc
perllibs=-lm -lcrypt -lutil -lc
libc=, so=so, useshrplib=false, libperl=libperl.a
gnulibc_version=''
Dynamic Linking:
dlsrc=dl_dlopen.xs, dlext=so, d_dlsymun=undef, ccdlflags=' '
cccdlflags='-DPIC -fPIC', lddlflags='-shared -L/usr/local/lib -fstack-protector'
Characteristics of this binary (from libperl):
Compile-time options: PERL_DONT_CREATE_GVSV PERL_MALLOC_WRAP USE_64_BIT_ALL
USE_64_BIT_INT USE_LARGE_FILES USE_PERLIO
Built under freebsd
Compiled at May 15 2014 23:30:26
%ENV:
PERL5LIB=""
PERL5OPT=""
PERL5_CPANPLUS_IS_RUNNING="41741"
PERL5_CPAN_IS_RUNNING="41741"
PERL5_CPAN_IS_RUNNING_IN_RECURSION="39345,41741"
PERLDOC="-MPod::Perldoc::ToTextOverstrike"
PERL_BATCH="yes"
PERL_CANARY_STABILITY_NOPROMPT="1"
PERL_CPAN_REPORTER_CONFIG="/var/tmp/cpansmoker-1023/2022041400/cpanreporter_000_config.ini"
PERL_EXTUTILS_AUTOINSTALL="--defaultdeps"
PERL_USE_UNSAFE_INC="1"
@INC:
/usr/perl5.10.1/lib/5.10.1/amd64-freebsd
/usr/perl5.10.1/lib/5.10.1
/usr/perl5.10.1/lib/site_perl/5.10.1/amd64-freebsd
/usr/perl5.10.1/lib/site_perl/5.10.1
.