Git-Helpers v1.000000 Perl 5 v5.32.0 armv6l-linux

Status
Pass
From
gregor herrmann
Dist
Git-Helpers v1.000000
Platform
Perl 5 v5.32.0 armv6l-linux
Date
2021-02-10 16:15:38
ID
36b74e5a-6bbb-11eb-a53c-307783c2720c
This distribution has been tested as part of the CPAN Testers
project, supporting the Perl programming language.  See
http://wiki.cpantesters.org/ for more information or email
questions to cpan-testers-discuss@perl.org


--
Dear Olaf Alders,

This is a computer-generated report for Git-Helpers-1.000000
on perl 5.32.0, created by CPAN-Reporter-1.2018.

Thank you for uploading your work to CPAN.  Congratulations!
All tests were successful.

Sections of this report:

    * Tester comments
    * Program output
    * Prerequisites
    * Environment and other context

------------------------------
TESTER COMMENTS
------------------------------

Additional comments from tester:

this report is from an automated smoke testing program
and was not reviewed by a human for accuracy

------------------------------
PROGRAM OUTPUT
------------------------------

Output from '/usr/bin/make test':

PERL_DL_NONLAZY=1 "/srv/smoker/perl5/perlbrew/perls/perl-5.32.0/bin/perl" "-MExtUtils::Command::MM" "-MTest::Harness" "-e" "undef *Test::Harness::Switches; test_harness(0, 'blib/lib', 'blib/arch')" t/*.t
# 
# Versions for all modules listed in MYMETA.json (including optional ones):
# 
# === Configure Requires ===
# 
#     Module              Want    Have
#     ------------------- ---- -------
#     ExtUtils::MakeMaker  any 7.59_01
# 
# === Build Requires ===
# 
#     Module              Want    Have
#     ------------------- ---- -------
#     ExtUtils::MakeMaker  any 7.59_01
# 
# === Test Requires ===
# 
#     Module                  Want     Have
#     ---------------------- ----- --------
#     ExtUtils::MakeMaker      any  7.59_01
#     File::Spec               any     3.78
#     File::Temp               any   0.2311
#     File::Touch              any     0.11
#     Git::Version             any    1.000
#     Path::Tiny               any    0.118
#     Test::Deep               any    1.130
#     Test::Fatal              any    0.016
#     Test::Git              1.313    1.324
#     Test::More               any 1.302183
#     Test::Requires::Git    1.005    1.008
#     Test::RequiresInternet   any     0.05
# 
# === Test Recommends ===
# 
#     Module         Want     Have
#     ---------- -------- --------
#     CPAN::Meta 2.120900 2.150010
# 
# === Runtime Requires ===
# 
#     Module           Want      Have
#     ---------------- ---- ---------
#     Browser::Open     any      0.04
#     Capture::Tiny     any      0.48
#     Carp              any      1.50
#     File::pushd       any     1.016
#     Getopt::Long      any      2.51
#     Git::Sub          any  0.163320
#     MetaCPAN::Client  any  2.029000
#     Moo               any 2.005_002
#     MooX::Options     any     4.103
#     Pod::Usage        any      2.01
#     String::Trim      any     0.005
#     Sub::Exporter     any     0.987
#     Term::Choose      any     1.713
#     Try::Tiny         any      0.30
#     Types::Standard   any  1.012001
#     URI               any      5.07
#     URI::FromHash     any      0.05
#     URI::Heuristic    any      5.07
#     URI::git          any      0.02
#     strict            any      1.11
#     warnings          any      1.47
# 
t/00-report-prereqs.t .. ok
t/01-diag.t ............ ok
t/cpan-repo.t .......... ok
# git version 2.30.0
hint: Using 'master' as the name for the initial branch. This default branch name
hint: is subject to change. To configure the initial branch name to use in all
hint: of your new repositories, which will suppress this warning, call:
hint: 
hint: 	git config --global init.defaultBranch <name>
hint: 
hint: Names commonly chosen instead of 'master' are 'main', 'trunk' and
hint: 'development'. The just-created branch can be renamed via this command:
hint: 
hint: 	git branch -m <name> at /srv/smoker/perl5/perlbrew/perls/perl-5.32.0/lib/site_perl/5.32.0/Test/Git.pm line 75.
# Switched to a new branch 'README'
t/helpers.t ............ ok
All tests successful.
Files=4, Tests=16, 48 wallclock secs ( 0.69 usr  0.07 sys + 23.92 cusr  2.53 csys = 27.21 CPU)
Result: PASS

------------------------------
PREREQUISITES
------------------------------

Prerequisite modules loaded:

requires:

    Module                 Need  Have     
    ---------------------- ----- ---------
    Browser::Open          0     0.04     
    Capture::Tiny          0     0.48     
    Carp                   0     1.50     
    File::pushd            0     1.016    
    Getopt::Long           0     2.51     
    Git::Sub               0     0.163320 
    MetaCPAN::Client       0     2.029000 
    Moo                    0     2.005_002
    MooX::Options          0     4.103    
    perl                   5.006 5.032000 
    Pod::Usage             0     2.01     
    strict                 0     1.11     
    String::Trim           0     0.005    
    Sub::Exporter          0     0.987    
    Term::Choose           0     1.713    
    Try::Tiny              0     0.30     
    Types::Standard        0     1.012001 
    URI                    0     5.07     
    URI::FromHash          0     0.05     
    URI::git               0     0.02     
    URI::Heuristic         0     5.07     
    warnings               0     1.47     

build_requires:

    Module                 Need  Have     
    ---------------------- ----- ---------
    ExtUtils::MakeMaker    0     7.59_01  
    File::Spec             0     3.78     
    File::Temp             0     0.2311   
    File::Touch            0     0.11     
    Git::Version           0     1.000    
    Path::Tiny             0     0.118    
    Test::Deep             0     1.130    
    Test::Fatal            0     0.016    
    Test::Git              1.313 1.324    
    Test::More             0     1.302183 
    Test::Requires::Git    1.005 1.008    
    Test::RequiresInternet 0     0.05     

configure_requires:

    Module                 Need  Have     
    ---------------------- ----- ---------
    ExtUtils::MakeMaker    0     7.59_01  
    perl                   5.006 5.032000 


------------------------------
ENVIRONMENT AND OTHER CONTEXT
------------------------------

Environment variables:

    AUTOMATED_TESTING = 1
    LC_CTYPE = de_AT.utf8
    LD_LIBRARY_PATH = /usr/lib/libeatmydata
    NONINTERACTIVE_TESTING = 1
    PATH = /srv/smoker/bin:/usr/lib/ccache:/srv/smoker/perl5/perlbrew/bin:/srv/smoker/perl5/perlbrew/perls/perl-5.32.0/bin:/usr/local/bin:/usr/bin:/bin:/usr/local/games:/usr/games
    PERL5LIB = 
    PERL5OPT = 
    PERL5_CPANPLUS_IS_RUNNING = 22721
    PERL5_CPAN_IS_RUNNING = 22721
    PERL5_CPAN_IS_RUNNING_IN_RECURSION = 6113,22721
    PERLBREW_HOME = /srv/smoker/.perlbrew
    PERLBREW_MANPATH = /srv/smoker/perl5/perlbrew/perls/perl-5.32.0/man
    PERLBREW_PATH = /srv/smoker/perl5/perlbrew/bin:/srv/smoker/perl5/perlbrew/perls/perl-5.32.0/bin
    PERLBREW_PERL = perl-5.32.0
    PERLBREW_ROOT = /srv/smoker/perl5/perlbrew
    PERLBREW_SHELLRC_VERSION = 0.89
    PERLBREW_VERSION = 0.89
    PERL_CPANM_OPT = --verbose --prompt --mirror file:///srv/smoker/minicpan/
    PERL_CR_SMOKER_CURRENT = Git-Helpers-1.000000
    PERL_EXTUTILS_AUTOINSTALL = --defaultdeps
    PERL_MM_USE_DEFAULT = 1
    PERL_TEST_TIME_OUT_FACTOR = 3
    PERL_TEST_TIME_OUT_FACTOR = 3
    PERL_USE_UNSAFE_INC = 1
    SHELL = /bin/bash
    TERM = screen-256color

Perl special variables (and OS-specific diagnostics, for MSWin32):

    $^X = /srv/smoker/perl5/perlbrew/perls/perl-5.32.0/bin/perl
    $UID/$EUID = 1111 / 1111
    $GID = 65534 65534
    $EGID = 65534 65534

Perl module toolchain versions installed:

    Module              Have    
    ------------------- --------
    CPAN                2.28    
    CPAN::Meta          2.150010
    Cwd                 3.78    
    ExtUtils::CBuilder  0.280235
    ExtUtils::Command   7.59_01 
    ExtUtils::Install   2.20    
    ExtUtils::MakeMaker 7.59_01 
    ExtUtils::Manifest  1.73    
    ExtUtils::ParseXS   3.40    
    File::Spec          3.78    
    JSON                4.03    
    JSON::PP            4.06    
    Module::Build       0.4231  
    Module::Signature   0.87    
    Parse::CPAN::Meta   2.150010
    Test::Harness       3.42    
    Test::More          1.302183
    YAML                1.30    
    YAML::Syck          1.34    
    version             0.9928  


--

Summary of my perl5 (revision 5 version 32 subversion 0) configuration:
   
  Platform:
    osname=linux
    osvers=4.9.0-6-rpi
    archname=armv6l-linux
    uname='linux smoker 4.9.0-6-rpi #1 raspbian 4.9.82-1+deb9u3+rpi2 (2018-11-09) armv6l gnulinux '
    config_args='-de -Dprefix=/srv/smoker/perl5/perlbrew/perls/perl-5.32.0 -Aeval:scriptdir=/srv/smoker/perl5/perlbrew/perls/perl-5.32.0/bin'
    hint=recommended
    useposix=true
    d_sigaction=define
    useithreads=undef
    usemultiplicity=undef
    use64bitint=undef
    use64bitall=undef
    uselongdouble=undef
    usemymalloc=n
    default_inc_excludes_dot=define
    bincompat5005=undef
  Compiler:
    cc='cc'
    ccflags ='-fwrapv -fno-strict-aliasing -pipe -fstack-protector-strong -I/usr/local/include -D_LARGEFILE_SOURCE -D_FILE_OFFSET_BITS=64 -D_FORTIFY_SOURCE=2'
    optimize='-O2'
    cppflags='-fwrapv -fno-strict-aliasing -pipe -fstack-protector-strong -I/usr/local/include'
    ccversion=''
    gccversion='9.3.0'
    gccosandvers=''
    intsize=4
    longsize=4
    ptrsize=4
    doublesize=8
    byteorder=1234
    doublekind=3
    d_longlong=define
    longlongsize=8
    d_longdbl=define
    longdblsize=8
    longdblkind=0
    ivtype='long'
    ivsize=4
    nvtype='double'
    nvsize=8
    Off_t='off_t'
    lseeksize=8
    alignbytes=8
    prototype=define
  Linker and Libraries:
    ld='cc'
    ldflags =' -fstack-protector-strong -L/usr/local/lib'
    libpth=/usr/local/lib /usr/include/arm-linux-gnueabihf /usr/lib /lib/arm-linux-gnueabihf /lib /usr/lib/arm-linux-gnueabihf
    libs=-lpthread -lnsl -ldb -ldl -lm -lcrypt -lutil -lc
    perllibs=-lpthread -lnsl -ldl -lm -lcrypt -lutil -lc
    libc=libc-2.30.so
    so=so
    useshrplib=false
    libperl=libperl.a
    gnulibc_version='2.30'
  Dynamic Linking:
    dlsrc=dl_dlopen.xs
    dlext=so
    d_dlsymun=undef
    ccdlflags='-Wl,-E'
    cccdlflags='-fPIC'
    lddlflags='-shared -O2 -L/usr/local/lib -fstack-protector-strong'


Characteristics of this binary (from libperl): 
  Compile-time options:
    HAS_TIMES
    PERLIO_LAYERS
    PERL_COPY_ON_WRITE
    PERL_DONT_CREATE_GVSV
    PERL_MALLOC_WRAP
    PERL_OP_PARENT
    PERL_PRESERVE_IVUV
    USE_LARGE_FILES
    USE_LOCALE
    USE_LOCALE_COLLATE
    USE_LOCALE_CTYPE
    USE_LOCALE_NUMERIC
    USE_LOCALE_TIME
    USE_PERLIO
    USE_PERL_ATOF
  Locally applied patches:
    Devel::PatchPerl 1.38
  Built under linux
  Compiled at Jun 21 2020 02:24:10
  %ENV:
    PERL5LIB=""
    PERL5OPT=""
    PERL5_CPANPLUS_IS_RUNNING="22721"
    PERL5_CPAN_IS_RUNNING="22721"
    PERL5_CPAN_IS_RUNNING_IN_RECURSION="6113,22721"
    PERLBREW_HOME="/srv/smoker/.perlbrew"
    PERLBREW_MANPATH="/srv/smoker/perl5/perlbrew/perls/perl-5.32.0/man"
    PERLBREW_PATH="/srv/smoker/perl5/perlbrew/bin:/srv/smoker/perl5/perlbrew/perls/perl-5.32.0/bin"
    PERLBREW_PERL="perl-5.32.0"
    PERLBREW_ROOT="/srv/smoker/perl5/perlbrew"
    PERLBREW_SHELLRC_VERSION="0.89"
    PERLBREW_VERSION="0.89"
    PERL_CPANM_OPT="--verbose --prompt --mirror file:///srv/smoker/minicpan/"
    PERL_CR_SMOKER_CURRENT="Git-Helpers-1.000000"
    PERL_EXTUTILS_AUTOINSTALL="--defaultdeps"
    PERL_MM_USE_DEFAULT="1"
    PERL_TEST_TIME_OUT_FACTOR="3"
    PERL_USE_UNSAFE_INC="1"
  @INC:
    /srv/smoker/perl5/perlbrew/perls/perl-5.32.0/lib/site_perl/5.32.0/armv6l-linux
    /srv/smoker/perl5/perlbrew/perls/perl-5.32.0/lib/site_perl/5.32.0
    /srv/smoker/perl5/perlbrew/perls/perl-5.32.0/lib/5.32.0/armv6l-linux
    /srv/smoker/perl5/perlbrew/perls/perl-5.32.0/lib/5.32.0
    .