Report for MooseX-AbstractFactory-0.004003

Back
From: metabase:user:314402c4-2aae-11df-837a-5e0a49663a4f
Subject: PASS MooseX-AbstractFactory-0.004003 v5.24.1 GNU/Linux
Date: 2017-07-29T16:23:11Z

This distribution has been tested as part of the CPAN Testers
project, supporting the Perl programming language.  See
http://wiki.cpantesters.org/ for more information or email
questions to cpan-testers-discuss@perl.org


--
Dear Caleb Cushing,

This is a computer-generated report for MooseX-AbstractFactory-0.004003
on perl 5.24.1, created by CPAN-Reporter-1.2018.

Thank you for uploading your work to CPAN.  Congratulations!
All tests were successful.

Sections of this report:

    * Tester comments
    * Program output
    * Prerequisites
    * Environment and other context

------------------------------
TESTER COMMENTS
------------------------------

Additional comments from tester:

none provided

------------------------------
PROGRAM OUTPUT
------------------------------

Output from '/usr/bin/make test':

PERL_DL_NONLAZY=1 "/opt/perl-5.24.1/bin/perl5.24.1" "-MExtUtils::Command::MM" "-MTest::Harness" "-e" "undef *Test::Harness::Switches; test_harness(0, 'blib/lib', 'blib/arch')" t/*.t
t/00-compile.t ............. ok
# 
# Versions for all modules listed in MYMETA.json (including optional ones):
#    Version Module                  
#   -------- ------------------------
#   2.150005 CPAN::Meta              
#      2.140 CPAN::Meta::Requirements
#       7.30 ExtUtils::MakeMaker     
#    3.63_01 File::Spec              
#    3.63_01 File::Spec::Functions   
#       1.36 IO::Handle              
#       1.20 IPC::Open3              
#       1.48 List::Util              
#      0.015 Module::Runtime         
#     2.2006 Moose                   
#       0.16 Moose::Autobox          
#     2.2006 Moose::Exporter         
#     2.2006 Moose::Meta::Class      
#     2.2006 Moose::Role             
#      0.014 Test::Fatal             
#     2.2006 Test::Moose             
#   1.302086 Test::More              
#       0.28 Try::Tiny               
#       1.11 strict                  
#     0.9916 version                 
#       1.36 warnings                
t/00-report-prereqs.t ...... ok
t/accept_any_parameters.t .. ok
t/author-critic.t .......... skipped: these tests are for testing by the author
t/author-pod-spell.t ....... skipped: these tests are for testing by the author
t/author-test-eol.t ........ skipped: these tests are for testing by the author
t/factory.t ................ ok
t/factory_validate.t ....... ok
t/impl-does-arrayref.t ..... ok
t/override-get_imp.t ....... ok
t/override-validate-imp.t .. ok
t/release-cpan-changes.t ... skipped: these tests are for release candidate testing
t/release-distmeta.t ....... skipped: these tests are for release candidate testing
t/release-meta-json.t ...... skipped: these tests are for release candidate testing
t/release-mojibake.t ....... skipped: these tests are for release candidate testing
t/release-pod-coverage.t ... skipped: these tests are for release candidate testing
t/release-portability.t .... skipped: these tests are for release candidate testing
t/release-unused-vars.t .... skipped: these tests are for release candidate testing
All tests successful.
Files=18, Tests=24,  2 wallclock secs ( 0.04 usr  0.07 sys +  1.75 cusr  0.26 csys =  2.12 CPU)
Result: PASS

------------------------------
PREREQUISITES
------------------------------

Prerequisite modules loaded:

requires:

    Module                   Need     Have    
    ------------------------ -------- --------
    Module::Runtime          0        0.015   
    Moose                    0        2.2006  
    Moose::Autobox           0        0.16    
    Moose::Exporter          0        2.2006  
    Moose::Meta::Class       0        2.2006  
    Moose::Role              0        2.2006  
    strict                   0        1.11    
    Try::Tiny                0        0.28    
    warnings                 0        1.36    

build_requires:

    Module                   Need     Have    
    ------------------------ -------- --------
    ExtUtils::MakeMaker      0        7.30    
    File::Spec               0        3.63_01 
    File::Spec::Functions    0        3.63_01 
    IO::Handle               0        1.36    
    IPC::Open3               0        1.20    
    List::Util               0        1.48    
    Test::Fatal              0        0.014   
    Test::Moose              0        2.2006  
    Test::More               0        1.302086
    version                  0        0.9916  

configure_requires:

    Module                   Need     Have    
    ------------------------ -------- --------
    ExtUtils::MakeMaker      6.30     7.30    

opt_build_requires:

    Module                   Need     Have    
    ------------------------ -------- --------
    CPAN::Meta               0        2.150005
    CPAN::Meta::Requirements 2.120900 2.140   


------------------------------
ENVIRONMENT AND OTHER CONTEXT
------------------------------

Environment variables:

    LANG = C
    PATH = /usr/local/bin:/usr/bin:/bin:/usr/local/sbin:/usr/sbin:/sbin:/home/cpansand/bin/linux-gnu:/home/cpansand/bin/sh:/home/cpansand/bin:/usr/games:/home/cpansand/devel:/home/eserte/src/srezic-misc/scripts
    PERL5LIB = /home/cpansand/.cpan/build/2017072915/Moose-Autobox-0.16-NaJVf6/blib/arch:/home/cpansand/.cpan/build/2017072915/Moose-Autobox-0.16-NaJVf6/blib/lib:/home/cpansand/.cpan/build/2017072915/Devel-Gladiator-0.07-FVHdoa/blib/arch:/home/cpansand/.cpan/build/2017072915/Devel-Gladiator-0.07-FVHdoa/blib/lib
    PERL5OPT = 
    PERL5_CPANPLUS_IS_RUNNING = 28838
    PERL5_CPAN_IS_RUNNING = 28838
    PERL5_CPAN_IS_RUNNING_IN_RECURSION = 28731,28838
    PERLDOC = -MPod::Perldoc::ToTextOverstrike
    PERL_BATCH = yes
    PERL_CANARY_STABILITY_NOPROMPT = 1
    PERL_CPAN_REPORTER_CONFIG = /var/tmp/cpansmoker-1023/2017072915/cpanreporter_000_config.ini
    PERL_EXTUTILS_AUTOINSTALL = --defaultdeps
    PERL_USE_UNSAFE_INC = 1
    SHELL = /usr/bin/zsh
    TERM = screen
    TMPDIR = /var/tmp/cpansmoker-1023/2017072915

Perl special variables (and OS-specific diagnostics, for MSWin32):

    $^X = /opt/perl-5.24.1/bin/perl5.24.1
    $UID/$EUID = 1023 / 1023
    $GID = 1023 1023
    $EGID = 1023 1023

Perl module toolchain versions installed:

    Module              Have      
    ------------------- ----------
    CPAN                2.11_01   
    CPAN::Meta          2.150005  
    Cwd                 3.63_01   
    ExtUtils::CBuilder  0.280225  
    ExtUtils::Command   7.30      
    ExtUtils::Install   2.06      
    ExtUtils::MakeMaker 7.30      
    ExtUtils::Manifest  1.70      
    ExtUtils::ParseXS   3.31      
    File::Spec          3.63_01   
    JSON                2.94      
    JSON::PP            2.94      
    Module::Build       0.4224    
    Module::Signature   0.81      
    Parse::CPAN::Meta   1.4417_001
    Test::Harness       3.36_01   
    Test::More          1.302086  
    YAML                1.23      
    YAML::Syck          1.30      
    version             0.9916    


--

Summary of my perl5 (revision 5 version 24 subversion 1) configuration:
   
  Platform:
    osname=linux, osvers=4.9.0-3-amd64, archname=x86_64-linux
    uname='linux debian9 4.9.0-3-amd64 #1 smp debian 4.9.30-2+deb9u1 (2017-06-18) x86_64 gnulinux '
    config_args='-ds -e -Dprefix=/opt/perl-5.24.1 -Dcf_email=srezic@cpan.org'
    hint=recommended, useposix=true, d_sigaction=define
    useithreads=undef, usemultiplicity=undef
    use64bitint=define, use64bitall=define, uselongdouble=undef
    usemymalloc=n, bincompat5005=undef
  Compiler:
    cc='cc', ccflags ='-fwrapv -fno-strict-aliasing -pipe -fstack-protector-strong -I/usr/local/include -D_LARGEFILE_SOURCE -D_FILE_OFFSET_BITS=64',
    optimize='-O2',
    cppflags='-fwrapv -fno-strict-aliasing -pipe -fstack-protector-strong -I/usr/local/include'
    ccversion='', gccversion='6.3.0 20170516', gccosandvers=''
    intsize=4, longsize=8, ptrsize=8, doublesize=8, byteorder=12345678, doublekind=3
    d_longlong=define, longlongsize=8, d_longdbl=define, longdblsize=16, longdblkind=3
    ivtype='long', ivsize=8, nvtype='double', nvsize=8, Off_t='off_t', lseeksize=8
    alignbytes=8, prototype=define
  Linker and Libraries:
    ld='cc', ldflags =' -fstack-protector-strong -L/usr/local/lib'
    libpth=/usr/local/lib /usr/lib/gcc/x86_64-linux-gnu/6/include-fixed /usr/include/x86_64-linux-gnu /usr/lib /lib/x86_64-linux-gnu /lib/../lib /usr/lib/x86_64-linux-gnu /usr/lib/../lib /lib
    libs=-lpthread -lnsl -lgdbm -ldb -ldl -lm -lcrypt -lutil -lc -lgdbm_compat
    perllibs=-lpthread -lnsl -ldl -lm -lcrypt -lutil -lc
    libc=libc-2.24.so, so=so, useshrplib=false, libperl=libperl.a
    gnulibc_version='2.24'
  Dynamic Linking:
    dlsrc=dl_dlopen.xs, dlext=so, d_dlsymun=undef, ccdlflags='-Wl,-E'
    cccdlflags='-fPIC', lddlflags='-shared -O2 -L/usr/local/lib -fstack-protector-strong'


Characteristics of this binary (from libperl): 
  Compile-time options: HAS_TIMES PERLIO_LAYERS PERL_COPY_ON_WRITE
                        PERL_DONT_CREATE_GVSV
                        PERL_HASH_FUNC_ONE_AT_A_TIME_HARD PERL_MALLOC_WRAP
                        PERL_PRESERVE_IVUV USE_64_BIT_ALL USE_64_BIT_INT
                        USE_LARGE_FILES USE_LOCALE USE_LOCALE_COLLATE
                        USE_LOCALE_CTYPE USE_LOCALE_NUMERIC USE_LOCALE_TIME
                        USE_PERLIO USE_PERL_ATOF
  Built under linux
  Compiled at Jun 23 2017 20:31:37
  %ENV:
    PERL5LIB="/home/cpansand/.cpan/build/2017072915/Moose-Autobox-0.16-NaJVf6/blib/arch:/home/cpansand/.cpan/build/2017072915/Moose-Autobox-0.16-NaJVf6/blib/lib:/home/cpansand/.cpan/build/2017072915/Devel-Gladiator-0.07-FVHdoa/blib/arch:/home/cpansand/.cpan/build/2017072915/Devel-Gladiator-0.07-FVHdoa/blib/lib"
    PERL5OPT=""
    PERL5_CPANPLUS_IS_RUNNING="28838"
    PERL5_CPAN_IS_RUNNING="28838"
    PERL5_CPAN_IS_RUNNING_IN_RECURSION="28731,28838"
    PERLDOC="-MPod::Perldoc::ToTextOverstrike"
    PERL_BATCH="yes"
    PERL_CANARY_STABILITY_NOPROMPT="1"
    PERL_CPAN_REPORTER_CONFIG="/var/tmp/cpansmoker-1023/2017072915/cpanreporter_000_config.ini"
    PERL_EXTUTILS_AUTOINSTALL="--defaultdeps"
    PERL_USE_UNSAFE_INC="1"
  @INC:
    /home/cpansand/.cpan/build/2017072915/Moose-Autobox-0.16-NaJVf6/blib/arch
    /home/cpansand/.cpan/build/2017072915/Moose-Autobox-0.16-NaJVf6/blib/lib
    /home/cpansand/.cpan/build/2017072915/Devel-Gladiator-0.07-FVHdoa/blib/arch
    /home/cpansand/.cpan/build/2017072915/Devel-Gladiator-0.07-FVHdoa/blib/lib
    /opt/perl-5.24.1/lib/site_perl/5.24.1/x86_64-linux
    /opt/perl-5.24.1/lib/site_perl/5.24.1
    /opt/perl-5.24.1/lib/5.24.1/x86_64-linux
    /opt/perl-5.24.1/lib/5.24.1
    .