Report for SOAP-WSDL-v3.001

Back
From: metabase:user:320bfe00-2aae-11df-837a-5e0a49663a4f
Subject: PASS SOAP-WSDL-v3.001 v5.12.5 GNU/Linux
Date: 2014-08-29T19:18:10Z

This distribution has been tested as part of the CPAN Testers
project, supporting the Perl programming language.  See
http://wiki.cpantesters.org/ for more information or email
questions to cpan-testers-discuss@perl.org


--
Dear Scott Walters,

This is a computer-generated report for SOAP-WSDL-v3.001
on perl 5.12.5, created by CPAN-Reporter-1.2011.

Thank you for uploading your work to CPAN.  Congratulations!
All tests were successful.

Sections of this report:

    * Tester comments
    * Program output
    * Prerequisites
    * Environment and other context

------------------------------
TESTER COMMENTS
------------------------------

Additional comments from tester:

this report is from an automated smoke testing program
and was not reviewed by a human for accuracy

------------------------------
PROGRAM OUTPUT
------------------------------

Output from '/usr/bin/make test':

PERL_DL_NONLAZY=1 "/home/sand/src/perl/repoperls/installed-perls/perl/v5.12.5/9980/bin/perl" "-MExtUtils::Command::MM" "-MTest::Harness" "-e" "undef *Test::Harness::Switches; test_harness(0, 'blib/lib', 'blib/arch')" t/*.t t/*/*.t t/*/*/*.t t/*/*/*/*.t t/*/*/*/*/*.t t/*/*/*/*/*/*.t
t/002_parse_wsdl.t .................................... ok
t/003_wsdl_based_serializer.t ......................... ok
t/006_client.t ........................................ ok
t/008_client_wsdl_complexType.t ....................... ok
t/009_data_classes.t .................................. ok
t/011_simpleType.t .................................... ok
t/012_element.t ....................................... ok
t/013_complexType.t ................................... ok
t/016_client_object.t ................................. ok
t/094_cpan_meta.t ..................................... skipped: Author test.  Set $ENV{RELEASE_TESTING} to a true value to run.
t/095_copying.t ....................................... skipped: Author test.  Set $ENV{RELEASE_TESTING} to a true value to run.
t/096_characters.t .................................... skipped: Author test.  Set $ENV{RELEASE_TESTING} to a true value to run.
t/097_kwalitee.t ...................................... skipped: Author test.  Set $ENV{RELEASE_TESTING} to a true value to run.
t/098_pod.t ........................................... ok
t/099_pod_coverage.t .................................. skipped: Author test.  Set $ENV{RELEASE_TESTING} to a true value to run.
t/SOAP/WSDL.t ......................................... ok
t/SOAP/WSDL/02_port.t ................................. ok
t/SOAP/WSDL/03_complexType-all.t ...................... ok
t/SOAP/WSDL/03_complexType-choice.t ................... ok
t/SOAP/WSDL/03_complexType-complexContent.t ........... ok
t/SOAP/WSDL/03_complexType-element-ref.t .............. ok
t/SOAP/WSDL/03_complexType-group.t .................... ok
t/SOAP/WSDL/03_complexType-sequence.t ................. ok
t/SOAP/WSDL/03_complexType-simpleContent.t ............ ok
t/SOAP/WSDL/04_element-complexType.t .................. skipped: TODO: implement tests
t/SOAP/WSDL/04_element-simpleType.t ................... ok
t/SOAP/WSDL/04_element.t .............................. ok
t/SOAP/WSDL/05_simpleType-list.t ...................... ok
t/SOAP/WSDL/05_simpleType-restriction.t ............... ok
t/SOAP/WSDL/05_simpleType-union.t ..................... skipped: Not supported yet
t/SOAP/WSDL/06_keep_alive.t ........................... ok
t/SOAP/WSDL/11_helloworld.NET.t ....................... ok
t/SOAP/WSDL/12_binding.t .............................. ok
t/SOAP/WSDL/Base.t .................................... ok
t/SOAP/WSDL/Client.t .................................. ok
t/SOAP/WSDL/Client/Base.t ............................. ok
t/SOAP/WSDL/Definitions.t ............................. ok
t/SOAP/WSDL/Deserializer/Hash.t ....................... ok
t/SOAP/WSDL/Deserializer/SOM.t ........................ ok
t/SOAP/WSDL/Deserializer/XSD.t ........................ ok
t/SOAP/WSDL/Expat/Base.t .............................. ok
t/SOAP/WSDL/Expat/MessageParser.t ..................... ok
file:///tmp/loop_over_bdir-5922-hD419b/SOAP-WSDL-v3.001-DKVL5Z/t/acceptance/wsdl/WSDLParser-imported.wsdl already imported; ignoring it.
t/SOAP/WSDL/Expat/WSDLParser.t ........................ ok
t/SOAP/WSDL/Factory/Deserializer.t .................... ok
t/SOAP/WSDL/Factory/Serializer.t ...................... ok
t/SOAP/WSDL/Factory/Transport.t ....................... ok
t/SOAP/WSDL/Generator/Template.t ...................... ok
t/SOAP/WSDL/Generator/Template/XSD/Import.t ........... ok
t/SOAP/WSDL/Generator/Template/XSD/Unqualified.t ...... ok
t/SOAP/WSDL/Generator/Visitor.t ....................... ok
t/SOAP/WSDL/Generator/Visitor/Typemap.t ............... ok
t/SOAP/WSDL/Generator/XSD.t ........................... ok
t/SOAP/WSDL/Generator/XSD_custom_resolver.t ........... ok
t/SOAP/WSDL/Generator/XSD_dot_names.t ................. ok
t/SOAP/WSDL/Generator/XSD_nested_complextype.t ........ ok
t/SOAP/WSDL/Generator/XSD_unsupported.t ............... ok
t/SOAP/WSDL/Part.t .................................... ok
t/SOAP/WSDL/PortType.t ................................ ok
t/SOAP/WSDL/Serializer/XSD.t .......................... ok
Use of uninitialized value in hash element at /home/sand/src/perl/repoperls/installed-perls/perl/v5.12.5/9980/lib/site_perl/5.12.5/Class/Std/Fast.pm line 159.
Use of uninitialized value in hash element at /home/sand/src/perl/repoperls/installed-perls/perl/v5.12.5/9980/lib/site_perl/5.12.5/Class/Std/Fast.pm line 159.
Use of uninitialized value in hash element at /home/sand/src/perl/repoperls/installed-perls/perl/v5.12.5/9980/lib/site_perl/5.12.5/Class/Std/Fast.pm line 159.
Use of uninitialized value in hash element at /home/sand/src/perl/repoperls/installed-perls/perl/v5.12.5/9980/lib/site_perl/5.12.5/Class/Std/Fast.pm line 159.
Use of uninitialized value in hash element at /home/sand/src/perl/repoperls/installed-perls/perl/v5.12.5/9980/lib/site_perl/5.12.5/Class/Std/Fast.pm line 159.
t/SOAP/WSDL/Server.t .................................. ok
t/SOAP/WSDL/Server/CGI.t .............................. ok
t/SOAP/WSDL/Server/Mod_Perl2.t ........................ ok
HTTP/1.0 500 Internal Server Error
Content-Type: text/xml; charset="utf-8"
<?xml version="1.0" ?><SOAP-ENV:Envelope xmlns:SOAP-ENV="http://schemas.xmlsoap.org/soap/envelope/" xmlns:xsi="http://www.w3.org/2001/XMLSchema-instance" ><SOAP-ENV:Body><Fault xmlns="http://schemas.xmlsoap.org/soap/envelope/"><faultcode>SOAP-ENV:Server</faultcode><faultstring>Error deserializing message: 
no element found at line 1, column 0, byte -1 at /tmp/loop_over_bdir-5922-hD419b/SOAP-WSDL-v3.001-DKVL5Z/blib/lib/SOAP/WSDL/Expat/Base.pm line 79.
 at line 1 at /tmp/loop_over_bdir-5922-hD419b/SOAP-WSDL-v3.001-DKVL5Z/blib/lib/SOAP/WSDL/Expat/Base.pm line 82.
. 
Message was: 
</faultstring><faultactor>urn:localhost</faultactor></Fault></SOAP-ENV:Body></SOAP-ENV:Envelope>

t/SOAP/WSDL/Server/Simple.t ........................... ok
t/SOAP/WSDL/Transport/01_Test.t ....................... ok
t/SOAP/WSDL/Transport/HTTP.t .......................... ok
t/SOAP/WSDL/Typelib/Fault11.t ......................... ok
t/SOAP/WSDL/Types.t ................................... ok
t/SOAP/WSDL/XSD/Attribute.t ........................... ok
t/SOAP/WSDL/XSD/AttributeGroup.t ...................... ok
t/SOAP/WSDL/XSD/Builtin.t ............................. ok
t/SOAP/WSDL/XSD/ComplexType.t ......................... ok
t/SOAP/WSDL/XSD/Element.t ............................. ok
t/SOAP/WSDL/XSD/Enumeration.t ......................... ok
t/SOAP/WSDL/XSD/Schema.t .............................. ok
t/SOAP/WSDL/XSD/SimpleType.t .......................... ok
t/SOAP/WSDL/XSD/Typelib/Attribute.t ................... ok
t/SOAP/WSDL/XSD/Typelib/Builtin/anySimpleType.t ....... ok
t/SOAP/WSDL/XSD/Typelib/Builtin/anyType.t ............. ok
t/SOAP/WSDL/XSD/Typelib/Builtin/anyURI.t .............. ok
t/SOAP/WSDL/XSD/Typelib/Builtin/base64Binary.t ........ ok
t/SOAP/WSDL/XSD/Typelib/Builtin/boolean.t ............. ok
t/SOAP/WSDL/XSD/Typelib/Builtin/byte.t ................ ok
t/SOAP/WSDL/XSD/Typelib/Builtin/date.t ................ ok
t/SOAP/WSDL/XSD/Typelib/Builtin/dateTime.t ............ ok
t/SOAP/WSDL/XSD/Typelib/Builtin/decimal.t ............. ok
t/SOAP/WSDL/XSD/Typelib/Builtin/double.t .............. ok
t/SOAP/WSDL/XSD/Typelib/Builtin/duration.t ............ ok
t/SOAP/WSDL/XSD/Typelib/Builtin/ENTITY.t .............. ok
t/SOAP/WSDL/XSD/Typelib/Builtin/float.t ............... ok
t/SOAP/WSDL/XSD/Typelib/Builtin/gDay.t ................ ok
t/SOAP/WSDL/XSD/Typelib/Builtin/gMonth.t .............. ok
t/SOAP/WSDL/XSD/Typelib/Builtin/gMonthDay.t ........... ok
t/SOAP/WSDL/XSD/Typelib/Builtin/gYear.t ............... ok
t/SOAP/WSDL/XSD/Typelib/Builtin/gYearMonth.t .......... ok
t/SOAP/WSDL/XSD/Typelib/Builtin/hexBinary.t ........... ok
t/SOAP/WSDL/XSD/Typelib/Builtin/ID.t .................. ok
t/SOAP/WSDL/XSD/Typelib/Builtin/IDREF.t ............... ok
t/SOAP/WSDL/XSD/Typelib/Builtin/IDREFS.t .............. ok
t/SOAP/WSDL/XSD/Typelib/Builtin/int.t ................. ok
t/SOAP/WSDL/XSD/Typelib/Builtin/integer.t ............. ok
t/SOAP/WSDL/XSD/Typelib/Builtin/language.t ............ ok
t/SOAP/WSDL/XSD/Typelib/Builtin/list.t ................ ok
t/SOAP/WSDL/XSD/Typelib/Builtin/long.t ................ ok
t/SOAP/WSDL/XSD/Typelib/Builtin/Name.t ................ ok
t/SOAP/WSDL/XSD/Typelib/Builtin/NCName.t .............. ok
t/SOAP/WSDL/XSD/Typelib/Builtin/negativeInteger.t ..... ok
t/SOAP/WSDL/XSD/Typelib/Builtin/NMTOKEN.t ............. ok
t/SOAP/WSDL/XSD/Typelib/Builtin/NMTOKENS.t ............ ok
t/SOAP/WSDL/XSD/Typelib/Builtin/nonNegativeInteger.t .. ok
t/SOAP/WSDL/XSD/Typelib/Builtin/nonPositiveInteger.t .. ok
t/SOAP/WSDL/XSD/Typelib/Builtin/normalizedString.t .... ok
t/SOAP/WSDL/XSD/Typelib/Builtin/NOTATION.t ............ ok
t/SOAP/WSDL/XSD/Typelib/Builtin/positiveInteger.t ..... ok
t/SOAP/WSDL/XSD/Typelib/Builtin/QName.t ............... ok
t/SOAP/WSDL/XSD/Typelib/Builtin/short.t ............... ok
t/SOAP/WSDL/XSD/Typelib/Builtin/string.t .............. ok
t/SOAP/WSDL/XSD/Typelib/Builtin/time.t ................ ok
t/SOAP/WSDL/XSD/Typelib/Builtin/token.t ............... ok
t/SOAP/WSDL/XSD/Typelib/Builtin/unsignedByte.t ........ ok
t/SOAP/WSDL/XSD/Typelib/Builtin/unsignedInt.t ......... ok
t/SOAP/WSDL/XSD/Typelib/Builtin/unsignedLong.t ........ ok
t/SOAP/WSDL/XSD/Typelib/Builtin/unsignedShort.t ....... ok
t/SOAP/WSDL/XSD/Typelib/ComplexType.t ................. ok
t/SOAP/WSDL/XSD/Typelib/Element.t ..................... ok
All tests successful.
Files=124, Tests=1241, 27 wallclock secs ( 0.40 usr  0.10 sys + 19.64 cusr  1.43 csys = 21.57 CPU)
Result: PASS

------------------------------
PREREQUISITES
------------------------------

Prerequisite modules loaded:

requires:

    Module              Need     Have    
    ------------------- -------- --------
    Class::Std::Fast    0.000005 0.0.8   
    Cwd                 0        3.47    
    Data::Dumper        0        2.151   
    Date::Format        0        2.24    
    Date::Parse         0        2.30    
    File::Basename      0        2.78    
    File::Path          0        2.08_01 
    File::Spec          0        3.47    
    Getopt::Long        0        2.42    
    List::Util          0        1.39_004
    LWP::UserAgent      0        6.06    
    Module::Build       0        0.4208  
    perl                5.008    5.012005
    Storable            0        2.22    
    Template            2.18     2.25    
    Term::ReadKey       0        2.32    
    Test::More          0        1.001003
    URI                 0        1.64    
    XML::Parser::Expat  0        2.41    

build_requires:

    Module              Need     Have    
    ------------------- -------- --------
    ExtUtils::MakeMaker 0        6.99_09 

configure_requires:

    Module              Need     Have    
    ------------------- -------- --------
    ExtUtils::MakeMaker 0        6.99_09 


------------------------------
ENVIRONMENT AND OTHER CONTEXT
------------------------------

Environment variables:

    AUTOMATED_TESTING = 1
    LANG = en_US.UTF-8
    LANGUAGE = en_US:en
    PATH = /usr/lib/ccache:/home/sand/bin:/usr/local/bin:/usr/bin:/bin:/usr/games:/usr/local/perl/bin:/usr/X11/bin:/sbin:/usr/sbin
    PERL5LIB = 
    PERL5OPT = 
    PERL5_CPANPLUS_IS_RUNNING = 5925
    PERL5_CPAN_IS_RUNNING = 5925
    PERL_MM_USE_DEFAULT = 1
    SHELL = /usr/bin/zsh
    TERM = screen

Perl special variables (and OS-specific diagnostics, for MSWin32):

    $^X = /home/sand/src/perl/repoperls/installed-perls/perl/v5.12.5/9980/bin/perl
    $UID/$EUID = 1005 / 1005
    $GID = 1005 1005
    $EGID = 1005 1005

Perl module toolchain versions installed:

    Module              Have    
    ------------------- --------
    CPAN                2.05    
    CPAN::Meta          2.142060
    Cwd                 3.47    
    ExtUtils::CBuilder  0.280217
    ExtUtils::Command   1.16    
    ExtUtils::Install   1.55    
    ExtUtils::MakeMaker 6.99_09 
    ExtUtils::Manifest  1.65    
    ExtUtils::ParseXS   3.24    
    File::Spec          3.47    
    JSON                2.90    
    JSON::PP            2.27203 
    Module::Build       0.4208  
    Module::Signature   0.73    
    Parse::CPAN::Meta   1.4414  
    Test::Harness       3.33    
    Test::More          1.001003
    YAML                1.10    
    YAML::Syck          1.27    
    version             0.9909  


--

Summary of my perl5 (revision 5 version 12 subversion 5) configuration:
  Commit id: 9a9cbd715960a905dcbc9166349a73a64a007e4e
  Platform:
    osname=linux, osvers=3.14-2-amd64, archname=x86_64-linux-thread-multi
    uname='linux k83 3.14-2-amd64 #1 smp debian 3.14.15-2 (2014-08-09) x86_64 gnulinux '
    config_args='-Dprefix=/home/sand/src/perl/repoperls/installed-perls/perl/v5.12.5/9980 -Dmyhostname=k83 -Dinstallusrbinperl=n -Uversiononly -Dusedevel -des -Ui_db -Duseithreads -Uuselongdouble -DDEBUGGING=-g'
    hint=recommended, useposix=true, d_sigaction=define
    useithreads=define, usemultiplicity=define
    useperlio=define, d_sfio=undef, uselargefiles=define, usesocks=undef
    use64bitint=define, use64bitall=define, uselongdouble=undef
    usemymalloc=n, bincompat5005=undef
  Compiler:
    cc='cc', ccflags ='-D_REENTRANT -D_GNU_SOURCE -fno-strict-aliasing -pipe -fstack-protector -I/usr/local/include -D_LARGEFILE_SOURCE -D_FILE_OFFSET_BITS=64',
    optimize='-O2 -g',
    cppflags='-D_REENTRANT -D_GNU_SOURCE -fno-strict-aliasing -pipe -fstack-protector -I/usr/local/include'
    ccversion='', gccversion='4.9.1', gccosandvers=''
    intsize=4, longsize=8, ptrsize=8, doublesize=8, byteorder=12345678
    d_longlong=define, longlongsize=8, d_longdbl=define, longdblsize=16
    ivtype='long', ivsize=8, nvtype='double', nvsize=8, Off_t='off_t', lseeksize=8
    alignbytes=8, prototype=define
  Linker and Libraries:
    ld='cc', ldflags =' -fstack-protector -L/usr/local/lib'
    libpth=/usr/local/lib /lib/x86_64-linux-gnu /lib/../lib /usr/lib/x86_64-linux-gnu /usr/lib/../lib /lib /usr/lib
    libs=-lnsl -lgdbm -ldb -ldl -lm -lcrypt -lutil -lpthread -lc -lgdbm_compat
    perllibs=-lnsl -ldl -lm -lcrypt -lutil -lpthread -lc
    libc=, so=so, useshrplib=false, libperl=libperl.a
    gnulibc_version='2.19'
  Dynamic Linking:
    dlsrc=dl_dlopen.xs, dlext=so, d_dlsymun=undef, ccdlflags='-Wl,-E'
    cccdlflags='-fPIC', lddlflags='-shared -O2 -g -L/usr/local/lib -fstack-protector'


Characteristics of this binary (from libperl): 
  Compile-time options: MULTIPLICITY PERL_DONT_CREATE_GVSV
                        PERL_IMPLICIT_CONTEXT PERL_MALLOC_WRAP PERL_USE_DEVEL
                        USE_64_BIT_ALL USE_64_BIT_INT USE_ITHREADS
                        USE_LARGE_FILES USE_PERLIO USE_PERL_ATOF
                        USE_REENTRANT_API
  Built under linux
  Compiled at Aug 21 2014 14:50:19
  %ENV:
    PERL5LIB=""
    PERL5OPT=""
    PERL5_CPANPLUS_IS_RUNNING="5925"
    PERL5_CPAN_IS_RUNNING="5925"
    PERL_MM_USE_DEFAULT="1"
  @INC:
    /home/sand/src/perl/repoperls/installed-perls/perl/v5.12.5/9980/lib/site_perl/5.12.5/x86_64-linux-thread-multi
    /home/sand/src/perl/repoperls/installed-perls/perl/v5.12.5/9980/lib/site_perl/5.12.5
    /home/sand/src/perl/repoperls/installed-perls/perl/v5.12.5/9980/lib/5.12.5/x86_64-linux-thread-multi
    /home/sand/src/perl/repoperls/installed-perls/perl/v5.12.5/9980/lib/5.12.5
    .