HTTP-Request-Generator v0.05 Perl 5 v5.20.1 darwin-thread-multi-2level

Status
Pass
From
Nigel Horne
Dist
HTTP-Request-Generator v0.05
Platform
Perl 5 v5.20.1 darwin-thread-multi-2level
Date
2018-12-20 01:11:44
ID
370e7e7c-03f4-11e9-9fdb-58f1fe059962
This distribution has been tested as part of the CPAN Testers
project, supporting the Perl programming language.  See
http://wiki.cpantesters.org/ for more information or email
questions to cpan-testers-discuss@perl.org


--
Dear Max Maischein,

This is a computer-generated report for HTTP-Request-Generator-0.05
on perl 5.20.1, created by CPAN-Reporter-1.2018.

Thank you for uploading your work to CPAN.  Congratulations!
All tests were successful.

Sections of this report:

    * Tester comments
    * Program output
    * Prerequisites
    * Environment and other context

------------------------------
TESTER COMMENTS
------------------------------

Additional comments from tester:

this report is from an automated smoke testing program
and was not reviewed by a human for accuracy

------------------------------
PROGRAM OUTPUT
------------------------------

Output from '/sw/bin/make test':

PERL_DL_NONLAZY=1 "/Users/hornenj/perl5/perlbrew/perls/perl-5.20.1/bin/perl" "-MExtUtils::Command::MM" "-MTest::Harness" "-e" "undef *Test::Harness::Switches; test_harness(0, 'blib/lib', 'blib/arch')" t/00-load.t t/02-http-generator.t t/03-wrap-http-request.t t/03-wrap-plack.t t/03-wrap.t t/04-url-expansion.t
t/02-http-generator.t ..... ok
t/03-wrap-http-request.t .. ok
# Testing HTTP::Request::Generator 0.05, Perl 5.020001
# Algorithm::Loops 1.032
# Carp 1.36
# Config 5.020001
# Cwd 3.75
# DynaLoader 1.25
# Encode 2.86
# Encode::Alias 2.20
# Encode::Config 2.05
# Encode::Encoding 2.07
# Exporter 5.72
# Exporter::Heavy 5.72
# Exporter::Tiny 0.042
# ExtUtils::Liblist 7.34
# ExtUtils::Liblist::Kid 7.34
# ExtUtils::MM 7.34
# ExtUtils::MM_Any 7.34
# ExtUtils::MM_Darwin 7.34
# ExtUtils::MM_Unix 7.34
# ExtUtils::MY 7.34
# ExtUtils::MakeMaker 7.34
# ExtUtils::MakeMaker::Config 7.34
# ExtUtils::MakeMaker::Locale 7.34
# ExtUtils::MakeMaker::version 7.34
# Fcntl 1.11
# File::Basename 2.85
# File::Glob 1.23
# File::Path 2.11
# File::Spec 3.75
# File::Spec::Unix 3.75
# Filter::Simple 0.91
# Filter::Util::Call 1.55
# Filter::signatures 0.15
# HTTP::Request::Generator 0.05
# I18N::Langinfo 0.11
# IO 1.31
# IO::Handle 1.35
# List::MoreUtils 0.413
# List::MoreUtils::PP 0.413
# List::MoreUtils::XS 0.413
# List::Util 1.47
# POSIX 1.38_03
# PerlIO 1.09
# Scalar::Util 1.47
# SelectSaver 1.02
# SelfLoader 1.21
# Symbol 1.07
# Test::Builder 1.302106
# Test::Builder::Formatter 1.302106
# Test::Builder::Module 1.302106
# Test::Builder::TodoDiag 1.302106
# Test::More 1.302106
# Test2::API 1.302106
# Test2::API::Context 1.302106
# Test2::API::Instance 1.302106
# Test2::API::Stack 1.302106
# Test2::Event 1.302106
# Test2::Event::Bail 1.302106
# Test2::Event::Diag 1.302106
# Test2::Event::Exception 1.302106
# Test2::Event::Fail 1.302106
# Test2::Event::Note 1.302106
# Test2::Event::Ok 1.302106
# Test2::Event::Pass 1.302106
# Test2::Event::Plan 1.302106
# Test2::Event::Skip 1.302106
# Test2::Event::Subtest 1.302106
# Test2::Event::Waiting 1.302106
# Test2::EventFacet 1.302106
# Test2::EventFacet::About 1.302106
# Test2::EventFacet::Amnesty 1.302106
# Test2::EventFacet::Assert 1.302106
# Test2::EventFacet::Control 1.302106
# Test2::EventFacet::Error 1.302106
# Test2::EventFacet::Info 1.302106
# Test2::EventFacet::Meta 1.302106
# Test2::EventFacet::Parent 1.302106
# Test2::EventFacet::Plan 1.302106
# Test2::EventFacet::Trace 1.302106
# Test2::Formatter 1.302106
# Test2::Formatter::TAP 1.302106
# Test2::Hub 1.302106
# Test2::Hub::Interceptor 1.302106
# Test2::Hub::Interceptor::Terminator 1.302106
# Test2::Hub::Subtest 1.302106
# Test2::Util 1.302106
# Test2::Util::ExternalMeta 1.302106
# Test2::Util::HashBase 1.302106
# Test2::Util::Trace 1.302106
# Text::Balanced 2.03
# Tie::Hash 1.05
# URI 1.69
# URI::Escape 3.31
# XSLoader 0.22
# base 2.22
# bytes 1.04
# constant 1.33
# feature 1.36
# mro 1.16
# overload 1.22
# overloading 0.02
# re 0.26
# strict 1.08
# vars 1.03
# version 0.9912
# version::regex 0.9912
# version::vxs 0.9912
# warnings 1.23
# warnings::register 1.03
t/00-load.t ............... ok
t/03-wrap-plack.t ......... skipped: Couldn't load test prerequiste modules: Plack::Request version 1.0047 required--this is only version 1.0037 at t/03-wrap-plack.t line 10.
t/03-wrap.t ............... skipped: Couldn't load test prerequiste modules: Can't locate Dancer/Request.pm in @INC (you may need to install the Dancer::Request module) (@INC contains: /Users/hornenj/.cpan/build/HTTP-Request-Generator-0.05-10/blib/lib /Users/hornenj/.cpan/build/HTTP-Request-Generator-0.05-10/blib/arch /Users/hornenj/.cpan/build/Filter-signatures-0.15-10/blib/arch /Users/hornenj/.cpan/build/Filter-signatures-0.15-10/blib/lib /Users/hornenj/.cpan/build/Algorithm-Loops-1.032-10/blib/arch /Users/hornenj/.cpan/build/Algorithm-Loops-1.032-10/blib/lib /Users/hornenj/.cpan/build/Statistics-Running-Tiny-0.02-10/blib/arch /Users/hornenj/.cpan/build/Statistics-Running-Tiny-0.02-10/blib/lib /Users/hornenj/.cpan/build/Statistics-Running-0.02-10/blib/arch /Users/hornenj/.cpan/build/Statistics-Running-0.02-10/blib/lib /Users/hornenj/.cpan/build/Statistics-Histogram-0.2-10/blib/arch /Users/hornenj/.cpan/build/Statistics-Histogram-0.2-10/blib/lib /Users/hornenj/.cpan/build/Statistics-Descriptive-3.0702-10/blib/arch /Users/hornenj/.cpan/build/Statistics-Descriptive-3.0702-10/blib/lib /Users/hornenj/.cpan/build/Filter-signatures-0.15-10/blib/arch /Users/hornenj/.cpan/build/Filter-signatures-0.15-10/blib/lib /Users/hornenj/.cpan/build/Algorithm-Loops-1.032-10/blib/arch /Users/hornenj/.cpan/build/Algorithm-Loops-1.032-10/blib/lib /Users/hornenj/.cpan/build/Statistics-Running-Tiny-0.02-10/blib/arch /Users/hornenj/.cpan/build/Statistics-Running-Tiny-0.02-10/blib/lib /Users/hornenj/.cpan/build/Statistics-Running-0.02-10/blib/arch /Users/hornenj/.cpan/build/Statistics-Running-0.02-10/blib/lib /Users/hornenj/.cpan/build/Statistics-Histogram-0.2-10/blib/arch /Users/hornenj/.cpan/build/Statistics-Histogram-0.2-10/blib/lib /Users/hornenj/.cpan/build/Statistics-Descriptive-3.0702-10/blib/arch /Users/hornenj/.cpan/build/Statistics-Descriptive-3.0702-10/blib/lib /Users/hornenj/perl5/perlbrew/perls/perl-5.20.1/lib/site_perl/5.20.1/darwin-thread-multi-2level /Users/hornenj/perl5/perlbrew/perls/perl-5.20.1/lib/site_perl/5.20.1 /Users/hornenj/perl5/perlbrew/perls/perl-5.20.1/lib/5.20.1/darwin-thread-multi-2level /Users/hornenj/perl5/perlbrew/perls/perl-5.20.1/lib/5.20.1 .) at t/03-wrap.t line 11.
t/04-url-expansion.t ...... ok
All tests successful.
Files=6, Tests=45,  0 wallclock secs ( 0.03 usr  0.03 sys +  0.52 cusr  0.41 csys =  0.99 CPU)
Result: PASS

------------------------------
PREREQUISITES
------------------------------

Prerequisite modules loaded:

requires:

    Module              Need  Have    
    ------------------- ----- --------
    Algorithm::Loops    0     1.032   
    Carp                0     1.36    
    Exporter            5     5.72    
    Filter::signatures  0     0.15    
    List::MoreUtils     0     0.413   
    perl                5.006 5.020001
    URI                 0     1.69    
    URI::Escape         0     3.31    

build_requires:

    Module              Need  Have    
    ------------------- ----- --------
    Data::Dumper        0     2.154   
    ExtUtils::MakeMaker 0     7.34    
    Test::More          0     1.302106

configure_requires:

    Module              Need  Have    
    ------------------- ----- --------
    ExtUtils::MakeMaker 0     7.34    


------------------------------
ENVIRONMENT AND OTHER CONTEXT
------------------------------

Environment variables:

    AUTOMATED_TESTING = 1
    HARNESS_OPTIONS = j4
    LANG = en_US.UTF-8
    LC_ALL = POSIX
    NONINTERACTIVE_TESTING = 1
    PATH = /Users/hornenj/perl5/perlbrew/bin:/Users/hornenj/perl5/perlbrew/perls/perl-5.20.1/bin:src/njh/smoker/bin:/Users/hornenj/homebrew/bin:/Users/hornenj/bin:/usr/bin:/bin:/usr/X11R6/bin:/sw/bin
    PERL5LIB = /Users/hornenj/.cpan/build/Filter-signatures-0.15-10/blib/arch:/Users/hornenj/.cpan/build/Filter-signatures-0.15-10/blib/lib:/Users/hornenj/.cpan/build/Algorithm-Loops-1.032-10/blib/arch:/Users/hornenj/.cpan/build/Algorithm-Loops-1.032-10/blib/lib:/Users/hornenj/.cpan/build/Statistics-Running-Tiny-0.02-10/blib/arch:/Users/hornenj/.cpan/build/Statistics-Running-Tiny-0.02-10/blib/lib:/Users/hornenj/.cpan/build/Statistics-Running-0.02-10/blib/arch:/Users/hornenj/.cpan/build/Statistics-Running-0.02-10/blib/lib:/Users/hornenj/.cpan/build/Statistics-Histogram-0.2-10/blib/arch:/Users/hornenj/.cpan/build/Statistics-Histogram-0.2-10/blib/lib:/Users/hornenj/.cpan/build/Statistics-Descriptive-3.0702-10/blib/arch:/Users/hornenj/.cpan/build/Statistics-Descriptive-3.0702-10/blib/lib
    PERL5OPT = 
    PERL5_CPANPLUS_IS_RUNNING = 55937
    PERL5_CPAN_IS_RUNNING = 55937
    PERLBREW_HOME = /Users/hornenj/.perlbrew
    PERLBREW_MANPATH = /Users/hornenj/perl5/perlbrew/perls/perl-5.20.1/man
    PERLBREW_PATH = /Users/hornenj/perl5/perlbrew/bin:/Users/hornenj/perl5/perlbrew/perls/perl-5.20.1/bin
    PERLBREW_PERL = perl-5.20.1
    PERLBREW_ROOT = /Users/hornenj/perl5/perlbrew
    PERLBREW_SHELLRC_VERSION = 0.84
    PERLBREW_VERSION = 0.84
    PERL_MM_USE_DEFAULT = 1
    SHELL = /bin/bash
    TERM = xterm-256color
    TMPDIR = /var/folders/pz/pd7y1qjs6s3cbk170cw50fjc000c61/T//testwrapper.55923
    VERSIONER_PERL_PREFER_32_BIT = no
    VERSIONER_PERL_VERSION = 5.18

Perl special variables (and OS-specific diagnostics, for MSWin32):

    $^X = /Users/hornenj/perl5/perlbrew/perls/perl-5.20.1/bin/perl
    $UID/$EUID = 12481 / 12481
    $GID = 14 14 206 5344 37191 527 12 62 98 204 399 37223 241 223 100
    $EGID = 14 14 206 5344 37191 527 12 62 98 204 399 37223 241 223 100

Perl module toolchain versions installed:

    Module              Have    
    ------------------- --------
    CPAN                2.16    
    CPAN::Meta          2.150010
    Cwd                 3.75    
    ExtUtils::CBuilder  0.280223
    ExtUtils::Command   7.34    
    ExtUtils::Install   2.06    
    ExtUtils::MakeMaker 7.34    
    ExtUtils::Manifest  1.70    
    ExtUtils::ParseXS   3.30    
    File::Spec          3.75    
    JSON                4.00    
    JSON::PP            2.27400 
    Module::Build       0.4214  
    Module::Signature   n/a     
    Parse::CPAN::Meta   2.150010
    Test::Harness       3.36    
    Test::More          1.302106
    YAML                1.27    
    YAML::Syck          1.31    
    version             0.9912  


--

Summary of my perl5 (revision 5 version 20 subversion 1) configuration:
   
  Platform:
    osname=darwin, osvers=12.5.0, archname=darwin-thread-multi-2level
    uname='darwin ncbimac2008.ncbi.nlm.nih.gov 12.5.0 darwin kernel version 12.5.0: sun sep 29 13:33:47 pdt 2013; root:xnu-2050.48.12~1release_x86_64 x86_64 '
    config_args='-de -Dprefix=/Users/hornenj/perl5/perlbrew/perls/perl-5.20.1 -Duseithreads -Dusemultiplicity -Accflags=-O2 -W -Wformat=2 -Wswitch -Wshadow -Wwrite-strings -Wuninitialized -Wall -pipe -mtune=native -march=native -fomit-frame-pointer -msse2 -msse -mmmx -pedantic -D_FORTIFY_SOURCE=2 -Wpointer-arith -Wstrict-prototypes -fstack-protector -Wstack-protector -Wextra -Wbad-function-cast -Wcast-align -Wcast-qual -Wdisabled-optimization -Wendif-labels -Wfloat-equal -Wformat-nonliteral -Winline -Wmissing-declarations -Wmissing-prototypes -Wnested-externs -Wpointer-arith -Wundef -Wformat-security -fassociative-math -Acc=cc -Aeval:scriptdir=/Users/hornenj/perl5/perlbrew/perls/perl-5.20.1/bin'
    hint=recommended, useposix=true, d_sigaction=define
    useithreads=define, usemultiplicity=define
    use64bitint=define, use64bitall=define, uselongdouble=undef
    usemymalloc=n, bincompat5005=undef
  Compiler:
    cc=' cc', ccflags ='-fno-common -DPERL_DARWIN -O2 -W -Wformat=2 -Wswitch -Wshadow -Wwrite-strings -Wuninitialized -Wall -pipe -mtune=native -march=native -fomit-frame-pointer -msse2 -msse -mmmx -pedantic -D_FORTIFY_SOURCE=2 -Wpointer-arith -Wstrict-prototypes -fstack-protector -Wstack-protector -Wextra -Wbad-function-cast -Wcast-align -Wcast-qual -Wdisabled-optimization -Wendif-labels -Wfloat-equal -Wformat-nonliteral -Winline -Wmissing-declarations -Wmissing-prototypes -Wnested-externs -Wpointer-arith -Wundef -Wformat-security -fassociative-math -fno-strict-aliasing -I/usr/local/include',
    optimize='-O3',
    cppflags='-fno-common -DPERL_DARWIN -O2 -W -Wformat=2 -Wswitch -Wshadow -Wwrite-strings -Wuninitialized -Wall -pipe -mtune=native -march=native -fomit-frame-pointer -msse2 -msse -mmmx -pedantic -D_FORTIFY_SOURCE=2 -Wpointer-arith -Wstrict-prototypes -fstack-protector -Wstack-protector -Wextra -Wbad-function-cast -Wcast-align -Wcast-qual -Wdisabled-optimization -Wendif-labels -Wfloat-equal -Wformat-nonliteral -Winline -Wmissing-declarations -Wmissing-prototypes -Wnested-externs -Wpointer-arith -Wundef -Wformat-security -fassociative-math -fno-strict-aliasing -I/usr/local/include'
    ccversion='', gccversion='4.2.1 Compatible Apple LLVM 4.2 (clang-425.0.24)', gccosandvers=''
    intsize=4, longsize=8, ptrsize=8, doublesize=8, byteorder=12345678
    d_longlong=define, longlongsize=8, d_longdbl=define, longdblsize=16
    ivtype='long', ivsize=8, nvtype='double', nvsize=8, Off_t='off_t', lseeksize=8
    alignbytes=8, prototype=define
  Linker and Libraries:
    ld='env MACOSX_DEPLOYMENT_TARGET=10.3 cc', ldflags =' -fstack-protector -L/usr/local/lib'
    libpth=/usr/local/lib /usr/bin/../lib/clang/4.2/lib /usr/lib
    libs=-ldbm -ldl -lm -lutil -lc
    perllibs=-ldl -lm -lutil -lc
    libc=, so=dylib, useshrplib=false, libperl=libperl.a
    gnulibc_version=''
  Dynamic Linking:
    dlsrc=dl_dlopen.xs, dlext=bundle, d_dlsymun=undef, ccdlflags=' '
    cccdlflags=' ', lddlflags=' -bundle -undefined dynamic_lookup -L/usr/local/lib -fstack-protector'


Characteristics of this binary (from libperl): 
  Compile-time options: HAS_TIMES MULTIPLICITY PERLIO_LAYERS
                        PERL_DONT_CREATE_GVSV
                        PERL_HASH_FUNC_ONE_AT_A_TIME_HARD
                        PERL_IMPLICIT_CONTEXT PERL_MALLOC_WRAP
                        PERL_NEW_COPY_ON_WRITE PERL_PRESERVE_IVUV
                        USE_64_BIT_ALL USE_64_BIT_INT USE_ITHREADS
                        USE_LARGE_FILES USE_LOCALE USE_LOCALE_COLLATE
                        USE_LOCALE_CTYPE USE_LOCALE_NUMERIC USE_PERLIO
                        USE_PERL_ATOF USE_REENTRANT_API
  Built under darwin
  Compiled at Sep 15 2014 09:27:45
  %ENV:
    PERL5LIB="/Users/hornenj/.cpan/build/Filter-signatures-0.15-10/blib/arch:/Users/hornenj/.cpan/build/Filter-signatures-0.15-10/blib/lib:/Users/hornenj/.cpan/build/Algorithm-Loops-1.032-10/blib/arch:/Users/hornenj/.cpan/build/Algorithm-Loops-1.032-10/blib/lib:/Users/hornenj/.cpan/build/Statistics-Running-Tiny-0.02-10/blib/arch:/Users/hornenj/.cpan/build/Statistics-Running-Tiny-0.02-10/blib/lib:/Users/hornenj/.cpan/build/Statistics-Running-0.02-10/blib/arch:/Users/hornenj/.cpan/build/Statistics-Running-0.02-10/blib/lib:/Users/hornenj/.cpan/build/Statistics-Histogram-0.2-10/blib/arch:/Users/hornenj/.cpan/build/Statistics-Histogram-0.2-10/blib/lib:/Users/hornenj/.cpan/build/Statistics-Descriptive-3.0702-10/blib/arch:/Users/hornenj/.cpan/build/Statistics-Descriptive-3.0702-10/blib/lib"
    PERL5OPT=""
    PERL5_CPANPLUS_IS_RUNNING="55937"
    PERL5_CPAN_IS_RUNNING="55937"
    PERLBREW_HOME="/Users/hornenj/.perlbrew"
    PERLBREW_MANPATH="/Users/hornenj/perl5/perlbrew/perls/perl-5.20.1/man"
    PERLBREW_PATH="/Users/hornenj/perl5/perlbrew/bin:/Users/hornenj/perl5/perlbrew/perls/perl-5.20.1/bin"
    PERLBREW_PERL="perl-5.20.1"
    PERLBREW_ROOT="/Users/hornenj/perl5/perlbrew"
    PERLBREW_SHELLRC_VERSION="0.84"
    PERLBREW_VERSION="0.84"
    PERL_MM_USE_DEFAULT="1"
  @INC:
    /Users/hornenj/.cpan/build/Filter-signatures-0.15-10/blib/arch
    /Users/hornenj/.cpan/build/Filter-signatures-0.15-10/blib/lib
    /Users/hornenj/.cpan/build/Algorithm-Loops-1.032-10/blib/arch
    /Users/hornenj/.cpan/build/Algorithm-Loops-1.032-10/blib/lib
    /Users/hornenj/.cpan/build/Statistics-Running-Tiny-0.02-10/blib/arch
    /Users/hornenj/.cpan/build/Statistics-Running-Tiny-0.02-10/blib/lib
    /Users/hornenj/.cpan/build/Statistics-Running-0.02-10/blib/arch
    /Users/hornenj/.cpan/build/Statistics-Running-0.02-10/blib/lib
    /Users/hornenj/.cpan/build/Statistics-Histogram-0.2-10/blib/arch
    /Users/hornenj/.cpan/build/Statistics-Histogram-0.2-10/blib/lib
    /Users/hornenj/.cpan/build/Statistics-Descriptive-3.0702-10/blib/arch
    /Users/hornenj/.cpan/build/Statistics-Descriptive-3.0702-10/blib/lib
    /Users/hornenj/perl5/perlbrew/perls/perl-5.20.1/lib/site_perl/5.20.1/darwin-thread-multi-2level
    /Users/hornenj/perl5/perlbrew/perls/perl-5.20.1/lib/site_perl/5.20.1
    /Users/hornenj/perl5/perlbrew/perls/perl-5.20.1/lib/5.20.1/darwin-thread-multi-2level
    /Users/hornenj/perl5/perlbrew/perls/perl-5.20.1/lib/5.20.1
    .