Report for Test-MockDBI-0.70

Back
From: metabase:user:6afdd85a-1b0d-11e5-a970-51a37b051396
Subject: PASS Test-MockDBI-0.70 v5.23.1 GNU/Linux
Date: 2015-06-25T16:49:59Z

This distribution has been tested as part of the CPAN Testers
project, supporting the Perl programming language.  See
http://wiki.cpantesters.org/ for more information or email
questions to cpan-testers-discuss@perl.org


--
Dear Andreas Faafeng,

This is a computer-generated report for Test-MockDBI-0.70
on perl 5.23.1, created by CPAN-Reporter-1.2014.

Thank you for uploading your work to CPAN.  Congratulations!
All tests were successful.

Sections of this report:

    * Tester comments
    * Program output
    * Prerequisites
    * Environment and other context

------------------------------
TESTER COMMENTS
------------------------------

Additional comments from tester:

none provided

------------------------------
PROGRAM OUTPUT
------------------------------

Output from '/usr/bin/make test':

PERL_DL_NONLAZY=1 "/opt/perl511-O3-5.23.1/bin/perl" "-MExtUtils::Command::MM" "-MTest::Harness" "-e" "undef *Test::Harness::Switches; test_harness(0, 'blib/lib', 'blib/arch')" t/*.t
# Testing Test::MockDBI 0.70, Perl 5.023001, /opt/perl511-O3-5.23.1/bin/perl, archname=i686-linux-thread-multi-64int-ld, byteorder=12345678
t/00-env.t ........................... ok
t/000-use.t .......................... ok
t/001-connect.t ...................... ok
t/002-prepare.t ...................... ok
t/003-ping.t ......................... ok
t/004-execute.t ...................... ok
t/005-fetchrow_hashref.t ............. ok
t/006-bind_param.t ................... ok
t/007-bind_param_inout.t ............. ok
t/008-rows.t ......................... ok
t/009-auto_commit.t .................. ok
t/010-fetchrow_arrayref.t ............ ok
t/011-prepare_cached.t ............... ok
t/012-do.t ........................... ok
t/100-set-fake-retval.t .............. ok
t/101-set-fake-retval-coderef.t ...... ok
t/102-set-inout-value.t .............. ok
t/103-bad_method.t ................... ok
t/104-bad-params.t ................... ok
t/800-die-on-unsupported-method.t .... ok
t/bad_param-1.t ...................... ok
t/bad_param-2.t ...................... ok
t/bad_param-ok-2of3.t ................ ok
t/bad_param-ok-none.t ................ ok
t/coderef-array-1.t .................. ok
t/coderef-array-many.t ............... ok
t/coderef-scalar-0.t ................. ok
t/coderef-scalar-1.t ................. ok
t/coderef-scalar-many.t .............. ok
t/connect.t .......................... ok
t/fetch-0.t .......................... ok
t/fetch-empty.t ...................... ok
t/fetchall_arrayref-0.t .............. ok
t/fetchall_arrayref-1.t .............. ok
t/fetchall_arrayref-many.t ........... ok
t/fetchrow_array-0.t ................. ok
t/fetchrow_array-1.t ................. ok
t/fetchrow_array-different-sql.t ..... ok
t/fetchrow_array-many.t .............. ok
t/fetchrow_arrayref-0.t .............. ok
t/fetchrow_arrayref-1.t .............. ok
t/fetchrow_arrayref-different-sql.t .. ok
t/fetchrow_arrayref-many.t ........... ok
t/fetchrow_hashref-1.t ............... ok
t/fetchrow_hashref-2.t ............... ok
t/fetchrow_hashref-many.t ............ ok
t/set_rows-different-numeric.t ....... ok
t/set_rows-no-arg.t .................. ok
t/set_rows-numeric.t ................. ok
t/set_rows-undef.t ................... ok
All tests successful.
Files=50, Tests=431, 10 wallclock secs ( 0.43 usr  0.09 sys +  8.02 cusr  0.63 csys =  9.17 CPU)
Result: PASS

------------------------------
PREREQUISITES
------------------------------

Prerequisite modules loaded:

requires:

    Module                Need Have      
    --------------------- ---- ----------
    Carp                  0    1.36      
    Clone                 0    0.38      
    DBI                   0    1.633     
    File::Spec::Functions 0    3.56      
    Scalar::Util          0    1.42_01   
    Test::Differences     0    0.63      
    Test::MockObject      0.14 1.20150527
    Test::More            0    1.001014  
    Test::Warn            0    0.30      

build_requires:

    Module                Need Have      
    --------------------- ---- ----------
    CPAN::Meta            0    2.150005  

configure_requires:

    Module                Need Have      
    --------------------- ---- ----------
    ExtUtils::MakeMaker   0    7.04_01   


------------------------------
ENVIRONMENT AND OTHER CONTEXT
------------------------------

Environment variables:

    LANG = en_US.UTF-8
    LD_LIBRARY_PATH = /usr/lib/alliance/lib:/usr/lib/alliance/lib
    PATH = /usr/lib/qt-3.3/bin:/usr/lib/ccache:/usr/local/bin:/usr/local/sbin:/usr/bin:/usr/sbin:/bin:/sbin:/usr/lib/alliance/bin:/root/bin:/usr/lib/alliance/bin
    PERL5LIB = 
    PERL5OPT = 
    PERL5_CPANPLUS_IS_RUNNING = 24304
    PERL5_CPAN_IS_RUNNING = 24304
    SHELL = /bin/bash
    TERM = xterm-256color

Perl special variables (and OS-specific diagnostics, for MSWin32):

    $^X = /opt/perl511-O3-5.23.1/bin/perl
    $UID/$EUID = 0 / 0
    $GID = 0 0
    $EGID = 0 0

Perl module toolchain versions installed:

    Module              Have    
    ------------------- --------
    CPAN                2.11    
    CPAN::Meta          2.150005
    Cwd                 3.56    
    ExtUtils::CBuilder  0.280223
    ExtUtils::Command   1.20    
    ExtUtils::Install   2.04    
    ExtUtils::MakeMaker 7.04_01 
    ExtUtils::Manifest  1.70    
    ExtUtils::ParseXS   3.28    
    File::Spec          3.56    
    JSON                2.90    
    JSON::PP            2.27300 
    Module::Build       0.4214  
    Module::Signature   0.79    
    Parse::CPAN::Meta   1.4417  
    Test::Harness       3.35    
    Test::More          1.001014
    YAML                1.15    
    YAML::Syck          1.29    
    version             0.9912  


--

Summary of my perl5 (revision 5 version 23 subversion 1) configuration:
  Snapshot of: 3f9ec86148ce5619d909c108083f27a01c56adee
  Platform:
    osname=linux, osvers=4.1.0-rc8, archname=i686-linux-thread-multi-64int-ld
    uname='linux localhost.localdomain 4.1.0-rc8 #1 smp thu jun 18 09:13:42 pdt 2015 i686 i686 i386 gnulinux '
    config_args='-Dcc=gcc -Dprefix=/opt/perl511-O3-5.23.1 -DDEBUGGING'
    hint=recommended, useposix=true, d_sigaction=define
    useithreads=define, usemultiplicity=define
    use64bitint=define, use64bitall=undef, uselongdouble=define
    usemymalloc=y, bincompat5005=undef
  Compiler:
    cc='gcc', ccflags ='-D_REENTRANT -D_GNU_SOURCE -fwrapv -DDEBUGGING -fno-strict-aliasing -pipe -fstack-protector-strong -I/usr/local/include -D_LARGEFILE_SOURCE -D_FILE_OFFSET_BITS=64',
    optimize='-O3 -g',
    cppflags='-D_REENTRANT -D_GNU_SOURCE -fwrapv -DDEBUGGING -fno-strict-aliasing -pipe -fstack-protector-strong -I/usr/local/include'
    ccversion='', gccversion='5.1.1 20150422 (Red Hat 5.1.1-1)', gccosandvers=''
    intsize=4, longsize=4, ptrsize=4, doublesize=8, byteorder=12345678, doublekind=3
    d_longlong=define, longlongsize=8, d_longdbl=define, longdblsize=12, longdblkind=3
    ivtype='long long', ivsize=8, nvtype='long double', nvsize=12, Off_t='off_t', lseeksize=8
    alignbytes=4, prototype=define
  Linker and Libraries:
    ld='gcc', ldflags =' -fstack-protector-strong -L/usr/local/lib'
    libpth=/usr/local/lib /usr/lib /lib /usr/lib64
    libs=-lpthread -lnsl -lgdbm -ldb -ldl -lm -lcrypt -lutil -lc -lgdbm_compat
    perllibs=-lpthread -lnsl -ldl -lm -lcrypt -lutil -lc
    libc=libc-2.21.so, so=so, useshrplib=true, libperl=libperl.so
    gnulibc_version='2.21'
  Dynamic Linking:
    dlsrc=dl_dlopen.xs, dlext=so, d_dlsymun=undef, ccdlflags='-Wl,-E -Wl,-rpath,/opt/perl511-O3-5.23.1/lib/5.23.1/i686-linux-thread-multi-64int-ld/CORE'
    cccdlflags='-fPIC', lddlflags='-shared -O3 -g -L/usr/local/lib -fstack-protector-strong'


Characteristics of this binary (from libperl): 
  Compile-time options: DEBUGGING HAS_TIMES MULTIPLICITY MYMALLOC
                        PERLIO_LAYERS PERL_DONT_CREATE_GVSV
                        PERL_HASH_FUNC_ONE_AT_A_TIME_HARD
                        PERL_IMPLICIT_CONTEXT PERL_MALLOC_WRAP
                        PERL_NEW_COPY_ON_WRITE PERL_PRESERVE_IVUV
                        PERL_TRACK_MEMPOOL USE_64_BIT_INT USE_FAST_STDIO
                        USE_ITHREADS USE_LARGE_FILES USE_LOCALE
                        USE_LOCALE_COLLATE USE_LOCALE_CTYPE
                        USE_LOCALE_NUMERIC USE_LOCALE_TIME USE_LONG_DOUBLE
                        USE_PERLIO USE_PERL_ATOF USE_REENTRANT_API
  Built under linux
  Compiled at Jun 22 2015 09:42:19
  %ENV:
    PERL5LIB=""
    PERL5OPT=""
    PERL5_CPANPLUS_IS_RUNNING="24304"
    PERL5_CPAN_IS_RUNNING="24304"
  @INC:
    /opt/perl511-O3-5.23.1/lib/site_perl/5.23.1/i686-linux-thread-multi-64int-ld
    /opt/perl511-O3-5.23.1/lib/site_perl/5.23.1
    /opt/perl511-O3-5.23.1/lib/5.23.1/i686-linux-thread-multi-64int-ld
    /opt/perl511-O3-5.23.1/lib/5.23.1
    .